BEGIN:VCALENDAR
VERSION:2.0
PRODID:goabase.net iCalendar 2026
X-WR-CALNAME:goabase.net - parties and people 
X-WR-TIMEZONE;VALUE=TEXT:Europe/Berlin
CALSCALE:GREGORIAN
BEGIN:VTIMEZONE
TZID:Europe/Berlin
X-LIC-LOCATION:Europe/Berlin
BEGIN:DAYLIGHT
TZOFFSETFROM:+0100
TZOFFSETTO:+0200
TZNAME:CEST
DTSTART:19700329T020000
RRULE:FREQ=YEARLY;INTERVAL=1;BYDAY=-1SU;BYMONTH=3
END:DAYLIGHT
BEGIN:STANDARD
TZOFFSETFROM:+0200
TZOFFSETTO:+0100
TZNAME:CET
DTSTART:19701025T030000
RRULE:FREQ=YEARLY;INTERVAL=1;BYDAY=-1SU;BYMONTH=10
END:STANDARD
END:VTIMEZONE

BEGIN:VEVENT
UID:32bf00f43631483f190d66e54e705023
DTSTART:20261205T180000
DTEND:20261206T180000
LOCATION:Florianópolis [Brazil]
GEO:-27.600000000;-48.500000000
DTSTAMP:20261205T180000Z
SUMMARY:Forest Shankara #3 - Sacred Pulse
DESCRIPTION:Line Up: To Be Announced! Location: Alcateia Park Campeche, Rod.
  Aparício Ramos Cordeiro, 2719 - Morro do Peralta, Flori…, 88065-500
  Florianópolis
URL:https://www.goabase.net/party/forest-shankara-3-sacred-pulse/117468
CATEGORIES:Psytrance Event
CLASS:PUBLIC
END:VEVENT

BEGIN:VEVENT
UID:78c803c62df37dafe406fb333a09768c
DTSTART:20261211T210000
DTEND:20261212T120000
LOCATION:Kiel [Germany]
GEO:54.300000000;10.100000000
DTSTAMP:20261211T210000Z
SUMMARY:Neelix and Friends Showcase Kiel 11.12.26
DESCRIPTION:Line Up: Neelix and Friends Showcase Kiel Der ganz große Zirkus kommt
  wieder in die Stadt! Sei dabei, wenn NEELIX and Friends Kie… Location:
  TraumGmbH, Graßweg 19, 24113 Kiel
URL:https://www.goabase.net/party/neelix-and-friends-showcase-kiel-111226/117333
CATEGORIES:Psytrance Event
CLASS:PUBLIC
END:VEVENT

BEGIN:VEVENT
UID:88cd48e61852aae146070c374c8807a5
DTSTART:20261211T220000
DTEND:20261212T060000
LOCATION:Münster [Germany]
GEO:52.000000000;7.600000000
DTSTAMP:20261211T220000Z
SUMMARY:Bassmania XXL Dezember
DESCRIPTION:Line Up: TBA Location: Am Hawerkamp, Am Hawerkamp 31, 48155 Münster
URL:https://www.goabase.net/party/bassmania-xxl-dezember/116631
CATEGORIES:Psytrance Event
CLASS:PUBLIC
END:VEVENT

BEGIN:VEVENT
UID:06c732e570a83cac461fa8a8d3e93713
DTSTART:20261212T220000
DTEND:20261213T120000
LOCATION:Wien [Austria]
GEO:48.200000000;16.400000000
DTSTAMP:20261212T220000Z
SUMMARY:PSYTRANCE UNIVERSE
DESCRIPTION:
URL:https://www.goabase.net/party/psytrance-universe/116084
CATEGORIES:Psytrance Event
CLASS:PUBLIC
END:VEVENT

BEGIN:VEVENT
UID:fdb92478d57188e4c105163e0119b703
DTSTART:20261219T220000
DTEND:20261220T120000
LOCATION:Wien [Austria]
GEO:48.200000000;16.400000000
DTSTAMP:20261219T220000Z
SUMMARY:ASTRALUNIO - A Psytranceformation
DESCRIPTION:
URL:https://www.goabase.net/party/astralunio-a-psytranceformation/116559
CATEGORIES:Psytrance Event
CLASS:PUBLIC
END:VEVENT

BEGIN:VEVENT
UID:b8cd694cfd48806f51a7e8a33960308b
DTSTART:20261220T000000
DTEND:20261221T000000
LOCATION:Hannover [Germany]
GEO:52.400000000;9.700000000
DTSTAMP:20261220T000000Z
SUMMARY:shut up & dance 24 hrs wintersolstice
DESCRIPTION:Line Up: residents & more
URL:https://www.goabase.net/party/shut-up-dance-24-hrs-wintersolstice/116695
CATEGORIES:Psytrance Event
CLASS:PUBLIC
END:VEVENT

BEGIN:VEVENT
UID:7b98585b6d2d5209769e6282cc77735c
DTSTART:20261227T140000
DTEND:20270104T120000
LOCATION:Ituberá [Brazil]
GEO:-13.736630000;-39.151030000
DTSTAMP:20261227T140000Z
SUMMARY:Universo Paralello 2026 | Espaco Nativos Glamping
DESCRIPTION:Line Up: ESPAÇO NATIVOS: GLAMPING & READY-TO-CAMP ​Leave your gear
  behind – we provide everything for your stay. ​ ✨ Full Conveni…
  Location: Espaço Nativos, BA-250, KM - Pratigi - BA, Brazil, 45435000
  Ituberá
URL:https://www.goabase.net/festival/universo-paralello-2026-espaco-nativos-glamping/117411
CATEGORIES:Psytrance Event
CLASS:PUBLIC
END:VEVENT

BEGIN:VEVENT
UID:4d3b7deaac3e895d464faae611a39aaf
DTSTART:20261231T210000
DTEND:20270101T090000
LOCATION:Kloten [Switzerland]
GEO:47.500000000;8.600000000
DTSTAMP:20261231T210000Z
SUMMARY:GOAFAMILY  Place of Love **NYE SPECIAL**
DESCRIPTION:Line Up: . ✨ Psychedelic & Progressive Trance ✨ join us here for
  Infos, Pics & Videos: ✨ ✨ ☆ Decoration… Location: Club & Lounge Floor,
  Oberfeldstrasse 12a, 8302 Kloten
URL:https://www.goabase.net/party/goafamily-place-of-love-nye-special/117155
CATEGORIES:Psytrance Event
CLASS:PUBLIC
END:VEVENT

END:VCALENDAR