BEGIN:VCALENDAR
VERSION:2.0
PRODID:goabase.net iCalendar 2026
X-WR-CALNAME:goabase.net - parties and people 
X-WR-TIMEZONE;VALUE=TEXT:Europe/Berlin
CALSCALE:GREGORIAN
BEGIN:VTIMEZONE
TZID:Europe/Berlin
X-LIC-LOCATION:Europe/Berlin
BEGIN:DAYLIGHT
TZOFFSETFROM:+0100
TZOFFSETTO:+0200
TZNAME:CEST
DTSTART:19700329T020000
RRULE:FREQ=YEARLY;INTERVAL=1;BYDAY=-1SU;BYMONTH=3
END:DAYLIGHT
BEGIN:STANDARD
TZOFFSETFROM:+0200
TZOFFSETTO:+0100
TZNAME:CET
DTSTART:19701025T030000
RRULE:FREQ=YEARLY;INTERVAL=1;BYDAY=-1SU;BYMONTH=10
END:STANDARD
END:VTIMEZONE

BEGIN:VEVENT
UID:001c3e49c5e2180d56d7e9c5ebfb831a
DTSTART:20261107T220000
DTEND:20261108T060000
LOCATION:Buxtehude [Germany]
GEO:53.500000000;9.700000000
DTSTAMP:20261107T220000Z
SUMMARY:Question of Time (The Finest of Psy & Progressivetrance)
DESCRIPTION:Line Up: Question of Time (The Finest of Psy & Progressivetrance) Euch
  erwartet die Verrückteste Bunteste und Coolste Goa Party i… Location:
  Studio 21, Rudolf-Diesel-Straße 12, 21614 Buxtehude
URL:https://www.goabase.net/party/question-of-time-the-finest-of-psy-progressivetrance/116974
CATEGORIES:Psytrance Event
CLASS:PUBLIC
END:VEVENT

BEGIN:VEVENT
UID:b64bf9a4999e4287756f750ec28ff2e0
DTSTART:20261114T220000
DTEND:20261115T060000
LOCATION:Wien [Austria]
GEO:47.800000000;16.200000000
DTSTAMP:20261114T220000Z
SUMMARY:PSYTRANCE UNIVERSE
DESCRIPTION:
URL:https://www.goabase.net/party/psytrance-universe/117163
CATEGORIES:Psytrance Event
CLASS:PUBLIC
END:VEVENT

BEGIN:VEVENT
UID:3336638671f875e81b950222c12c9b92
DTSTART:20261121T230000
DTEND:20261122T060000
LOCATION:Aarau [Switzerland]
GEO:47.400000000;8.000000000
DTSTAMP:20261121T230000Z
SUMMARY:SURROUND SOUND EXPERIENCE – WAIO KEHRT ZURÜCK!
DESCRIPTION:Line Up: 🎶 Lineup 🎶 #progressivepsytrance #psytrance ► WAIO 🇧🇷 ► Mad
  Fusion 🇨🇭 (New Mind Booking) ► Magenta 🇨🇭 (Schlaflos / Mon… Location:
  Schlaflos, Tellistrasse 118, 5000 Aarau
URL:https://www.goabase.net/party/surround-sound-experience-waio-kehrt-zurueck/117420
CATEGORIES:Psytrance Event
CLASS:PUBLIC
END:VEVENT

BEGIN:VEVENT
UID:35580660407f8fd70129e680d1314a5d
DTSTART:20261124T123000
DTEND:20261126T140000
LOCATION:Pokkara [Nepal]
GEO:0.000000000;0.000000000
DTSTAMP:20261124T123000Z
SUMMARY:Green Gathering–XIV 14th Edition – Gathering of Tribes
DESCRIPTION:Line Up: More details, Lineup, Volunteer information, and program
  schedules will be announced soon. Location: Unity Eco-village
  Chapakot-23 Pokhara metropolitan City Nepa…, Chapakot-23 Pokhara
  metropolitan City Nepal, 33700 Pokkara
URL:https://www.goabase.net/festival/green-gatheringxiv-14th-edition-gathering-of-tribes/116460
CATEGORIES:Psytrance Event
CLASS:PUBLIC
END:VEVENT

BEGIN:VEVENT
UID:dfb12c5c9aa37462d666fe481e2e2d45
DTSTART:20261128T210000
DTEND:20261129T050000
LOCATION:Manchester [United Kingdom]
GEO:53.500000000;-2.200000000
DTSTAMP:20261128T210000Z
SUMMARY:25 Years Dacru Records • Manchester
DESCRIPTION:Line Up: Line up coming soon... Location: Rebellion Club, 2B Whitworth
  St W, Manchester, M1 5WZ Manchester
URL:https://www.goabase.net/party/25-years-dacru-records-manchester/116937
CATEGORIES:Psytrance Event
CLASS:PUBLIC
END:VEVENT

BEGIN:VEVENT
UID:5aa82f56e3aa7375244624577bdbdc74
DTSTART:20261128T210000
DTEND:20261129T090000
LOCATION:Kloten [Switzerland]
GEO:47.500000000;8.600000000
DTSTAMP:20261128T210000Z
SUMMARY:SONIC RITUAL: HYPNOTIC
DESCRIPTION:Line Up: 🜂 Artists 🜂 MAIN FLOOR ✦ RINKADINK (Future Music) ZA/JP ✦
  AIRI (Zenon Records) JP ✦ EINSIEDLER (Public Amnesia) CH ✦ PAR…
  Location: Floor Club, Oberfeldstrasse 12a, 8302 Kloten
URL:https://www.goabase.net/party/sonic-ritual-hypnotic/117296
CATEGORIES:Psytrance Event
CLASS:PUBLIC
END:VEVENT

END:VCALENDAR