BEGIN:VCALENDAR
VERSION:2.0
PRODID:goabase.net iCalendar 2026
X-WR-CALNAME:goabase.net - parties and people 
X-WR-TIMEZONE;VALUE=TEXT:Europe/Berlin
CALSCALE:GREGORIAN
BEGIN:VTIMEZONE
TZID:Europe/Berlin
X-LIC-LOCATION:Europe/Berlin
BEGIN:DAYLIGHT
TZOFFSETFROM:+0100
TZOFFSETTO:+0200
TZNAME:CEST
DTSTART:19700329T020000
RRULE:FREQ=YEARLY;INTERVAL=1;BYDAY=-1SU;BYMONTH=3
END:DAYLIGHT
BEGIN:STANDARD
TZOFFSETFROM:+0200
TZOFFSETTO:+0100
TZNAME:CET
DTSTART:19701025T030000
RRULE:FREQ=YEARLY;INTERVAL=1;BYDAY=-1SU;BYMONTH=10
END:STANDARD
END:VTIMEZONE

BEGIN:VEVENT
UID:96128c96aa0bbfbbe9a2ee7d299ae90c
DTSTART:20260922T220000
DTEND:20260928T230000
LOCATION:Almonte [Spain]
GEO:37.300000000;-6.500000000
DTSTAMP:20260922T220000Z
SUMMARY:Transition Experience 2026 - OA Psytrance Festival
DESCRIPTION:Line Up: ACT ONE (Bom Shanka Music) DJ LUCAS (Tip Records) EGONS
  EMBRACE (Sangoma Records) ETNICA - MAURIZZIO BEGOTTI DJ Set (Etn…
  Location: Pinar Jurado, , 21730 Almonte
URL:https://www.goabase.net/party/transition-experience-2026-oa-psytrance-festival/115531
CATEGORIES:Psytrance Event
CLASS:PUBLIC
END:VEVENT

END:VCALENDAR