BEGIN:VCALENDAR
VERSION:2.0
PRODID:goabase.net iCalendar 2026
X-WR-CALNAME:goabase.net - parties and people 
X-WR-TIMEZONE;VALUE=TEXT:Europe/Berlin
CALSCALE:GREGORIAN
BEGIN:VTIMEZONE
TZID:Europe/Berlin
X-LIC-LOCATION:Europe/Berlin
BEGIN:DAYLIGHT
TZOFFSETFROM:+0100
TZOFFSETTO:+0200
TZNAME:CEST
DTSTART:19700329T020000
RRULE:FREQ=YEARLY;INTERVAL=1;BYDAY=-1SU;BYMONTH=3
END:DAYLIGHT
BEGIN:STANDARD
TZOFFSETFROM:+0200
TZOFFSETTO:+0100
TZNAME:CET
DTSTART:19701025T030000
RRULE:FREQ=YEARLY;INTERVAL=1;BYDAY=-1SU;BYMONTH=10
END:STANDARD
END:VTIMEZONE

BEGIN:VEVENT
UID:08676ca4503b8d595de3506a7502a5db
DTSTART:20260824T120000
DTEND:20260830T120000
LOCATION:Thessaloniki [Greece]
GEO:40.600000000;22.900000000
DTSTAMP:20260824T120000Z
SUMMARY:Free Earth Festival
DESCRIPTION:Line Up: Enlightenment Stage opening: JUNO REACTOR (retro dj set) a/z
  1200 MICROGRAMS (by RIKTAM) / AJJA / AUM SHANTI BRAINCELL /… Location:
  Asprovalta Beach, , Thessaloniki
URL:https://www.goabase.net/festival/free-earth-festival/117260
CATEGORIES:Psytrance Event
CLASS:PUBLIC
END:VEVENT

BEGIN:VEVENT
UID:3c89f238248d51c743c9e6ab4950e62f
DTSTART:20260826T120000
DTEND:20260831T180000
LOCATION:Teuchern [Germany]
GEO:51.100000000;12.100000000
DTSTAMP:20260826T120000Z
SUMMARY:Kepotopival 2026
DESCRIPTION:Line Up: BIRKHAIN - TECHNO | HOUSE | TRANCE ALMOND • ANDI FEUERSTEIN •
  AYNA • BEARD • CAPTAIN KLABAUTER • CHANTI • CLE • DJ ULIA… Location:
  Kepotopia, Straße zur Voß, 43, 06682 Teuchern
URL:https://www.goabase.net/festival/kepotopival-2026/116697
CATEGORIES:Psytrance Event
CLASS:PUBLIC
END:VEVENT

BEGIN:VEVENT
UID:9d5635cd4fe5fd8a7fb77a8617029d09
DTSTART:20260827T200000
DTEND:20260831T193000
LOCATION:Prettin [Germany]
GEO:51.660770000;12.923530000
DTSTAMP:20260827T200000Z
SUMMARY:Gaggalacka Festival "25 Jahre" Wir feiern die Silberhochzeit
DESCRIPTION:Line Up: Lasst euch überraschen....wie immer gilt, keiner hat die
  Absicht schlafen zu gehen -) Location: Campingplatz Prettin,
  Hinterfährstraße 42, 06925 Prettin
URL:https://www.goabase.net/festival/gaggalacka-festival-25-jahre-wir-feiern-die-silberhochzeit/117430
CATEGORIES:Psytrance Event
CLASS:PUBLIC
END:VEVENT

BEGIN:VEVENT
UID:167cdf2f7a57951134da2b3d8b167af1
DTSTART:20260828T150000
DTEND:20260830T220000
LOCATION:Tczew [Poland]
GEO:54.100000000;18.800000000
DTSTAMP:20260828T150000Z
SUMMARY:INNER CIRCLE CONVENTION 2026
DESCRIPTION:Line Up: 🌐 MAIN 🌐 🎧 OPENING ACTS🎧 🎼 CURRENT VALUE 🎼 MACHINECODE 🎧
  LABYRINTHINE CREW NIGHT🎧 🎼 FORMA MENTIS 🎼 OBLIUM 🎼 OBLIUM A… Location:
  OFF-ROAD ŚWIAT, , 83-209 Tczew
URL:https://www.goabase.net/festival/inner-circle-convention-2026/116506
CATEGORIES:Psytrance Event
CLASS:PUBLIC
END:VEVENT

BEGIN:VEVENT
UID:93a3eefaf8214d7ed9d9985815aa87e5
DTSTART:20260828T170000
DTEND:20260831T120000
LOCATION:Wetteraukreis [Germany]
GEO:50.362780000;8.913330000
DTSTAMP:20260828T170000Z
SUMMARY:DJ-GOACHESEES BIRTHDAY DIE ZWEI WERDEN ÄLTER
DESCRIPTION:Line Up: CHOREA LUX🇩🇪 LARS LEE 🇩🇪 OREMETOS LIVE 🇩🇪 SETI PROJECT 🇩🇪
  MANDALA VIBE 🇧🇹 PSYLOVEIT🇵🇹 EIIIKE🇧🇷 GOACHESEES 🇩🇪 TERRAπ🇩🇪 DE…
URL:https://www.goabase.net/festival/dj-goachesees-birthday-die-zwei-werden-aelter/116663
CATEGORIES:Psytrance Event
CLASS:PUBLIC
END:VEVENT

BEGIN:VEVENT
UID:2360a205133dde628882d56a0e18c535
DTSTART:20260828T180000
DTEND:20260830T180000
LOCATION:Mesocco [Switzerland]
GEO:46.400000000;9.200000000
DTSTAMP:20260828T180000Z
SUMMARY:The Flying Mystic @  Castello di Mesocco 2026
DESCRIPTION:Line Up: TBA Location: Castello di Mesocco, , 6563 Mesocco
URL:https://www.goabase.net/party/the-flying-mystic-castello-di-mesocco-2026/115242
CATEGORIES:Psytrance Event
CLASS:PUBLIC
END:VEVENT

BEGIN:VEVENT
UID:87ddeeab67427281750af0e3dec32788
DTSTART:20260828T210000
DTEND:20260830T103000
LOCATION:Stockholm [Sweden]
GEO:59.300000000;18.100000000
DTSTAMP:20260828T210000Z
SUMMARY:The Shadow Of The Dark Shaman 2026
DESCRIPTION:Line Up: Line up: Already Maged (Moon Koradji Records) 🇺🇦 Salakavala
  (Hippie Killer Production) 🇫🇮 Argaleth (Funky Freaks Recor… Location:
  Forest, , Stockholm
URL:https://www.goabase.net/party/the-shadow-of-the-dark-shaman-2026/116650
CATEGORIES:Psytrance Event
CLASS:PUBLIC
END:VEVENT

END:VCALENDAR