BEGIN:VCALENDAR
VERSION:2.0
PRODID:goabase.net iCalendar 2026
X-WR-CALNAME:goabase.net - parties and people 
X-WR-TIMEZONE;VALUE=TEXT:Europe/Berlin
CALSCALE:GREGORIAN
BEGIN:VTIMEZONE
TZID:Europe/Berlin
X-LIC-LOCATION:Europe/Berlin
BEGIN:DAYLIGHT
TZOFFSETFROM:+0100
TZOFFSETTO:+0200
TZNAME:CEST
DTSTART:19700329T020000
RRULE:FREQ=YEARLY;INTERVAL=1;BYDAY=-1SU;BYMONTH=3
END:DAYLIGHT
BEGIN:STANDARD
TZOFFSETFROM:+0200
TZOFFSETTO:+0100
TZNAME:CET
DTSTART:19701025T030000
RRULE:FREQ=YEARLY;INTERVAL=1;BYDAY=-1SU;BYMONTH=10
END:STANDARD
END:VTIMEZONE

BEGIN:VEVENT
UID:3df5c224b32a6fe89b3743509df0b76c
DTSTART:20260702T180000
DTEND:20260705T180000
LOCATION:Aegviidu, Mustjõe [Estonia]
GEO:0.000000000;0.000000000
DTSTAMP:20260702T180000Z
SUMMARY:SatNam- Cultural rave
DESCRIPTION:Line Up: 🎶 Enjoy: Music, nature, and diverse practices. Deep,
  atmospheric rave with high-quality sound on Thursday, Friday and Sa…
  Location: Mustjõe Kõrtsitalu, 59.29349311925489, 25.511258769512974,
  74503 Aegviidu, Mustjõe
URL:https://www.goabase.net/festival/satnam-cultural-rave/117212
CATEGORIES:Psytrance Event
CLASS:PUBLIC
END:VEVENT

BEGIN:VEVENT
UID:50b1257aa01509c087e628013fe34ac8
DTSTART:20260702T180000
DTEND:20260705T210000
LOCATION:Saint-Symphorien-des-Monts [France]
GEO:0.000000000;0.000000000
DTSTAMP:20260702T180000Z
SUMMARY:Ethereal Decibel Festival 2026 ⬪ 2 - 3 - 4 - 5 juillet
DESCRIPTION:Line Up: LIVE BANDS Article15 - Henge THE SANCTUARY Act One -
  Adramelech - Alyshka - Amadea - Archetypes - Boom Shankar (Retro Se…
  Location: Parc de Saint-Symphorien-des-Monts, Les Touches, 50640
  Buais-Les-Monts, 50640 Saint-Symphorien-des-Monts
URL:https://www.goabase.net/festival/ethereal-decibel-festival-2026-2-3-4-5-juillet/117394
CATEGORIES:Psytrance Event
CLASS:PUBLIC
END:VEVENT

BEGIN:VEVENT
UID:854dc9fc60edbe6b901c90a85ac49c89
DTSTART:20260702T190000
DTEND:20260705T140000
LOCATION:Borski Stol, Bor [Serbia]
GEO:44.172847000;22.121294000
DTSTAMP:20260702T190000Z
SUMMARY:Balkan Goa Fanatics IV - Goa Trance & Fantasy Festival
DESCRIPTION:Line Up: Dear fanatics, at this moment we are revealing the first few
  names from the lineup, and very soon we will delight you wi…
URL:https://www.goabase.net/festival/balkan-goa-fanatics-iv-goa-trance-fantasy-festival/116882
CATEGORIES:Psytrance Event
CLASS:PUBLIC
END:VEVENT

BEGIN:VEVENT
UID:19471ba6af81d9dbbd7695e1ee05d559
DTSTART:20260703T150000
DTEND:20260706T110000
LOCATION:Stężyca [Poland]
GEO:51.581870000;21.770870000
DTSTAMP:20260703T150000Z
SUMMARY:Be Psychedelic Open Air 2026
DESCRIPTION:Line Up: 🧙‍♂️🎧 Asphodel (Moon Unity, Elbląg) 🧙‍♂️🎧 Bats 🧙‍♂️🎧
  Cannabeatz / MAD (Sfinks, Sopot) 🧙‍♂️🎧 Crawfisher (Relevents, Gdy…
  Location: Gwardia Kaszubska, Kręta 22, 83-322 Stężyca
URL:https://www.goabase.net/party/be-psychedelic-open-air-2026/116435
CATEGORIES:Psytrance Event
CLASS:PUBLIC
END:VEVENT

BEGIN:VEVENT
UID:8e5559b944aa03e0abe250ef2a710dc8
DTSTART:20260703T180000
DTEND:20260705T150000
LOCATION:Schelten [Switzerland]
GEO:47.300000000;7.600000000
DTSTAMP:20260703T180000Z
SUMMARY:Reisefieber Festival XX
DESCRIPTION:Line Up: TBA... Location: Reisefieber, , 2827 Schelten
URL:https://www.goabase.net/festival/reisefieber-festival-xx/117132
CATEGORIES:Psytrance Event
CLASS:PUBLIC
END:VEVENT

BEGIN:VEVENT
UID:11f70cedec3d295b90029dbfd1509f29
DTSTART:20260703T180000
DTEND:20260705T120000
LOCATION:Třebechovice pod Orebem [Czech Republic]
GEO:50.200970000;15.992230000
DTSTAMP:20260703T180000Z
SUMMARY:Psyna Festival 2026
DESCRIPTION:Line Up: 1ST STAGE - TURKEY (Psytrance and puppy, etc...): Live
  Acts/Bands ❂Surtarang (PL - Band) ❂-RθVINA- (CZ - Band) ❂Omnion…
URL:https://www.goabase.net/festival/psyna-festival-2026/117196
CATEGORIES:Psytrance Event
CLASS:PUBLIC
END:VEVENT

BEGIN:VEVENT
UID:234065f1d5ddeefd75fc3fd65cb5b155
DTSTART:20260703T220000
DTEND:20260705T220000
LOCATION:neuruppin [Germany]
GEO:52.400000000;9.700000000
DTSTAMP:20260703T220000Z
SUMMARY:Shut up & Dance
DESCRIPTION:Line Up: live: Spacepunks (catawampus rec) Fractalien (catawampus rec
  shut up & dance) more t.b.a. Dj.s : Antikriz (Horrordelic R…
URL:https://www.goabase.net/party/shut-up-dance/116568
CATEGORIES:Psytrance Event
CLASS:PUBLIC
END:VEVENT

END:VCALENDAR