BEGIN:VCALENDAR
VERSION:2.0
PRODID:goabase.net iCalendar 2026
X-WR-CALNAME:goabase.net - parties and people 
X-WR-TIMEZONE;VALUE=TEXT:Europe/Berlin
CALSCALE:GREGORIAN
BEGIN:VTIMEZONE
TZID:Europe/Berlin
X-LIC-LOCATION:Europe/Berlin
BEGIN:DAYLIGHT
TZOFFSETFROM:+0100
TZOFFSETTO:+0200
TZNAME:CEST
DTSTART:19700329T020000
RRULE:FREQ=YEARLY;INTERVAL=1;BYDAY=-1SU;BYMONTH=3
END:DAYLIGHT
BEGIN:STANDARD
TZOFFSETFROM:+0200
TZOFFSETTO:+0100
TZNAME:CET
DTSTART:19701025T030000
RRULE:FREQ=YEARLY;INTERVAL=1;BYDAY=-1SU;BYMONTH=10
END:STANDARD
END:VTIMEZONE

BEGIN:VEVENT
UID:891c1ec542088af22b44ff5c54d8a677
DTSTART:20260618T120000
DTEND:20260622T080000
LOCATION:Velika Remeta [Serbia]
GEO:0.000000000;0.000000000
DTSTAMP:20260618T120000Z
SUMMARY:The Jungle Festival
DESCRIPTION:Line Up: LIVE ACTS HYPNOCOUSTICS, INGRAINED INSTINCTS, KINDZA,
  LUNATICA, ANCIENT ALIANCE ARHETIP, ARGON SPHERE, DALTON TRANCE…
  Location: Gusle, Manastirski put, 21000 Velika Remeta
URL:https://www.goabase.net/festival/the-jungle-festival/117270
CATEGORIES:Psytrance Event
CLASS:PUBLIC
END:VEVENT

BEGIN:VEVENT
UID:b99b4e802f4a9d5d18067b0876e41dc0
DTSTART:20260618T140000
DTEND:20260622T160000
LOCATION:Badia Tedalda - Arezzo - Tu… [Italy]
GEO:0.000000000;0.000000000
DTSTAMP:20260618T140000Z
SUMMARY:FANTÀSIA FESTIVAL 2026
DESCRIPTION:Line Up: ENG: 🦋FANTÀSIA FESTIVAL🦋 📆June 18-22, 2026 - Oasi Cocchiola,
  Badia Tedalda (AR) - Tuscany - IT ⛰️ ✨5 days of art, music,… Location:
  Oasi Cocchiola, Strada vecchia di Cocchiola, Località Cocchiola, 52032
  Badia Tedalda - Arezzo - Tuscany
URL:https://www.goabase.net/festival/fantasia-festival-2026/117181
CATEGORIES:Psytrance Event
CLASS:PUBLIC
END:VEVENT

BEGIN:VEVENT
UID:5fc35f29453c24ae0e8a2c8bb131b501
DTSTART:20260618T160000
DTEND:20260621T200000
LOCATION:Ludos - Sibiu [Romania]
GEO:0.000000000;0.000000000
DTSTAMP:20260618T160000Z
SUMMARY:Solomonari festival 2026
DESCRIPTION:Line Up: Solomonari Stage ETNICA - TALAMASCA - TRANSWAVE - DIGICULT -
  SUN PROJECT - TROPICAL BLEYAGE - AGNETON - ATMA - PLEIADIAN… Location:
  Ludos, , Ludos - Sibiu
URL:https://www.goabase.net/festival/solomonari-festival-2026/116022
CATEGORIES:Psytrance Event
CLASS:PUBLIC
END:VEVENT

END:VCALENDAR