BEGIN:VCALENDAR
VERSION:2.0
PRODID:goabase.net iCalendar 2026
X-WR-CALNAME:goabase.net - parties and people 
X-WR-TIMEZONE;VALUE=TEXT:Europe/Berlin
CALSCALE:GREGORIAN
BEGIN:VTIMEZONE
TZID:Europe/Berlin
X-LIC-LOCATION:Europe/Berlin
BEGIN:DAYLIGHT
TZOFFSETFROM:+0100
TZOFFSETTO:+0200
TZNAME:CEST
DTSTART:19700329T020000
RRULE:FREQ=YEARLY;INTERVAL=1;BYDAY=-1SU;BYMONTH=3
END:DAYLIGHT
BEGIN:STANDARD
TZOFFSETFROM:+0200
TZOFFSETTO:+0100
TZNAME:CET
DTSTART:19701025T030000
RRULE:FREQ=YEARLY;INTERVAL=1;BYDAY=-1SU;BYMONTH=10
END:STANDARD
END:VTIMEZONE

BEGIN:VEVENT
UID:ec9c7cdec757b5077145d49e05f2213d
DTSTART:20260604T120000
DTEND:20260608T120000
LOCATION:Schramberg [Germany]
GEO:48.200000000;8.400000000
DTSTAMP:20260604T120000Z
SUMMARY:Zauberlippen Festival
DESCRIPTION:Location: Club savajevo, Berneck 92, 78144 Schramberg
URL:https://www.goabase.net/festival/zauberlippen-festival/116845
CATEGORIES:Psytrance Event
CLASS:PUBLIC
END:VEVENT

BEGIN:VEVENT
UID:5e59c55a032d7186fbf671f9efe5291c
DTSTART:20260604T180000
DTEND:20260607T200000
LOCATION:Niedergörsdorf [Germany]
GEO:52.000000000;13.000000000
DTSTAMP:20260604T180000Z
SUMMARY:Zurück zu den Wurzeln Festival 2026
DESCRIPTION:Line Up: live: Sabretooth, Omikron, Second Side Djs: Anjoli,
  Astralica, finja, TekWan, Unity, Ana Phora, CD Wexler, SubCulture,…
  Location: Secret Forest, Flugplatzweg 6, Niedergörsdorf, 14913
  Niedergörsdorf
URL:https://www.goabase.net/festival/zurueck-zu-den-wurzeln-festival-2026/117010
CATEGORIES:Psytrance Event
CLASS:PUBLIC
END:VEVENT

BEGIN:VEVENT
UID:80c179d90176cc714db774f2d5f25e6c
DTSTART:20260605T120000
DTEND:20260607T120000
LOCATION:Rurrenabaque [Bolivia]
GEO:-14.442820000;-67.529790000
DTSTAMP:20260605T120000Z
SUMMARY:Amazon Festival 2026
DESCRIPTION:Line Up: ((VJs)) 🌈 Fractal VJ Project ((Art.Marc369))(BOL) 🌈 VJ Kid
  Infame (BOL) ((DJs Confirmados)) 🎧 AdrenAline ((Tribolite… Location:
  Altura: Piscina ¨El Mirador¨, Calle Avaroa esquina Vaca Diez,
  Rurrenabaque, 0000 Rurrenabaque
URL:https://www.goabase.net/festival/amazon-festival-2026/116750
CATEGORIES:Psytrance Event
CLASS:PUBLIC
END:VEVENT

BEGIN:VEVENT
UID:b03085ab61d0cd78f59cf63f81c09ff8
DTSTART:20260605T180000
DTEND:20260607T150000
LOCATION:Madrid [Spain]
GEO:40.400000000;-3.700000000
DTSTAMP:20260605T180000Z
SUMMARY:KUMBHALA FESTIVAL
DESCRIPTION:Line Up: COMMING SOON Location: COLMENAR VIEJO, ,  Madrid
URL:https://www.goabase.net/festival/kumbhala-festival/115984
CATEGORIES:Psytrance Event
CLASS:PUBLIC
END:VEVENT

BEGIN:VEVENT
UID:f3c95122a54e931d2414c037752aa395
DTSTART:20260605T190000
DTEND:20260606T023000
LOCATION:Dublin [Ireland]
GEO:53.400000000;-6.300000000
DTSTAMP:20260605T190000Z
SUMMARY:Tropical Groove presents: Burn in Noise
DESCRIPTION:Line Up: 🔥 BURN IN NOISE (Nano Records) 🔥 More details soon...
  Location: The Sound House, 28 Eden Quay, North City, D01 DE44 Dublin
URL:https://www.goabase.net/party/tropical-groove-presents-burn-in-noise/117120
CATEGORIES:Psytrance Event
CLASS:PUBLIC
END:VEVENT

BEGIN:VEVENT
UID:455ce0accdffe2a9076744a161adf775
DTSTART:20260605T230000
DTEND:20260606T060000
LOCATION:Wien [Austria]
GEO:48.200000000;16.400000000
DTSTAMP:20260605T230000Z
SUMMARY:PSYTRANCE UNIVERSE
DESCRIPTION:
URL:https://www.goabase.net/party/psytrance-universe/115390
CATEGORIES:Psytrance Event
CLASS:PUBLIC
END:VEVENT

END:VCALENDAR