BEGIN:VCALENDAR
VERSION:2.0
PRODID:goabase.net iCalendar 2026
X-WR-CALNAME:goabase.net - parties and people 
X-WR-TIMEZONE;VALUE=TEXT:Europe/Berlin
CALSCALE:GREGORIAN
BEGIN:VTIMEZONE
TZID:Europe/Berlin
X-LIC-LOCATION:Europe/Berlin
BEGIN:DAYLIGHT
TZOFFSETFROM:+0100
TZOFFSETTO:+0200
TZNAME:CEST
DTSTART:19700329T020000
RRULE:FREQ=YEARLY;INTERVAL=1;BYDAY=-1SU;BYMONTH=3
END:DAYLIGHT
BEGIN:STANDARD
TZOFFSETFROM:+0200
TZOFFSETTO:+0100
TZNAME:CET
DTSTART:19701025T030000
RRULE:FREQ=YEARLY;INTERVAL=1;BYDAY=-1SU;BYMONTH=10
END:STANDARD
END:VTIMEZONE

BEGIN:VEVENT
UID:8b85502c9bf97a4b62279690ed59503f
DTSTART:20260520T220000
DTEND:20260524T120000
LOCATION:Borek [Czech Republic]
GEO:49.023390000;14.500880000
DTSTAMP:20260520T220000Z
SUMMARY:Rabbit Void II - Keepers of the RIFT
DESCRIPTION:Line Up: Artist from 12 Countries 🇧🇷 🇦🇺 🇦🇹 🇨🇭 🇩🇪 🇱🇰 🇹🇷 🇭🇺 🇵🇹 🇵🇱 🇫🇮 🇨🇿
  Necropsycho - live - 🇧🇷 Abstrakticus - Live - 🇦🇺 Bardo - Li… Location:
  Rabbit Void, , Borek
URL:https://www.goabase.net/party/rabbit-void-ii-keepers-of-the-rift/117289
CATEGORIES:Psytrance Event
CLASS:PUBLIC
END:VEVENT

BEGIN:VEVENT
UID:3b775de8677848565289d35b15c269cf
DTSTART:20260522T200000
DTEND:20260523T100000
LOCATION:Berlin [Germany]
GEO:52.500000000;13.400000000
DTSTAMP:20260522T200000Z
SUMMARY:The Mystic Rose celebrating TINA & PROTONICA
DESCRIPTION:Line Up: TIMETABLE: Poolbar Intro: 20:00 NeoBeo - Copy Cow Rec /
  Cosmic Delay - Berlin Mainfloor: 22:00 Onero - IONO MUSIC - Berl…
  Location: Kit Kat Club, Brückenstr. 1, 10179 Berlin
URL:https://www.goabase.net/party/the-mystic-rose-celebrating-tina-protonica/117454
CATEGORIES:Psytrance Event
CLASS:PUBLIC
END:VEVENT

BEGIN:VEVENT
UID:841565b164678fdc8d740c24837122ac
DTSTART:20260522T220000
DTEND:20260525T130000
LOCATION:Hammonton, New Jersey [United States]
GEO:0.000000000;0.000000000
DTSTAMP:20260522T220000Z
SUMMARY:Quantum Awakening Festival 3.0
DESCRIPTION:Line Up: ANTIDOTA * BURN IN NOISE * DIGITAL HIPPIE * DR STRANGEFUNK *
  EYEAWAKE * FRACTAL JOKE * GONZO * KHROMATA * KOZY * KRI SAM… Location:
  Paradise Lakes Campground, 500 Paradise Drive, 08037 Hammonton, New
  Jersey
URL:https://www.goabase.net/festival/quantum-awakening-festival-30/116841
CATEGORIES:Psytrance Event
CLASS:PUBLIC
END:VEVENT

BEGIN:VEVENT
UID:58ab6d9f2fcb6affd7b51adc9400405e
DTSTART:20260522T220000
DTEND:20260524T000000
LOCATION:Negenborn [Germany]
GEO:0.000000000;0.000000000
DTSTAMP:20260522T220000Z
SUMMARY:Hexensabbat VI
DESCRIPTION:Line Up: ~~~LIVE-ACT'S TECHNO~~~ •Höki• (DarkForestNoise) ~~~PSY- DJ
  SET'S ~~~ •SuNdokan• (LucidMindEvents/PersianPsyTec… Location:
  51.88482261239042, 9.580780863761902, Negenborn, 37643 Negenborn
URL:https://www.goabase.net/party/hexensabbat-vi/117326
CATEGORIES:Psytrance Event
CLASS:PUBLIC
END:VEVENT

BEGIN:VEVENT
UID:ad8e6f4ffc0dae17c981762244c89bfe
DTSTART:20260522T230000
DTEND:20260523T070000
LOCATION:Bielefeld [Germany]
GEO:52.000000000;8.500000000
DTSTAMP:20260522T230000Z
SUMMARY:Asseltrance
DESCRIPTION:Line Up: Wird Hammer! -) Location: AJZ Bielefeld, Herpes Straße 132,
  33607 Bielefeld
URL:https://www.goabase.net/party/asseltrance/117311
CATEGORIES:Psytrance Event
CLASS:PUBLIC
END:VEVENT

BEGIN:VEVENT
UID:87eb845f9d7d7ccda216fd5eda92f8c1
DTSTART:20260522T230000
DTEND:20260523T100000
LOCATION:Berlin [Germany]
GEO:52.500000000;13.400000000
DTSTAMP:20260522T230000Z
SUMMARY:TADACID
DESCRIPTION:Line Up: Hellotrip Secret Portal Frau Specht Alek Sis
URL:https://www.goabase.net/party/tadacid/117414
CATEGORIES:Psytrance Event
CLASS:PUBLIC
END:VEVENT

BEGIN:VEVENT
UID:2d34c6245c6c74e0f6ae88fbc2d75874
DTSTART:20260522T233000
DTEND:20260523T070000
LOCATION:Köln [Germany]
GEO:50.900000000;7.000000000
DTSTAMP:20260522T233000Z
SUMMARY:Psychedelic Trance Express X Club Yuca
DESCRIPTION:Location: Club Yuca X Club Bahnhof Ehrenfeld,
  Bartholomäus-Schink-Straße 65, 50825 Köln
URL:https://www.goabase.net/party/psychedelic-trance-express-x-club-yuca/117403
CATEGORIES:Psytrance Event
CLASS:PUBLIC
END:VEVENT

END:VCALENDAR