BEGIN:VCALENDAR
VERSION:2.0
PRODID:goabase.net iCalendar 2026
X-WR-CALNAME:goabase.net - parties and people 
X-WR-TIMEZONE;VALUE=TEXT:Europe/Berlin
CALSCALE:GREGORIAN
BEGIN:VTIMEZONE
TZID:Europe/Berlin
X-LIC-LOCATION:Europe/Berlin
BEGIN:DAYLIGHT
TZOFFSETFROM:+0100
TZOFFSETTO:+0200
TZNAME:CEST
DTSTART:19700329T020000
RRULE:FREQ=YEARLY;INTERVAL=1;BYDAY=-1SU;BYMONTH=3
END:DAYLIGHT
BEGIN:STANDARD
TZOFFSETFROM:+0200
TZOFFSETTO:+0100
TZNAME:CET
DTSTART:19701025T030000
RRULE:FREQ=YEARLY;INTERVAL=1;BYDAY=-1SU;BYMONTH=10
END:STANDARD
END:VTIMEZONE

BEGIN:VEVENT
UID:49a30bcb5d13e8e6d2d881911bec21f9
DTSTART:20251004T220000
DTEND:20251005T040000
LOCATION:Queenstown [New Zealand]
GEO:-45.000000000;168.700000000
DTSTAMP:20251004T220000Z
SUMMARY:Mycelia
DESCRIPTION:Line Up: A phat serving of Sexy, Chunky & Psychedelic Sounds – Back by
  Popular Demand! 🌌 Prepare for a night of deep connection a… Location:
  Bungalow Queenstown, 26 Camp Street, Queenstown, 9300 Queenstown
URL:https://www.goabase.net/party/mycelia/115779
CATEGORIES:Psytrance Event
CLASS:PUBLIC
END:VEVENT

BEGIN:VEVENT
UID:24ec715308fa21414a9ee04b0606cd52
DTSTART:20251003T220000
DTEND:20251004T040000
LOCATION:Queenstown [New Zealand]
GEO:-45.000000000;168.700000000
DTSTAMP:20251003T220000Z
SUMMARY:State of Euphoria
DESCRIPTION:Location: bungalow Queenstown, 26 Camp Street, Queenstown, 9300
  Queenstown
URL:https://www.goabase.net/party/state-of-euphoria/115780
CATEGORIES:Psytrance Event
CLASS:PUBLIC
END:VEVENT

BEGIN:VEVENT
UID:1b9ccbc57dad519fc5421ffa7a4bfa71
DTSTART:20250913T220000
DTEND:20250914T040000
LOCATION:Auckland [New Zealand]
GEO:-36.900000000;174.800000000
DTSTAMP:20250913T220000Z
SUMMARY:Grande Finale
DESCRIPTION:Line Up: Final stop of the DoubSquare Australasia Tour Tickets on sale
  this August! After igniting stages across Australia, DoubS… Location:
  Club 146, 146 Karangahape Road, Auckland
URL:https://www.goabase.net/party/grande-finale/115778
CATEGORIES:Psytrance Event
CLASS:PUBLIC
END:VEVENT

BEGIN:VEVENT
UID:f6a17d7b9e8c05e7f9baa66e6f5322fa
DTSTART:20250711T220000
DTEND:20250713T040000
LOCATION:Queenstown [New Zealand]
GEO:-45.000000000;168.700000000
DTSTAMP:20250711T220000Z
SUMMARY:Mycelia Queenstown
DESCRIPTION:Line Up: Sharkra Touche Laulau Audiom Location: Bungalow Queenstown,
  26 Camp Street, 9300 Queenstown
URL:https://www.goabase.net/party/mycelia-queenstown/115528
CATEGORIES:Psytrance Event
CLASS:PUBLIC
END:VEVENT

BEGIN:VEVENT
UID:20fb3f1e5e0597b08504b66a33bd2b79
DTSTART:20240914T213000
DTEND:20240915T040000
LOCATION:Queenstown [New Zealand]
GEO:-45.000000000;168.700000000
DTSTAMP:20240914T213000Z
SUMMARY:Mycelia: Queenstown Edition
DESCRIPTION:Line Up: Touché Sharkra Jatayu Location: Bungalow, 26 camp street,
  9300 Queenstown
URL:https://www.goabase.net/party/mycelia-queenstown-edition/113437
CATEGORIES:Psytrance Event
CLASS:PUBLIC
END:VEVENT

BEGIN:VEVENT
UID:bee5863088f31f21abb663f12822506b
DTSTART:20230929T150000
DTEND:20231001T153000
LOCATION:Wellsford [New Zealand]
GEO:-36.283330000;174.516670000
DTSTAMP:20230929T150000Z
SUMMARY:Spectrum 2023
DESCRIPTION:Line Up: Triadika Rana Divinori SubChamatkar Big Dave Akasha Mutana
  Kataro Emanate GridLok Polvo Spoonhead Ferksta Zagada Sharkra…
  Location: Boompha Venuee, Atkins Road, 0974 Wellsford
URL:https://www.goabase.net/festival/spectrum-2023/111010
CATEGORIES:Psytrance Event
CLASS:PUBLIC
END:VEVENT

BEGIN:VEVENT
UID:3cd0fcb8b852576999995a6832a961f6
DTSTART:20230527T210000
DTEND:20230528T030000
LOCATION:Auckland [New Zealand]
GEO:-36.852320000;174.763880000
DTSTAMP:20230527T210000Z
SUMMARY:Elysium
DESCRIPTION:Line Up: Johnny Deep Spoon Head LIVE Sharkra Psynimal Location: The
  Mothership, 7 Shortland Street, Auckland CBD, Auckland
URL:https://www.goabase.net/party/elysium/110535
CATEGORIES:Psytrance Event
CLASS:PUBLIC
END:VEVENT

BEGIN:VEVENT
UID:bf7d65aaef93b5d65cdae741c7ee3642
DTSTART:20220603T220000
DTEND:20220604T120000
LOCATION:Hikutaia [New Zealand]
GEO:0.000000000;0.000000000
DTSTAMP:20220603T220000Z
SUMMARY:Spectrum 2022
DESCRIPTION:Line Up: Sharkra George.e Grommie Sumthin Ethnic Ashez Xephex Steady &
  Flecks Chantz & Qwake Mia Darling Ben Lazer Bella Yarnfunk…
URL:https://www.goabase.net/party/spectrum-2022/108517
CATEGORIES:Psytrance Event
CLASS:PUBLIC
END:VEVENT

BEGIN:VEVENT
UID:e8e710ea42ff8ae7ac88a4e332d14c4b
DTSTART:20220423T210000
DTEND:20220424T040000
LOCATION:Queenstown [New Zealand]
GEO:0.000000000;0.000000000
DTSTAMP:20220423T210000Z
SUMMARY:State of Euphoria 2022
DESCRIPTION:Line Up: Sandrita Sharkra full aum Mutana Kataro
URL:https://www.goabase.net/party/state-of-euphoria-2022/108198
CATEGORIES:Psytrance Event
CLASS:PUBLIC
END:VEVENT

BEGIN:VEVENT
UID:555b0fb2f8918f94791201f4f0a04425
DTSTART:20220416T210000
DTEND:20220417T050000
LOCATION:Auckland [New Zealand]
GEO:-36.831479400;174.647957200
DTSTAMP:20220416T210000Z
SUMMARY:Emergence
DESCRIPTION:Line Up: VyxN Psynimal Entune Jungli Sharkra Artek
URL:https://www.goabase.net/party/emergence/108197
CATEGORIES:Psytrance Event
CLASS:PUBLIC
END:VEVENT

BEGIN:VEVENT
UID:cabbb63a9f882d6b711ca06fc153960d
DTSTART:20211204T200000
DTEND:20211205T050000
LOCATION:Auckland [New Zealand]
GEO:-36.900000000;174.800000000
DTSTAMP:20211204T200000Z
SUMMARY:Mycelia
DESCRIPTION:Line Up: Release: 18th September
URL:https://www.goabase.net/party/mycelia/107443
CATEGORIES:Psytrance Event
CLASS:PUBLIC
END:VEVENT

BEGIN:VEVENT
UID:d9e494e70130b904c097bd3c84eff347
DTSTART:20211120T200000
DTEND:20211121T050000
LOCATION:Auckland [New Zealand]
GEO:-36.900000000;174.800000000
DTSTAMP:20211120T200000Z
SUMMARY:Psyramisu
DESCRIPTION:Line Up: Olli Curry Bean Sharkra FULL AUM Psybear Bad Company
URL:https://www.goabase.net/party/psyramisu/107442
CATEGORIES:Psytrance Event
CLASS:PUBLIC
END:VEVENT

BEGIN:VEVENT
UID:4cb9449fb5a1768ee82719a6a7c8b46e
DTSTART:20190713T233000
DTEND:20190714T060000
LOCATION:Auckland [New Zealand]
GEO:-36.866670000;174.766670000
DTSTAMP:20190713T233000Z
SUMMARY:The Grand Psychedelic Bazaar - AFTERPARTY
DESCRIPTION:Line Up: TBA
URL:https://www.goabase.net/party/the-grand-psychedelic-bazaar-afterparty/103993
CATEGORIES:Psytrance Event
CLASS:PUBLIC
END:VEVENT

BEGIN:VEVENT
UID:b69daa49d820d0b0136ea76fa2ec682a
DTSTART:20190713T110000
DTEND:20190713T230000
LOCATION:Auckland [New Zealand]
GEO:-36.850302900;174.763361700
DTSTAMP:20190713T110000Z
SUMMARY:The Grand Psychedelic Bazaar
DESCRIPTION:Line Up: TBA
URL:https://www.goabase.net/party/the-grand-psychedelic-bazaar/103810
CATEGORIES:Psytrance Event
CLASS:PUBLIC
END:VEVENT

BEGIN:VEVENT
UID:9795ac1192ed0e3da032256b04817d00
DTSTART:20190602T170000
DTEND:20190603T020000
LOCATION:Auckland [New Zealand]
GEO:-36.850302900;174.763361700
DTSTAMP:20190602T170000Z
SUMMARY:Sunday Sessions - Matriarchy
DESCRIPTION:Line Up: Akasha Emergy Lady La Bird Prana Sharkra
URL:https://www.goabase.net/party/sunday-sessions-matriarchy/103811
CATEGORIES:Psytrance Event
CLASS:PUBLIC
END:VEVENT

END:VCALENDAR