BEGIN:VCALENDAR
VERSION:2.0
PRODID:goabase.net iCalendar 2026
X-WR-CALNAME:goabase.net - parties and people 
X-WR-TIMEZONE;VALUE=TEXT:Europe/Berlin
CALSCALE:GREGORIAN
BEGIN:VTIMEZONE
TZID:Europe/Berlin
X-LIC-LOCATION:Europe/Berlin
BEGIN:DAYLIGHT
TZOFFSETFROM:+0100
TZOFFSETTO:+0200
TZNAME:CEST
DTSTART:19700329T020000
RRULE:FREQ=YEARLY;INTERVAL=1;BYDAY=-1SU;BYMONTH=3
END:DAYLIGHT
BEGIN:STANDARD
TZOFFSETFROM:+0200
TZOFFSETTO:+0100
TZNAME:CET
DTSTART:19701025T030000
RRULE:FREQ=YEARLY;INTERVAL=1;BYDAY=-1SU;BYMONTH=10
END:STANDARD
END:VTIMEZONE

BEGIN:VEVENT
UID:36b03210bef7c6ef38fcdc4d8b4fe81a
DTSTART:20131221T220000
DTEND:20131222T060000
LOCATION:vienna [Austria]
GEO:0.000000000;0.000000000
DTSTAMP:20131221T220000Z
SUMMARY:WE CARE - christmas psytrance charity for philippines
DESCRIPTION:Line Up: ★ Alle Künstler spielen gratis ★ die Einnahmen gehen an Ärzte
  ohne Grenzen ★ LINE UP: ● OUTER SPACE FLOOR hosted by P…
URL:https://www.goabase.net/party/we-care-christmas-psytrance-charity-for-philippines/74556
CATEGORIES:Psytrance Event
CLASS:PUBLIC
END:VEVENT

BEGIN:VEVENT
UID:f6d3992dd713e83deb336429f44cc7c5
DTSTART:20121222T220000
DTEND:20121223T060000
LOCATION:Wien - Pratersauna [Austria]
GEO:0.000000000;0.000000000
DTSTAMP:20121222T220000Z
SUMMARY:UTE BOCK CHRISTMAS CHARITY
DESCRIPTION:Line Up: &#9679-&#9679-&#9679- COSMIC SPACE FLOOR
  &#9679-&#9679-&#9679- &#9679- psytrance / progressive psytrance &#9679-
  DEZIBEL…
URL:https://www.goabase.net/party/ute-bock-christmas-charity/70013
CATEGORIES:Psytrance Event
CLASS:PUBLIC
END:VEVENT

BEGIN:VEVENT
UID:ade1224e2c0910e73840d1a4b10cc546
DTSTART:20120804T220000
DTEND:20120805T060000
LOCATION:Vienna - Pratersauna [Austria]
GEO:48.213899615;16.402168223
DTSTAMP:20120804T220000Z
SUMMARY:QUE PASA mit D-NOX & BECKERS und MEGABLAST
DESCRIPTION:
URL:https://www.goabase.net/party/que-pasa-mit-d-nox-beckers-und-megablast/66313
CATEGORIES:Psytrance Event
CLASS:PUBLIC
END:VEVENT

BEGIN:VEVENT
UID:46b6f81dc13aa85462fcfbf03a036601
DTSTART:20111203T220000
DTEND:20111204T060000
LOCATION:Wien [Austria]
GEO:0.000000000;0.000000000
DTSTAMP:20111203T220000Z
SUMMARY:QUE PASA pres. MELLER live
DESCRIPTION:Line Up:
  &#9608-&#9608-&#9608-&#9608-&#9608-&#9608-&#9608-&#9608-&#9608-&#9608-
  Meller live (Bmss Records / Germany) &#9608-&#960…
URL:https://www.goabase.net/party/que-pasa-pres-meller-live/63530
CATEGORIES:Psytrance Event
CLASS:PUBLIC
END:VEVENT

BEGIN:VEVENT
UID:48264219de9a9e77040e9e7c32411109
DTSTART:20111118T220000
DTEND:20111119T060000
LOCATION:wIEN [Austria]
GEO:0.000000000;0.000000000
DTSTAMP:20111118T220000Z
SUMMARY:DIGITAL & PROGRESSIVE SELECTION // STEPHAN BODZIN & AIOASKA 
DESCRIPTION:Line Up: &#9650-&#9650-&#9650-&#9650- AIOASKA live
  &#9650-&#9650-&#9650-&#9650- &#9650-&#9650-&#9650-&#9650- SPECIAL
  AV-LIVEACT…
URL:https://www.goabase.net/party/digital-progressive-selection-stephan-bodzin-aioaska/63078
CATEGORIES:Psytrance Event
CLASS:PUBLIC
END:VEVENT

BEGIN:VEVENT
UID:54b3f3f7def6403c4ba53a1817281f00
DTSTART:20110916T220000
DTEND:20110917T060000
LOCATION:Wien [Austria]
GEO:0.000000000;0.000000000
DTSTAMP:20110916T220000Z
SUMMARY:QUE PASA mit KAEMPFER & DIETZE aka PROTONICA
DESCRIPTION:
URL:https://www.goabase.net/party/que-pasa-mit-kaempfer-dietze-aka-protonica/61890
CATEGORIES:Psytrance Event
CLASS:PUBLIC
END:VEVENT

BEGIN:VEVENT
UID:898efc1f641b389306235c51eec0a6ec
DTSTART:20110806T220000
DTEND:20110807T060000
LOCATION:Vienna - Pratersauna [Austria]
GEO:0.000000000;0.000000000
DTSTAMP:20110806T220000Z
SUMMARY:QUE PASA - - DNOX & BECKERS album release party
DESCRIPTION:
URL:https://www.goabase.net/party/que-pasa-dnox-beckers-album-release-party/59770
CATEGORIES:Psytrance Event
CLASS:PUBLIC
END:VEVENT

BEGIN:VEVENT
UID:1c32d9799a30ad50b7377556f5cdd602
DTSTART:20110723T220000
DTEND:20110724T060000
LOCATION:Wien - Media Opera / Rinder… [Austria]
GEO:0.000000000;0.000000000
DTSTAMP:20110723T220000Z
SUMMARY:DIGITAL - an audiovisual love affair
DESCRIPTION:
URL:https://www.goabase.net/party/digital-an-audiovisual-love-affair/61270
CATEGORIES:Psytrance Event
CLASS:PUBLIC
END:VEVENT

BEGIN:VEVENT
UID:b7db73f4b402f29b90a9fa893c81c051
DTSTART:20110604T140000
DTEND:20110605T060000
LOCATION:Vienna - Pratersauna [Austria]
GEO:0.000000000;0.000000000
DTSTAMP:20110604T140000Z
SUMMARY:QUE PASA - summer opening "mund style"
DESCRIPTION:
URL:https://www.goabase.net/party/que-pasa-summer-opening-mund-style/59769
CATEGORIES:Psytrance Event
CLASS:PUBLIC
END:VEVENT

BEGIN:VEVENT
UID:8ab58987570d76e8d31938e4f545dbcb
DTSTART:20110402T220000
DTEND:20110403T060000
LOCATION:Wien - Pratersauna [Austria]
GEO:0.000000000;0.000000000
DTSTAMP:20110402T220000Z
SUMMARY:Que Pasa - Bad Bunny Bash
DESCRIPTION:
URL:https://www.goabase.net/party/que-pasa-bad-bunny-bash/59213
CATEGORIES:Psytrance Event
CLASS:PUBLIC
END:VEVENT

BEGIN:VEVENT
UID:520d4f6d85496bb5f5c069424fe081d2
DTSTART:20110205T220000
DTEND:20110206T060000
LOCATION:Wien - Pratersauna [Austria]
GEO:0.000000000;0.000000000
DTSTAMP:20110205T220000Z
SUMMARY:QUE PASA - big opening party - with TEGMA
DESCRIPTION:Line Up: &#9835- LINE UP &#9835-: &#9660-&#9660-&#9660- DISCO FLOOR
  &#9660-&#9660-&#9660- techhouse / progressivehouse / progress…
URL:https://www.goabase.net/party/que-pasa-big-opening-party-with-tegma/57748
CATEGORIES:Psytrance Event
CLASS:PUBLIC
END:VEVENT

BEGIN:VEVENT
UID:fbf841f3880fe8d3753c426273ff3e6b
DTSTART:20101029T110000
DTEND:20101101T050000
LOCATION:Wien // Vösendorf [Austria]
GEO:0.000000000;0.000000000
DTSTAMP:20101029T110000Z
SUMMARY:CULTIVA Hanfmesse
DESCRIPTION:
URL:https://www.goabase.net/party/cultiva-hanfmesse/56254
CATEGORIES:Psytrance Event
CLASS:PUBLIC
END:VEVENT

BEGIN:VEVENT
UID:ac740020bd5480cb7909046de2546ef8
DTSTART:20070825T140000
DTEND:20070826T020000
LOCATION:vienna - wasserrutsche [Austria]
GEO:0.000000000;0.000000000
DTSTAMP:20070825T140000Z
SUMMARY:SUMMERPSY - free beach party
DESCRIPTION:
URL:https://www.goabase.net/party/summerpsy-free-beach-party/31547
CATEGORIES:Psytrance Event
CLASS:PUBLIC
END:VEVENT

BEGIN:VEVENT
UID:54e9f9234dd15c29682200c5961416f9
DTSTART:20070811T140000
DTEND:20070812T020000
LOCATION:vienna - wasserrutsche [Austria]
GEO:0.000000000;0.000000000
DTSTAMP:20070811T140000Z
SUMMARY:SUMMERPSY - free beach party
DESCRIPTION:
URL:https://www.goabase.net/party/summerpsy-free-beach-party/31546
CATEGORIES:Psytrance Event
CLASS:PUBLIC
END:VEVENT

BEGIN:VEVENT
UID:2ddfab29714e19f920a3c717516daf5b
DTSTART:20070721T140000
DTEND:20070722T040000
LOCATION:vienna - wasserrutsche [Austria]
GEO:0.000000000;0.000000000
DTSTAMP:20070721T140000Z
SUMMARY:SUMMERPSY - free beach party
DESCRIPTION:
URL:https://www.goabase.net/party/summerpsy-free-beach-party/31545
CATEGORIES:Psytrance Event
CLASS:PUBLIC
END:VEVENT

BEGIN:VEVENT
UID:831d833a8876afccae2c56a971670079
DTSTART:20070630T140000
DTEND:20070701T040000
LOCATION:vienna - wasserrutsche [Austria]
GEO:0.000000000;0.000000000
DTSTAMP:20070630T140000Z
SUMMARY:SUMMERPSY - free beach party
DESCRIPTION:
URL:https://www.goabase.net/party/summerpsy-free-beach-party/31544
CATEGORIES:Psytrance Event
CLASS:PUBLIC
END:VEVENT

BEGIN:VEVENT
UID:1b57e08932e3ba49575d2540c91c28e6
DTSTART:20070622T160000
DTEND:20070623T020000
LOCATION:vienna - wasserrutsche [Austria]
GEO:0.000000000;0.000000000
DTSTAMP:20070622T160000Z
SUMMARY:SUMMERPSY - free beach party
DESCRIPTION:Line Up: --- --- --- IMIX (batusim.com)…
URL:https://www.goabase.net/party/summerpsy-free-beach-party/31543
CATEGORIES:Psytrance Event
CLASS:PUBLIC
END:VEVENT

BEGIN:VEVENT
UID:80d4221be90895ac96e9371779fda791
DTSTART:20070616T230000
DTEND:20070617T060000
LOCATION:Vienna [Austria]
GEO:0.000000000;0.000000000
DTSTAMP:20070616T230000Z
SUMMARY:ARCHE GOA
DESCRIPTION:Line Up: DELYSID (Noize Conspiracy) mexico INDRA (electrix rec.)
  israel DIDRAPEST (planet ben rec.) israel ASTARTICA (24/7 record…
URL:https://www.goabase.net/party/arche-goa/32431
CATEGORIES:Psytrance Event
CLASS:PUBLIC
END:VEVENT

BEGIN:VEVENT
UID:8e0eb3946071aee15b9ac38b77344b7f
DTSTART:20070519T140000
DTEND:20070520T020000
LOCATION:vienna - wasserrutsche [Austria]
GEO:0.000000000;0.000000000
DTSTAMP:20070519T140000Z
SUMMARY:SUMMERPSY - free beach party
DESCRIPTION:
URL:https://www.goabase.net/party/summerpsy-free-beach-party/31542
CATEGORIES:Psytrance Event
CLASS:PUBLIC
END:VEVENT

BEGIN:VEVENT
UID:e6afbf188a3cde181dce0b66d23c9218
DTSTART:20070324T220000
DTEND:20070325T120000
LOCATION:Vienna [Austria]
GEO:0.000000000;0.000000000
DTSTAMP:20070324T220000Z
SUMMARY:DJ Chuha and DJ Daksinamurti in jail! .:.:. CHARITY .:.:.
DESCRIPTION:
URL:https://www.goabase.net/party/dj-chuha-and-dj-daksinamurti-in-jail-charity/30704
CATEGORIES:Psytrance Event
CLASS:PUBLIC
END:VEVENT

END:VCALENDAR