BEGIN:VCALENDAR
VERSION:2.0
PRODID:goabase.net iCalendar 2026
X-WR-CALNAME:goabase.net - parties and people 
X-WR-TIMEZONE;VALUE=TEXT:Europe/Berlin
CALSCALE:GREGORIAN
BEGIN:VTIMEZONE
TZID:Europe/Berlin
X-LIC-LOCATION:Europe/Berlin
BEGIN:DAYLIGHT
TZOFFSETFROM:+0100
TZOFFSETTO:+0200
TZNAME:CEST
DTSTART:19700329T020000
RRULE:FREQ=YEARLY;INTERVAL=1;BYDAY=-1SU;BYMONTH=3
END:DAYLIGHT
BEGIN:STANDARD
TZOFFSETFROM:+0200
TZOFFSETTO:+0100
TZNAME:CET
DTSTART:19701025T030000
RRULE:FREQ=YEARLY;INTERVAL=1;BYDAY=-1SU;BYMONTH=10
END:STANDARD
END:VTIMEZONE

BEGIN:VEVENT
UID:0c70e4361b33bd4609a5bf90d3d48d7c
DTSTART:20170804T180000
DTEND:20170806T210000
LOCATION:Birmingham [United Kingdom]
GEO:52.481369000;-1.898073000
DTSTAMP:20170804T180000Z
SUMMARY:Tribal Sphere Outdoors
DESCRIPTION:Line Up: So it's that time of year when we get ready to go outdoors
  alongside the elements for this seasons TS mountain gathering…
URL:https://www.goabase.net/party/tribal-sphere-outdoors/95843
CATEGORIES:Psytrance Event
CLASS:PUBLIC
END:VEVENT

BEGIN:VEVENT
UID:1698efbacf6682e9fa8c2ab214885f6f
DTSTART:20161105T220000
DTEND:20161106T060000
LOCATION:Birmingham [United Kingdom]
GEO:52.481369000;-1.898073000
DTSTAMP:20161105T220000Z
SUMMARY:Tribal Sphere: Etheric Connection
DESCRIPTION:Line Up: DIRTY SAFFI - (Bom Shanka music) DJ SATI - (Mutagen Records)
  NOCTURNAL PROJECT - (Tribal Sphere) DREADDEAN - (Tribal Sph…
URL:https://www.goabase.net/party/tribal-sphere-etheric-connection/91479
CATEGORIES:Psytrance Event
CLASS:PUBLIC
END:VEVENT

BEGIN:VEVENT
UID:9a4aaa87454846a4717f5e294daff689
DTSTART:20160723T220000
DTEND:20160724T060000
LOCATION:Birmingham [United Kingdom]
GEO:52.481369000;-1.898073000
DTSTAMP:20160723T220000Z
SUMMARY:Tribal Sphere Records: Infinite Ocsillation
DESCRIPTION:Line Up: ॐ LINE UP ॐ DOUBLEVISION SONASONIC SPOROPHORE DREADDEAN
  (LIVE) NOCTURNAL PROJECT OMTEC
URL:https://www.goabase.net/party/tribal-sphere-records-infinite-ocsillation/90270
CATEGORIES:Psytrance Event
CLASS:PUBLIC
END:VEVENT

BEGIN:VEVENT
UID:0593b96ea3620324f8e96151a44031c8
DTSTART:20160123T220000
DTEND:20160124T060000
LOCATION:Birmingham [United Kingdom]
GEO:52.471394400;-1.888996700
DTSTAMP:20160123T220000Z
SUMMARY:Tribal Sphere Records Party
DESCRIPTION:Line Up: NOCTURNAL PROJECT: MINDSHOP: SPOROPHORE: DREADDEAN: SONASONIC:
URL:https://www.goabase.net/party/tribal-sphere-records-party/88106
CATEGORIES:Psytrance Event
CLASS:PUBLIC
END:VEVENT

END:VCALENDAR