BEGIN:VCALENDAR
VERSION:2.0
PRODID:goabase.net iCalendar 2026
X-WR-CALNAME:goabase.net - parties and people 
X-WR-TIMEZONE;VALUE=TEXT:Europe/Berlin
CALSCALE:GREGORIAN
BEGIN:VTIMEZONE
TZID:Europe/Berlin
X-LIC-LOCATION:Europe/Berlin
BEGIN:DAYLIGHT
TZOFFSETFROM:+0100
TZOFFSETTO:+0200
TZNAME:CEST
DTSTART:19700329T020000
RRULE:FREQ=YEARLY;INTERVAL=1;BYDAY=-1SU;BYMONTH=3
END:DAYLIGHT
BEGIN:STANDARD
TZOFFSETFROM:+0200
TZOFFSETTO:+0100
TZNAME:CET
DTSTART:19701025T030000
RRULE:FREQ=YEARLY;INTERVAL=1;BYDAY=-1SU;BYMONTH=10
END:STANDARD
END:VTIMEZONE

BEGIN:VEVENT
UID:92c70e6304f0ab76146fec35fa7773bc
DTSTART:20180430T223000
DTEND:20180501T060000
LOCATION:Roma [Italy]
GEO:41.893257100;12.483061800
DTSTAMP:20180430T223000Z
SUMMARY:Dream Dimensions
DESCRIPTION:Line Up: ॐ|||-DrEaM_DiMenSi0nS-|||ॐ ★ DUE SOUND ★ DUE SALE
  Tekno/techno & Psytrance ★ NAVETTA GRATIS CHE PORTA DALLA METRO ANAGNI…
URL:https://www.goabase.net/party/dream-dimensions/99873
CATEGORIES:Psytrance Event
CLASS:PUBLIC
END:VEVENT

END:VCALENDAR