BEGIN:VCALENDAR
VERSION:2.0
PRODID:goabase.net iCalendar 2026
X-WR-CALNAME:goabase.net - parties and people 
X-WR-TIMEZONE;VALUE=TEXT:Europe/Berlin
CALSCALE:GREGORIAN
BEGIN:VTIMEZONE
TZID:Europe/Berlin
X-LIC-LOCATION:Europe/Berlin
BEGIN:DAYLIGHT
TZOFFSETFROM:+0100
TZOFFSETTO:+0200
TZNAME:CEST
DTSTART:19700329T020000
RRULE:FREQ=YEARLY;INTERVAL=1;BYDAY=-1SU;BYMONTH=3
END:DAYLIGHT
BEGIN:STANDARD
TZOFFSETFROM:+0200
TZOFFSETTO:+0100
TZNAME:CET
DTSTART:19701025T030000
RRULE:FREQ=YEARLY;INTERVAL=1;BYDAY=-1SU;BYMONTH=10
END:STANDARD
END:VTIMEZONE

BEGIN:VEVENT
UID:e25c23a63358c2d76099807e41e7a9c8
DTSTART:20200118T190000
DTEND:20200119T060000
LOCATION:Achim [Germany]
GEO:53.000000000;9.000000000
DTSTAMP:20200118T190000Z
SUMMARY:Psygeflüster
DESCRIPTION:Line Up: Special Act: Statmatica (Klangwelten) N.F.D. 1.0 S.O.K.I.
  Helgos DGSFN DJ Gusa
URL:https://www.goabase.net/party/psygefluester/105779
CATEGORIES:Psytrance Event
CLASS:PUBLIC
END:VEVENT

BEGIN:VEVENT
UID:51279903533428a680e2f4c3a7bd2cff
DTSTART:20191005T223000
DTEND:20191006T090000
LOCATION:Achim [Germany]
GEO:53.008049000;9.049537700
DTSTAMP:20191005T223000Z
SUMMARY:Noctambula meets Lebendige Menschen
DESCRIPTION:Line Up: Live 🌟 Lebendige Menschen ॐ DJ's 🌟 Helgos 🌟 PEER 🌟 DGSFN 🌟
  S.o.k.i B2B N.f.d.1.0
URL:https://www.goabase.net/party/noctambula-meets-lebendige-menschen/104836
CATEGORIES:Psytrance Event
CLASS:PUBLIC
END:VEVENT

BEGIN:VEVENT
UID:8b17a0abdb496b207d0ad5f8232a1a63
DTSTART:20190216T230000
DTEND:20190217T060000
LOCATION:Achim [Germany]
GEO:53.012191200;9.034392800
DTSTAMP:20190216T230000Z
SUMMARY:Noctambula
DESCRIPTION:Line Up: ॐ Anatta (Progressive Trance) ॐ Helgos (Psytrance) ॐ DGSFN
  (Darkpsy+)
URL:https://www.goabase.net/party/noctambula/102856
CATEGORIES:Psytrance Event
CLASS:PUBLIC
END:VEVENT

END:VCALENDAR