BEGIN:VCALENDAR
VERSION:2.0
PRODID:goabase.net iCalendar 2026
X-WR-CALNAME:goabase.net - parties and people 
X-WR-TIMEZONE;VALUE=TEXT:Europe/Berlin
CALSCALE:GREGORIAN
BEGIN:VTIMEZONE
TZID:Europe/Berlin
X-LIC-LOCATION:Europe/Berlin
BEGIN:DAYLIGHT
TZOFFSETFROM:+0100
TZOFFSETTO:+0200
TZNAME:CEST
DTSTART:19700329T020000
RRULE:FREQ=YEARLY;INTERVAL=1;BYDAY=-1SU;BYMONTH=3
END:DAYLIGHT
BEGIN:STANDARD
TZOFFSETFROM:+0200
TZOFFSETTO:+0100
TZNAME:CET
DTSTART:19701025T030000
RRULE:FREQ=YEARLY;INTERVAL=1;BYDAY=-1SU;BYMONTH=10
END:STANDARD
END:VTIMEZONE

BEGIN:VEVENT
UID:974bf694c23903b414703555709d388d
DTSTART:20200612T120000
DTEND:20200614T220000
LOCATION:Dordrecht [Netherlands]
GEO:51.795806900;4.677848800
DTSTAMP:20200612T120000Z
SUMMARY:Universal Mind Festival
DESCRIPTION:Line Up: More info soon
URL:https://www.goabase.net/festival/universal-mind-festival/104407
CATEGORIES:Psytrance Event
CLASS:PUBLIC
END:VEVENT

BEGIN:VEVENT
UID:a4159c1778c6d17592c216c1f3b64a1e
DTSTART:20190510T230000
DTEND:20190511T080000
LOCATION:Rotterdam [Netherlands]
GEO:51.897557068;4.494574600
DTSTAMP:20190510T230000Z
SUMMARY:Psychedleic Rave
DESCRIPTION:Line Up: Mainstage: hosted by Sacred Technology - Electric Universe
  (DE) - Outsiders (IL) - Imagine Mars (IL) - Volcano (IL) - Ja…
URL:https://www.goabase.net/party/psychedleic-rave/102759
CATEGORIES:Psytrance Event
CLASS:PUBLIC
END:VEVENT

BEGIN:VEVENT
UID:3b0c501427e1c326f358cbff70908b85
DTSTART:20181020T210000
DTEND:20181021T080000
LOCATION:Amsterdam [Netherlands]
GEO:52.402973200;4.914487800
DTSTAMP:20181020T210000Z
SUMMARY:Psychedelic Rave: NanOMega!
DESCRIPTION:Line Up: DJ Tristan Altruism / DJ Thatha 3 Of LIfe (Pixel & G.M.S)
  Pixel Xerox Dick Trevor Laughing Buddha Space Cat Sub6 (Offici…
URL:https://www.goabase.net/party/psychedelic-rave-nanomega/100280
CATEGORIES:Psytrance Event
CLASS:PUBLIC
END:VEVENT

BEGIN:VEVENT
UID:ae69feea7f3d07eccf1148aca6c4c113
DTSTART:20180526T230000
DTEND:20180526T230000
LOCATION:Rotterdam [Netherlands]
GEO:51.897557068;4.494574600
DTSTAMP:20180526T230000Z
SUMMARY:Psychedelic Rave
DESCRIPTION:Line Up: Mainstage: Ajja CH Ace Ventura by Yoni Oshrat CH Liquid Soul
  (official) CH Sonic Species (UK) Earthspace (BR) Darzid Dis…
URL:https://www.goabase.net/party/psychedelic-rave/98085
CATEGORIES:Psytrance Event
CLASS:PUBLIC
END:VEVENT

BEGIN:VEVENT
UID:ee569e498b6824ae6ff7e0ad8c8f28c9
DTSTART:20180310T230000
DTEND:20180311T080000
LOCATION:Amsterdam [Netherlands]
GEO:52.402973200;4.914487800
DTSTAMP:20180310T230000Z
SUMMARY:Time Traveler
DESCRIPTION:Line Up: A psychedelic gathering that will be held at the legendary
  Warehouse Elementenstraat in Amsterdam! Mainstage: (full on /…
URL:https://www.goabase.net/party/time-traveler/95594
CATEGORIES:Psytrance Event
CLASS:PUBLIC
END:VEVENT

BEGIN:VEVENT
UID:2ffb726733e645e36958912f156d706a
DTSTART:20171125T220000
DTEND:20171126T070000
LOCATION:Rotterdam [Netherlands]
GEO:51.922897300;4.463172900
DTSTAMP:20171125T220000Z
SUMMARY:Psychedelic Rave
DESCRIPTION:Line Up: Mainstage: Rinkadink (Future Music) Space Tribe (Nano
  Records) Laughing Buddha (Nano Records) Earthling (Future Music Re…
URL:https://www.goabase.net/party/psychedelic-rave/95593
CATEGORIES:Psytrance Event
CLASS:PUBLIC
END:VEVENT

BEGIN:VEVENT
UID:4faf1216f8722a376746300bd02de917
DTSTART:20171021T220000
DTEND:20171022T080000
LOCATION:Amsterdam [Netherlands]
GEO:52.384222977;4.927968804
DTSTAMP:20171021T220000Z
SUMMARY:Psychedelic Rave presents NANO Records
DESCRIPTION:Line Up: Psychedelic Rave presents NANO RECORDS!! Mainstage: NANO
  RECORDS TRISTAN - DJ Tristan LOUD - Loud AVALON - Avalon SONIC…
URL:https://www.goabase.net/party/psychedelic-rave-presents-nano-records/95083
CATEGORIES:Psytrance Event
CLASS:PUBLIC
END:VEVENT

BEGIN:VEVENT
UID:973579cab5e334e721a994e86135beba
DTSTART:20170513T220000
DTEND:20170514T070000
LOCATION:Rotterdam [Netherlands]
GEO:51.897421124;4.493919744
DTSTAMP:20170513T220000Z
SUMMARY:Psychedelic Rave (SOLD OUT)
DESCRIPTION:Line Up: VERY EARLY TRIPPERS (100 max) SOLD OUT! EARLY TRIPPERS €
  17,50 (400 max) SOLD OUT! REGULAR TICKETS € 20,00 SOLD OUT! NO…
URL:https://www.goabase.net/party/psychedelic-rave-sold-out/95084
CATEGORIES:Psytrance Event
CLASS:PUBLIC
END:VEVENT

BEGIN:VEVENT
UID:011430e3e5b9ddc5107e31692fcc43ec
DTSTART:20161126T220000
DTEND:20161127T070000
LOCATION:rotterdam [Netherlands]
GEO:51.922897300;4.463172900
DTSTAMP:20161126T220000Z
SUMMARY:psychedelic rave
DESCRIPTION:Line Up: MAINSTAGE: TRISTAN (NANO MUSIC, UK) LOUD (NANO MUSIC, IL)
  SONIC SPECIES (Alchemy, UK) JAKAAN (Lucid Spirit Records, NL)…
URL:https://www.goabase.net/party/psychedelic-rave/89363
CATEGORIES:Psytrance Event
CLASS:PUBLIC
END:VEVENT

BEGIN:VEVENT
UID:45054b888a5c422a05329204725e3407
DTSTART:20160507T220000
DTEND:20160508T080000
LOCATION:amsterdam / zwanenburg [Netherlands]
GEO:0.000000000;0.000000000
DTSTAMP:20160507T220000Z
SUMMARY:Infinite Dreams- One Year Anniversary
DESCRIPTION:Line Up: LINE UP MAINSTAGE: VIBE TRIBE (retroset, MainStage Records,
  Israël) N-KORE (Biopulse Records, UK) FIRAGA (B2B Producti…
URL:https://www.goabase.net/party/infinite-dreams-one-year-anniversary/88235
CATEGORIES:Psytrance Event
CLASS:PUBLIC
END:VEVENT

BEGIN:VEVENT
UID:e06d6d36c755bfae443ff8f01323d88d
DTSTART:20160305T220000
DTEND:20160306T080000
LOCATION:Amsterdam / zwanenburg [Netherlands]
GEO:52.403506350;4.768119468
DTSTAMP:20160305T220000Z
SUMMARY:Infinite Dreams - The next Chapter
DESCRIPTION:Line Up: Line up Mainstage SYNSUN (ukr) GUADALOOP (bra) SEBIDELICA
  (be) STROHPORIA (be) JAKAAN FLUOFREAX Chill out SHIVANKI KYBOR…
URL:https://www.goabase.net/party/infinite-dreams-the-next-chapter/88234
CATEGORIES:Psytrance Event
CLASS:PUBLIC
END:VEVENT

BEGIN:VEVENT
UID:3fe43b8e907df8136511f17125b94c62
DTSTART:20151114T220000
DTEND:20151115T080000
LOCATION:Amsterdam [Netherlands]
GEO:52.371009800;4.900112200
DTSTAMP:20151114T220000Z
SUMMARY:Infinite Dreams
DESCRIPTION:Line Up: Since our last edition many people have asked us for a second
  edition, So here it is....November 14th we will be back wi…
URL:https://www.goabase.net/party/infinite-dreams/85604
CATEGORIES:Psytrance Event
CLASS:PUBLIC
END:VEVENT

END:VCALENDAR