BEGIN:VCALENDAR
VERSION:2.0
PRODID:goabase.net iCalendar 2026
X-WR-CALNAME:goabase.net - parties and people 
X-WR-TIMEZONE;VALUE=TEXT:Europe/Berlin
CALSCALE:GREGORIAN
BEGIN:VTIMEZONE
TZID:Europe/Berlin
X-LIC-LOCATION:Europe/Berlin
BEGIN:DAYLIGHT
TZOFFSETFROM:+0100
TZOFFSETTO:+0200
TZNAME:CEST
DTSTART:19700329T020000
RRULE:FREQ=YEARLY;INTERVAL=1;BYDAY=-1SU;BYMONTH=3
END:DAYLIGHT
BEGIN:STANDARD
TZOFFSETFROM:+0200
TZOFFSETTO:+0100
TZNAME:CET
DTSTART:19701025T030000
RRULE:FREQ=YEARLY;INTERVAL=1;BYDAY=-1SU;BYMONTH=10
END:STANDARD
END:VTIMEZONE

BEGIN:VEVENT
UID:e4041c75fb41b68734104e08f0003be9
DTSTART:20200314T140000
DTEND:20200314T230000
LOCATION:Basel [Switzerland]
GEO:47.558400000;7.573270000
DTSTAMP:20200314T140000Z
SUMMARY:Gestandet in Goa
DESCRIPTION:Line Up: Psilosoph *Vinyl-Set Miami Dolphins [Zoad] Saibot [Galama
  Records] Braingineers *live [ Bom Shanka Music] Dj Critical…
URL:https://www.goabase.net/party/gestandet-in-goa/106534
CATEGORIES:Psytrance Event
CLASS:PUBLIC
END:VEVENT

BEGIN:VEVENT
UID:040a3587126a2d752f99c65e9c6027a7
DTSTART:20200213T190000
DTEND:20200214T040000
LOCATION:Basel [Switzerland]
GEO:47.558400000;7.573270000
DTSTAMP:20200213T190000Z
SUMMARY:DJ Silas, Eintopf & Sekt
DESCRIPTION:Line Up: DJ Silas
URL:https://www.goabase.net/party/dj-silas-eintopf-sekt/106311
CATEGORIES:Psytrance Event
CLASS:PUBLIC
END:VEVENT

END:VCALENDAR