BEGIN:VCALENDAR
VERSION:2.0
PRODID:goabase.net iCalendar 2026
X-WR-CALNAME:goabase.net - parties and people 
X-WR-TIMEZONE;VALUE=TEXT:Europe/Berlin
CALSCALE:GREGORIAN
BEGIN:VTIMEZONE
TZID:Europe/Berlin
X-LIC-LOCATION:Europe/Berlin
BEGIN:DAYLIGHT
TZOFFSETFROM:+0100
TZOFFSETTO:+0200
TZNAME:CEST
DTSTART:19700329T020000
RRULE:FREQ=YEARLY;INTERVAL=1;BYDAY=-1SU;BYMONTH=3
END:DAYLIGHT
BEGIN:STANDARD
TZOFFSETFROM:+0200
TZOFFSETTO:+0100
TZNAME:CET
DTSTART:19701025T030000
RRULE:FREQ=YEARLY;INTERVAL=1;BYDAY=-1SU;BYMONTH=10
END:STANDARD
END:VTIMEZONE

BEGIN:VEVENT
UID:d7d27a052f078a11aa72bdbc33c530dd
DTSTART:20190928T100000
DTEND:20190928T220000
LOCATION:Lyss [Switzerland]
GEO:47.072135900;7.305262100
DTSTAMP:20190928T100000Z
SUMMARY:MfM Daydane
DESCRIPTION:Line Up: 🔶🔶🔸🔸 ♫ LINE UP ♫ 🔸🔸🔶🔶 ☢ Headliner & Gäste ☢ &gt-&gt-&gt- ☀
  Soulbeat ☀ &lt-&lt-&lt- Progvision Records &gt-&gt-&gt- ☀ P…
URL:https://www.goabase.net/party/mfm-daydane/104782
CATEGORIES:Psytrance Event
CLASS:PUBLIC
END:VEVENT

BEGIN:VEVENT
UID:03172ba464b1457d1274736bc1b55fe8
DTSTART:20190330T200000
DTEND:20190331T080000
LOCATION:Aarberg [Switzerland]
GEO:47.042446200;7.269806900
DTSTAMP:20190330T200000Z
SUMMARY:Summertime Opening by MfM
DESCRIPTION:Line Up: 🔶🔶🔸🔸 ♫ LINE UP ♫ 🔸🔸🔶🔶 &gt-&gt-&gt- ☀ JSP ☀ &lt-&lt-&lt-
  &gt-&gt- Musik für Menschen &lt-&lt- &gt-&gt-&gt- ☀ SchanOhm ☀…
URL:https://www.goabase.net/party/summertime-opening-by-mfm/102616
CATEGORIES:Psytrance Event
CLASS:PUBLIC
END:VEVENT

END:VCALENDAR