BEGIN:VCALENDAR
VERSION:2.0
PRODID:goabase.net iCalendar 2026
X-WR-CALNAME:goabase.net - parties and people 
X-WR-TIMEZONE;VALUE=TEXT:Europe/Berlin
CALSCALE:GREGORIAN
BEGIN:VTIMEZONE
TZID:Europe/Berlin
X-LIC-LOCATION:Europe/Berlin
BEGIN:DAYLIGHT
TZOFFSETFROM:+0100
TZOFFSETTO:+0200
TZNAME:CEST
DTSTART:19700329T020000
RRULE:FREQ=YEARLY;INTERVAL=1;BYDAY=-1SU;BYMONTH=3
END:DAYLIGHT
BEGIN:STANDARD
TZOFFSETFROM:+0200
TZOFFSETTO:+0100
TZNAME:CET
DTSTART:19701025T030000
RRULE:FREQ=YEARLY;INTERVAL=1;BYDAY=-1SU;BYMONTH=10
END:STANDARD
END:VTIMEZONE

BEGIN:VEVENT
UID:86024181a6292ee8fb9a94229b8e16af
DTSTART:20081220T220000
DTEND:20081221T200000
LOCATION:Hahnenklee / Harz [Germany]
GEO:0.000000000;0.000000000
DTSTAMP:20081220T220000Z
SUMMARY:WinterSonnenWende (Springfield´s B-Day)
DESCRIPTION:
URL:https://www.goabase.net/party/wintersonnenwende-springfields-b-day/42167
CATEGORIES:Psytrance Event
CLASS:PUBLIC
END:VEVENT

BEGIN:VEVENT
UID:007989bdc5fda24a5e97532c41628c43
DTSTART:20061201T230000
DTEND:20061202T120000
LOCATION:Braunschweig [Germany]
GEO:0.000000000;0.000000000
DTSTAMP:20061201T230000Z
SUMMARY:Nachtraum
DESCRIPTION:
URL:https://www.goabase.net/party/nachtraum/27942
CATEGORIES:Psytrance Event
CLASS:PUBLIC
END:VEVENT

END:VCALENDAR