BEGIN:VCALENDAR
VERSION:2.0
PRODID:goabase.net iCalendar 2026
X-WR-CALNAME:goabase.net - parties and people 
X-WR-TIMEZONE;VALUE=TEXT:Europe/Berlin
CALSCALE:GREGORIAN
BEGIN:VTIMEZONE
TZID:Europe/Berlin
X-LIC-LOCATION:Europe/Berlin
BEGIN:DAYLIGHT
TZOFFSETFROM:+0100
TZOFFSETTO:+0200
TZNAME:CEST
DTSTART:19700329T020000
RRULE:FREQ=YEARLY;INTERVAL=1;BYDAY=-1SU;BYMONTH=3
END:DAYLIGHT
BEGIN:STANDARD
TZOFFSETFROM:+0200
TZOFFSETTO:+0100
TZNAME:CET
DTSTART:19701025T030000
RRULE:FREQ=YEARLY;INTERVAL=1;BYDAY=-1SU;BYMONTH=10
END:STANDARD
END:VTIMEZONE

BEGIN:VEVENT
UID:541d0a4a283dfb478aefebbdbfbb4394
DTSTART:20130330T220000
DTEND:20130331T150000
LOCATION:Berlin [Germany]
GEO:0.000000000;0.000000000
DTSTAMP:20130330T220000Z
SUMMARY:Late Blossom
DESCRIPTION:Line Up: NEW
URL:https://www.goabase.net/party/late-blossom/69293
CATEGORIES:Psytrance Event
CLASS:PUBLIC
END:VEVENT

BEGIN:VEVENT
UID:224a5871ba5e8ba009936b3e65e03347
DTSTART:20120915T233000
DTEND:20120916T160000
LOCATION:London [United Kingdom]
GEO:0.000000000;0.000000000
DTSTAMP:20120915T233000Z
SUMMARY:THE LATE BLOSSOM
DESCRIPTION:Line Up: LE DRUIDE LIVE (FR) FIRST TIME IN UK Fantazy Records SCOPE
  LIVE (BL) Lost theory records ATARO LIVE (IR) free radical…
URL:https://www.goabase.net/party/the-late-blossom/66225
CATEGORIES:Psytrance Event
CLASS:PUBLIC
END:VEVENT

BEGIN:VEVENT
UID:e2d5698035fc6ce48ece1b8627aa244a
DTSTART:20120310T233000
DTEND:20120311T160000
LOCATION:london [United Kingdom]
GEO:0.000000000;0.000000000
DTSTAMP:20120310T233000Z
SUMMARY:the late blossom
DESCRIPTION:Line Up: KINDZA (osom music) live RUSSIA ANTAGON (damaru records) live
  GERMANY VIRTUANOISE ( noise poison / biomechanikal /…
URL:https://www.goabase.net/party/the-late-blossom/63484
CATEGORIES:Psytrance Event
CLASS:PUBLIC
END:VEVENT

END:VCALENDAR