BEGIN:VCALENDAR
VERSION:2.0
PRODID:goabase.net iCalendar 2026
X-WR-CALNAME:goabase.net - parties and people 
X-WR-TIMEZONE;VALUE=TEXT:Europe/Berlin
CALSCALE:GREGORIAN
BEGIN:VTIMEZONE
TZID:Europe/Berlin
X-LIC-LOCATION:Europe/Berlin
BEGIN:DAYLIGHT
TZOFFSETFROM:+0100
TZOFFSETTO:+0200
TZNAME:CEST
DTSTART:19700329T020000
RRULE:FREQ=YEARLY;INTERVAL=1;BYDAY=-1SU;BYMONTH=3
END:DAYLIGHT
BEGIN:STANDARD
TZOFFSETFROM:+0200
TZOFFSETTO:+0100
TZNAME:CET
DTSTART:19701025T030000
RRULE:FREQ=YEARLY;INTERVAL=1;BYDAY=-1SU;BYMONTH=10
END:STANDARD
END:VTIMEZONE

BEGIN:VEVENT
UID:77605d8b02b2bccf6d1e3976627fdbce
DTSTART:20190126T233000
DTEND:20190127T060000
LOCATION:Girona [Spain]
GEO:41.823620000;2.996492000
DTSTAMP:20190126T233000Z
SUMMARY:WINTER FESTIVAL
DESCRIPTION:Line Up: WINTER FESTIVAL 2 stages:::: Techno// Trance STAGE TECHNO Lia
  Jensen - Dj set & violinist show (Sunset Tribe) Fergis - D…
URL:https://www.goabase.net/party/winter-festival/102613
CATEGORIES:Psytrance Event
CLASS:PUBLIC
END:VEVENT

END:VCALENDAR