BEGIN:VCALENDAR
VERSION:2.0
PRODID:goabase.net iCalendar 2026
X-WR-CALNAME:goabase.net - parties and people 
X-WR-TIMEZONE;VALUE=TEXT:Europe/Berlin
CALSCALE:GREGORIAN
BEGIN:VTIMEZONE
TZID:Europe/Berlin
X-LIC-LOCATION:Europe/Berlin
BEGIN:DAYLIGHT
TZOFFSETFROM:+0100
TZOFFSETTO:+0200
TZNAME:CEST
DTSTART:19700329T020000
RRULE:FREQ=YEARLY;INTERVAL=1;BYDAY=-1SU;BYMONTH=3
END:DAYLIGHT
BEGIN:STANDARD
TZOFFSETFROM:+0200
TZOFFSETTO:+0100
TZNAME:CET
DTSTART:19701025T030000
RRULE:FREQ=YEARLY;INTERVAL=1;BYDAY=-1SU;BYMONTH=10
END:STANDARD
END:VTIMEZONE

BEGIN:VEVENT
UID:c2b3e2cac8e8c562a23eb0c28d60b3f2
DTSTART:20180831T230000
DTEND:20180901T100000
LOCATION:Hamburg [Germany]
GEO:53.550342600;10.000654200
DTSTAMP:20180831T230000Z
SUMMARY:100% Proggy - Visitors, Naturalize & more
DESCRIPTION:Line Up: Lineup 🕉️ 🇩🇰Naturalize - Bluetunes Records Dänemark ▶️Brain
  Vibrations - 100% Proggy Underdog Rec. DK ▶️Matzen - Innen &…
URL:https://www.goabase.net/party/100-proggy-visitors-naturalize-more/100828
CATEGORIES:Psytrance Event
CLASS:PUBLIC
END:VEVENT

END:VCALENDAR