BEGIN:VCALENDAR
VERSION:2.0
PRODID:goabase.net iCalendar 2026
X-WR-CALNAME:goabase.net - parties and people 
X-WR-TIMEZONE;VALUE=TEXT:Europe/Berlin
CALSCALE:GREGORIAN
BEGIN:VTIMEZONE
TZID:Europe/Berlin
X-LIC-LOCATION:Europe/Berlin
BEGIN:DAYLIGHT
TZOFFSETFROM:+0100
TZOFFSETTO:+0200
TZNAME:CEST
DTSTART:19700329T020000
RRULE:FREQ=YEARLY;INTERVAL=1;BYDAY=-1SU;BYMONTH=3
END:DAYLIGHT
BEGIN:STANDARD
TZOFFSETFROM:+0200
TZOFFSETTO:+0100
TZNAME:CET
DTSTART:19701025T030000
RRULE:FREQ=YEARLY;INTERVAL=1;BYDAY=-1SU;BYMONTH=10
END:STANDARD
END:VTIMEZONE

BEGIN:VEVENT
UID:9841d0f0c54b4f271ce7e46051c67164
DTSTART:20190309T220000
DTEND:20190310T060000
LOCATION:Berlin [Germany]
GEO:52.517036400;13.388859700
DTSTAMP:20190309T220000Z
SUMMARY:__KAYA_ Album RELEASE RITUAL II__
DESCRIPTION:Line Up: __opening: ___&gt-&lt-&lt-SUSPENSiON RiTUAL&gt-&gt-&lt-____
  __Kaya &gt-&lt-&lt-&gt- Quintessence / Alice-D &lt-&gt-&gt-&…
URL:https://www.goabase.net/party/kaya-album-release-ritual-ii/102571
CATEGORIES:Psytrance Event
CLASS:PUBLIC
END:VEVENT

BEGIN:VEVENT
UID:2eb25041a58c816ecd1642d8cd673eaa
DTSTART:20170114T230000
DTEND:20170115T100000
LOCATION:Berlin [Germany]
GEO:52.517036400;13.388859700
DTSTAMP:20170114T230000Z
SUMMARY:PATTERN THEORY_ kayas album release party_
DESCRIPTION:Line Up: _Abralabim_ (Discovalley rec, Amnesia rec) _Ankur_ (Seres
  Music) _Audiosyntax_ (Alice-D rec) _Kaya_ (Alice-D rec) _Sa…
URL:https://www.goabase.net/party/pattern-theory-kayas-album-release-party/91843
CATEGORIES:Psytrance Event
CLASS:PUBLIC
END:VEVENT

END:VCALENDAR