BEGIN:VCALENDAR
VERSION:2.0
PRODID:goabase.net iCalendar 2026
X-WR-CALNAME:goabase.net - parties and people 
X-WR-TIMEZONE;VALUE=TEXT:Europe/Berlin
CALSCALE:GREGORIAN
BEGIN:VTIMEZONE
TZID:Europe/Berlin
X-LIC-LOCATION:Europe/Berlin
BEGIN:DAYLIGHT
TZOFFSETFROM:+0100
TZOFFSETTO:+0200
TZNAME:CEST
DTSTART:19700329T020000
RRULE:FREQ=YEARLY;INTERVAL=1;BYDAY=-1SU;BYMONTH=3
END:DAYLIGHT
BEGIN:STANDARD
TZOFFSETFROM:+0200
TZOFFSETTO:+0100
TZNAME:CET
DTSTART:19701025T030000
RRULE:FREQ=YEARLY;INTERVAL=1;BYDAY=-1SU;BYMONTH=10
END:STANDARD
END:VTIMEZONE

BEGIN:VEVENT
UID:c68053f6fa4efafed471de2fda7ffba0
DTSTART:20170627T180000
DTEND:20170702T233000
LOCATION:Close to Brno [Czech Republic]
GEO:49.192131000;16.611040100
DTSTAMP:20170627T180000Z
SUMMARY:Masters Of Puppets Open Air 2017
DESCRIPTION:Line Up: We are really Amped to present you 2017's Edition of Masters
  Of Puppets Open Air! Gates Open 26.06. Afterparty from 02.0…
URL:https://www.goabase.net/festival/masters-of-puppets-open-air-2017/90988
CATEGORIES:Psytrance Event
CLASS:PUBLIC
END:VEVENT

BEGIN:VEVENT
UID:3382e3ca09ef2e36b802c992a4591860
DTSTART:20170626T120000
DTEND:20170702T233000
LOCATION:close to Brno [Czech Republic]
GEO:0.000000000;0.000000000
DTSTAMP:20170626T120000Z
SUMMARY:Masters Of Puppets 2017
DESCRIPTION:Line Up: ■RAGESTAGE■ --LINE-UP CLOSED--LINE-UP CLOSED--LINE-UP
  CLOSED-- ■Masters Of P…
URL:https://www.goabase.net/party/masters-of-puppets-2017/92497
CATEGORIES:Psytrance Event
CLASS:PUBLIC
END:VEVENT

BEGIN:VEVENT
UID:9583990b33d50a4d9f2baca725584ea0
DTSTART:20170211T220000
DTEND:20170212T060000
LOCATION:Vienna [Austria]
GEO:48.146040000;16.382110000
DTSTAMP:20170211T220000Z
SUMMARY:❆Masters Of Puppets Winterspecial❆ ft. Lambda Labs QX 3 !!!LOCATIONCHANGE!!!
DESCRIPTION:Line Up: !!!LOCATIONCHANGE/LOCATIONCHANGE/LOCATIONCHANGE!!! -Music is
  the language of the Soul- (english below) Am zweiten Samsta…
URL:https://www.goabase.net/party/masters-of-puppets-winterspecial-ft-lambda-labs-qx-3-locationchange/92498
CATEGORIES:Psytrance Event
CLASS:PUBLIC
END:VEVENT

BEGIN:VEVENT
UID:01a6e2e7a9f13fd77cf2e21a86b0a5a0
DTSTART:20160629T120000
DTEND:20160703T220000
LOCATION:Secret Location [Czech Republic]
GEO:0.000000000;0.000000000
DTSTAMP:20160629T120000Z
SUMMARY:Masters Of Puppets Open Air 2016
DESCRIPTION:Line Up: ■ Huge International Lineup ■ 1500 limited Tickets ■ Three
  Stages with a broad variety of Psychedelic Music ■ All Stages…
URL:https://www.goabase.net/party/masters-of-puppets-open-air-2016/86969
CATEGORIES:Psytrance Event
CLASS:PUBLIC
END:VEVENT

BEGIN:VEVENT
UID:9f512810a3d32d246a16ea964bc11211
DTSTART:20160525T220000
DTEND:20160526T090000
LOCATION:Wien [Austria]
GEO:48.208465600;16.373090700
DTSTAMP:20160525T220000Z
SUMMARY:Masters of Puppets Open Air - Preparty - LOCATION UPDATE
DESCRIPTION:Line Up: ■POWERED BY FUNKTION ONE ■ ■Exceptional Uv Decorations and 3D
  Mappings■ ■Massive International…
URL:https://www.goabase.net/party/masters-of-puppets-open-air-preparty-location-update/89570
CATEGORIES:Psytrance Event
CLASS:PUBLIC
END:VEVENT

BEGIN:VEVENT
UID:3f04b5236d71ede21f8d3ff2a158aeda
DTSTART:20151226T220000
DTEND:20151227T120000
LOCATION:nimmernimmerland [Austria]
GEO:0.000000000;0.000000000
DTSTAMP:20151226T220000Z
SUMMARY:Masters of Puppets Winter Special
DESCRIPTION:Line Up: tba
URL:https://www.goabase.net/party/masters-of-puppets-winter-special/83339
CATEGORIES:Psytrance Event
CLASS:PUBLIC
END:VEVENT

BEGIN:VEVENT
UID:02d14c86bee558beb1a49b34e0a51af1
DTSTART:20150905T160000
DTEND:20150906T083000
LOCATION:nimmernimmerland [Austria]
GEO:0.000000000;0.000000000
DTSTAMP:20150905T160000Z
SUMMARY:Masters of Puppets -Last Summer Light-
DESCRIPTION:Line Up: tba
URL:https://www.goabase.net/party/masters-of-puppets-last-summer-light/83337
CATEGORIES:Psytrance Event
CLASS:PUBLIC
END:VEVENT

BEGIN:VEVENT
UID:bcfdce4c2282d4a9db7ef69e00f4ab32
DTSTART:20150604T180000
DTEND:20150607T180000
LOCATION:coordinates below [Hungary]
GEO:47.997068000;17.196087100
DTSTAMP:20150604T180000Z
SUMMARY:Masters Of Puppets Open Air
DESCRIPTION:Line Up: ■Huge International Lineup ■ 999 Tickets ■ 3 Stages■ ■ ■All
  Stages Power…
URL:https://www.goabase.net/festival/masters-of-puppets-open-air/80797
CATEGORIES:Psytrance Event
CLASS:PUBLIC
END:VEVENT

BEGIN:VEVENT
UID:ed3c8bf734a62a6d2b21fa0449092657
DTSTART:20150403T220000
DTEND:20150404T120000
LOCATION:Wien [Austria]
GEO:48.208465600;16.373090700
DTSTAMP:20150403T220000Z
SUMMARY:Masters Of Puppets Pres. BRAINBUSTERS -World Debut-
DESCRIPTION:Line Up: Powered by Funktion One from Decoordination Rec. This time we
  are proud to present you something very special: &lt-&lt-&…
URL:https://www.goabase.net/party/masters-of-puppets-pres-brainbusters-world-debut/79648
CATEGORIES:Psytrance Event
CLASS:PUBLIC
END:VEVENT

BEGIN:VEVENT
UID:651b7c4478411d6b4f3458541eaad181
DTSTART:20150213T220000
DTEND:20150214T060000
LOCATION:wien [Austria]
GEO:48.208466000;16.373091000
DTSTAMP:20150213T220000Z
SUMMARY:MASTERS OF PUPPETS -the Elephant Dance- Charity
DESCRIPTION:Line Up: ----■ Outstanding International Lineup ■----- -----■Multiple
  International Deco and Visualartists■----- -…
URL:https://www.goabase.net/party/masters-of-puppets-the-elephant-dance-charity/79646
CATEGORIES:Psytrance Event
CLASS:PUBLIC
END:VEVENT

BEGIN:VEVENT
UID:5fc9d02fcd71cbea6947a06f0e083914
DTSTART:20141219T220000
DTEND:20141220T070000
LOCATION:Wien [Austria]
GEO:48.208466000;16.373091000
DTSTAMP:20141219T220000Z
SUMMARY:MASTERS OF PUPPETS Winter Special and 2ND Anniversary!!!
DESCRIPTION:Line Up: Open Your Mind Pres.: Masters of Puppets Winter Special and
  the 2ND Anniversary of Open Your Mind 3 Liveacts, 2 Djs, Mul…
URL:https://www.goabase.net/party/masters-of-puppets-winter-special-and-2nd-anniversary/78273
CATEGORIES:Psytrance Event
CLASS:PUBLIC
END:VEVENT

BEGIN:VEVENT
UID:558f7ce6990218da71a9443346838a60
DTSTART:20141003T210000
DTEND:20141004T080000
LOCATION:Burgruine Aggstein [Austria]
GEO:0.000000000;0.000000000
DTSTAMP:20141003T210000Z
SUMMARY:MASTERS OF PUPPETS Vol. 4 -Portuguese Nights
DESCRIPTION:Line Up: Open Your Mind Proudly Presents: Masters of Puppets Vol. 4:
  Portuguese Nights Our First Preparty for Masters of Puppets…
URL:https://www.goabase.net/party/masters-of-puppets-vol-4-portuguese-nights/78490
CATEGORIES:Psytrance Event
CLASS:PUBLIC
END:VEVENT

BEGIN:VEVENT
UID:890767fd64175d9e63046123be1fdfa4
DTSTART:20140509T180000
DTEND:20140511T160000
LOCATION:Rajka Beach [Austria]
GEO:0.000000000;0.000000000
DTSTAMP:20140509T180000Z
SUMMARY:Open Your Mind Pres. MASTERS OF PUPPETS OPEN AIR!!! Lauras 22nd
DESCRIPTION:Line Up: Amazing Location, Huge International Lineup, Electronic and
  Instrumental Performances, Mindblowing Decorations, High-End…
URL:https://www.goabase.net/festival/open-your-mind-pres-masters-of-puppets-open-air-lauras-22nd/78491
CATEGORIES:Psytrance Event
CLASS:PUBLIC
END:VEVENT

BEGIN:VEVENT
UID:d30d3c5c98c2009ce51372bb847b9e4d
DTSTART:20140411T220000
DTEND:20140412T080000
LOCATION:Wien [Austria]
GEO:0.000000000;0.000000000
DTSTAMP:20140411T220000Z
SUMMARY:Open Your Mind Pres. MASTERS OF PUPPETS Vol.2 Flows 25th
DESCRIPTION:Line Up: Open Your Mind Presents: MASTERS OF PUPPETS VOL. 2 Flows Bday
  FUNKTION ONE SOUND, SHOUTON 1st TIME IN AUSTRIA, 4 INTERNA…
URL:https://www.goabase.net/party/open-your-mind-pres-masters-of-puppets-vol2-flows-25th/78494
CATEGORIES:Psytrance Event
CLASS:PUBLIC
END:VEVENT

BEGIN:VEVENT
UID:352bc09b2cbed9b26dd4d36f83d70ec2
DTSTART:20140308T220000
DTEND:20140309T130000
LOCATION:Amstetten [Austria]
GEO:0.000000000;0.000000000
DTSTAMP:20140308T220000Z
SUMMARY:Open Your Mind Pres. MASTERS OF PUPPETS Vol.1 (INSECTOR NEONGLO PARANDROID&More)
DESCRIPTION:Line Up: Open Your Mind Presents: MASTERS OF PUPPETS VOL. I -Born to
  Blast!!! FUNCTION ONE SOUNDSYSTEM, 2 Floors, 4 International…
URL:https://www.goabase.net/party/open-your-mind-pres-masters-of-puppets-vol1-insector-neonglo-parandroidmore/77921
CATEGORIES:Psytrance Event
CLASS:PUBLIC
END:VEVENT

BEGIN:VEVENT
UID:3c26b3a8c2be1f4f0fe3a88479395bd6
DTSTART:20131018T220000
DTEND:20131019T120000
LOCATION:nimmernimmerland [Austria]
GEO:0.000000000;0.000000000
DTSTAMP:20131018T220000Z
SUMMARY:OPEN YOUR MIND HAPPENING VOL.4: NOISE POISON RECORDS MEETS AMRAS
DESCRIPTION:Line Up: Open Your Mind Team Proudly Presents: Open Your Mind
  Happening Vol. 4 &quot;Noise Poison Records Meets Amras&quot; PRESA…
URL:https://www.goabase.net/party/open-your-mind-happening-vol4-noise-poison-records-meets-amras/74512
CATEGORIES:Psytrance Event
CLASS:PUBLIC
END:VEVENT

BEGIN:VEVENT
UID:89fab2feed253c23c4f78370ec6916c7
DTSTART:20130615T220000
DTEND:20130616T060000
LOCATION:nimmernimmerland [Austria]
GEO:0.000000000;0.000000000
DTSTAMP:20130615T220000Z
SUMMARY:OPEN YOUR MIND VOL. 3.1: 100% FLUTBENEFIZ!!!/FF releaseparty-)
DESCRIPTION:Line Up: - - SENSUS COMMUNIS (Warrojama Records/Nightshade Syndicate)
  - - -
URL:https://www.goabase.net/party/open-your-mind-vol-31-100-flutbenefizff-releaseparty/73839
CATEGORIES:Psytrance Event
CLASS:PUBLIC
END:VEVENT

BEGIN:VEVENT
UID:29fa2f63a1efad3a74d861c67f318b92
DTSTART:20130412T203000
DTEND:20130413T103000
LOCATION:Böllerbauer, Stadt Haag (Nö… [Austria]
GEO:0.000000000;0.000000000
DTSTAMP:20130412T203000Z
SUMMARY:OPEN YOUR MIND VOl. 2 Psychedelic Rock meets Psychedelic/Hi-Tech PARANDROID LIVE
DESCRIPTION:Line Up: Open Your Mind Team PROUDLY PRESENTS OPEN YOUR MIND VOL. 2
  Psychedelic Rock meets Psychedelic/Hi-Tech PARANDROID LIVE (F…
URL:https://www.goabase.net/party/open-your-mind-vol-2-psychedelic-rock-meets-psychedelichi-tech-parandroid-live/71672
CATEGORIES:Psytrance Event
CLASS:PUBLIC
END:VEVENT

BEGIN:VEVENT
UID:015e477c9f09e3db367fe024e589aa42
DTSTART:20121201T190000
DTEND:20121202T100000
LOCATION:haag, böllerbauer [Austria]
GEO:0.000000000;0.000000000
DTSTAMP:20121201T190000Z
SUMMARY:OPEN YOUR MIND - PSYCHEDELIC ROCK MEETS PSYCHEDELIC TRANCE
DESCRIPTION:Line Up: OPEN YOUR MIND HAPPENING, PSYCHEDELIC ROCK MEETS PSYCHEDELIC
  TRANCE ( NICI\'S u. DENISE\'S BIRTHDAY CELEBRATION) BANDS:…
URL:https://www.goabase.net/party/open-your-mind-psychedelic-rock-meets-psychedelic-trance/70103
CATEGORIES:Psytrance Event
CLASS:PUBLIC
END:VEVENT

END:VCALENDAR