BEGIN:VCALENDAR
VERSION:2.0
PRODID:goabase.net iCalendar 2026
X-WR-CALNAME:goabase.net - parties and people 
X-WR-TIMEZONE;VALUE=TEXT:Europe/Berlin
CALSCALE:GREGORIAN
BEGIN:VTIMEZONE
TZID:Europe/Berlin
X-LIC-LOCATION:Europe/Berlin
BEGIN:DAYLIGHT
TZOFFSETFROM:+0100
TZOFFSETTO:+0200
TZNAME:CEST
DTSTART:19700329T020000
RRULE:FREQ=YEARLY;INTERVAL=1;BYDAY=-1SU;BYMONTH=3
END:DAYLIGHT
BEGIN:STANDARD
TZOFFSETFROM:+0200
TZOFFSETTO:+0100
TZNAME:CET
DTSTART:19701025T030000
RRULE:FREQ=YEARLY;INTERVAL=1;BYDAY=-1SU;BYMONTH=10
END:STANDARD
END:VTIMEZONE

BEGIN:VEVENT
UID:13b64ed9a53f295109a0b92ecdd0b8c2
DTSTART:20061227T220000
DTEND:20061228T040000
LOCATION:Vienna [Austria]
GEO:0.000000000;0.000000000
DTSTAMP:20061227T220000Z
SUMMARY:Beatz & Breakz
DESCRIPTION:
URL:https://www.goabase.net/party/beatz-breakz/28954
CATEGORIES:Psytrance Event
CLASS:PUBLIC
END:VEVENT

BEGIN:VEVENT
UID:8a7c588936af315e503a364493ebeadf
DTSTART:20051112T200000
DTEND:20051113T080000
LOCATION:Vienna [Austria]
GEO:0.000000000;0.000000000
DTSTAMP:20051112T200000Z
SUMMARY:Ray Of Life ( Charty Event)
DESCRIPTION:Line Up: TSCHUSCHENKAPELLE MATILDA LEKO & BAND Lo Jam Fijaker Ljubinka
  Jokic & Band
URL:https://www.goabase.net/party/ray-of-life-charty-event/21290
CATEGORIES:Psytrance Event
CLASS:PUBLIC
END:VEVENT

BEGIN:VEVENT
UID:b2511bd87e6dd237baca03ca690b77a2
DTSTART:20050430T210000
DTEND:20050501T100000
LOCATION:Wien [Austria]
GEO:0.000000000;0.000000000
DTSTAMP:20050430T210000Z
SUMMARY:EVOLUTION! MIt SAFI CONNECTION & LIQUID SOUL LIVE!!!!!!
DESCRIPTION:Line Up: LIQUD SOUL - (Interzone Rec. Schweiz ) , , , , to listen
  liquid soul, ____…
URL:https://www.goabase.net/party/evolution-mit-safi-connection-liquid-soul-live/15926
CATEGORIES:Psytrance Event
CLASS:PUBLIC
END:VEVENT

BEGIN:VEVENT
UID:b7bff89b85ee0eee314e56e57b3f62ba
DTSTART:20050412T083000
DTEND:20050413T040000
LOCATION:Wien [Austria]
GEO:0.000000000;0.000000000
DTSTAMP:20050412T083000Z
SUMMARY:Psychedelic Livingroom
DESCRIPTION:
URL:https://www.goabase.net/party/psychedelic-livingroom/18145
CATEGORIES:Psytrance Event
CLASS:PUBLIC
END:VEVENT

BEGIN:VEVENT
UID:17da6e4c34e09bfc209962ab8d6925ae
DTSTART:20050111T193000
DTEND:20050112T040000
LOCATION:Wien [Austria]
GEO:0.000000000;0.000000000
DTSTAMP:20050111T193000Z
SUMMARY:Psychedelic Livingroom
DESCRIPTION:
URL:https://www.goabase.net/party/psychedelic-livingroom/16698
CATEGORIES:Psytrance Event
CLASS:PUBLIC
END:VEVENT

BEGIN:VEVENT
UID:54c56828470f5adecf517bc00f9a24c5
DTSTART:20040409T210000
DTEND:20040410T100000
LOCATION:Wien [Austria]
GEO:0.000000000;0.000000000
DTSTAMP:20040409T210000Z
SUMMARY:BREEZE Cosmo´s trip to Birthdayland
DESCRIPTION:
URL:https://www.goabase.net/party/breeze-cosmos-trip-to-birthdayland/13125
CATEGORIES:Psytrance Event
CLASS:PUBLIC
END:VEVENT

BEGIN:VEVENT
UID:1f14fc94d897018c505fcaf978935759
DTSTART:20040326T220000
DTEND:20040327T060000
LOCATION:Wien [Austria]
GEO:0.000000000;0.000000000
DTSTAMP:20040326T220000Z
SUMMARY:BREEZE!  join the odysee
DESCRIPTION:
URL:https://www.goabase.net/party/breeze-join-the-odysee/13302
CATEGORIES:Psytrance Event
CLASS:PUBLIC
END:VEVENT

BEGIN:VEVENT
UID:0e6e85449b05e3b9caf66f75292a0374
DTSTART:20040314T060000
DTEND:20040314T140000
LOCATION:Wien [Austria]
GEO:0.000000000;0.000000000
DTSTAMP:20040314T060000Z
SUMMARY:Suntribe Official after hour
DESCRIPTION:
URL:https://www.goabase.net/party/suntribe-official-after-hour/13327
CATEGORIES:Psytrance Event
CLASS:PUBLIC
END:VEVENT

END:VCALENDAR