BEGIN:VCALENDAR
VERSION:2.0
PRODID:goabase.net iCalendar 2026
X-WR-CALNAME:goabase.net - parties and people 
X-WR-TIMEZONE;VALUE=TEXT:Europe/Berlin
CALSCALE:GREGORIAN
BEGIN:VTIMEZONE
TZID:Europe/Berlin
X-LIC-LOCATION:Europe/Berlin
BEGIN:DAYLIGHT
TZOFFSETFROM:+0100
TZOFFSETTO:+0200
TZNAME:CEST
DTSTART:19700329T020000
RRULE:FREQ=YEARLY;INTERVAL=1;BYDAY=-1SU;BYMONTH=3
END:DAYLIGHT
BEGIN:STANDARD
TZOFFSETFROM:+0200
TZOFFSETTO:+0100
TZNAME:CET
DTSTART:19701025T030000
RRULE:FREQ=YEARLY;INTERVAL=1;BYDAY=-1SU;BYMONTH=10
END:STANDARD
END:VTIMEZONE

BEGIN:VEVENT
UID:0f4c3a75767a28fb55692ace00961023
DTSTART:20100522T220000
DTEND:20100523T073000
LOCATION:Vienna [Austria]
GEO:0.000000000;0.000000000
DTSTAMP:20100522T220000Z
SUMMARY:ROCKIN BITCHES --) - BACK TO MARS from BRAZIL @ Planetarium
DESCRIPTION:Line Up: unsere irre Trommlercombo!!
URL:https://www.goabase.net/party/rockin-bitches-back-to-mars-from-brazil-planetarium/48604
CATEGORIES:Psytrance Event
CLASS:PUBLIC
END:VEVENT

BEGIN:VEVENT
UID:b07a172fa56805fa7009dd7f1b186876
DTSTART:20091128T140000
DTEND:20091129T200000
LOCATION:Wien [Austria]
GEO:0.000000000;0.000000000
DTSTAMP:20091128T140000Z
SUMMARY:ROCKIN BITCHES DJane-Workshop
DESCRIPTION:
URL:https://www.goabase.net/party/rockin-bitches-djane-workshop/47064
CATEGORIES:Psytrance Event
CLASS:PUBLIC
END:VEVENT

BEGIN:VEVENT
UID:0c6e9b799336bdb021ed5cb75fe233ef
DTSTART:20090606T220000
DTEND:20090607T070000
LOCATION:Vienna [Austria]
GEO:0.000000000;0.000000000
DTSTAMP:20090606T220000Z
SUMMARY:ROCKIN BITCHES - celebrating FULL MOON @ Planetarium!!
DESCRIPTION:Line Up: creareX !! Drumsession
URL:https://www.goabase.net/party/rockin-bitches-celebrating-full-moon-planetarium/42715
CATEGORIES:Psytrance Event
CLASS:PUBLIC
END:VEVENT

BEGIN:VEVENT
UID:b32b2bd2aece6b533d83a39e6c677fb5
DTSTART:20090306T230000
DTEND:20090307T070000
LOCATION:Wien [Austria]
GEO:0.000000000;0.000000000
DTSTAMP:20090306T230000Z
SUMMARY:ROCKIN BITCHES - the girls vs. the boyzzzz --)
DESCRIPTION:Line Up: ... auch bei den Trommlern heißt es: the girls vs. the
  boyzzzz --)
URL:https://www.goabase.net/party/rockin-bitches-the-girls-vs-the-boyzzzz/42771
CATEGORIES:Psytrance Event
CLASS:PUBLIC
END:VEVENT

BEGIN:VEVENT
UID:d45fb2cc9b19871b4b418dca6de109cf
DTSTART:20090123T220000
DTEND:20090124T073000
LOCATION:Vienna [Austria]
GEO:0.000000000;0.000000000
DTSTAMP:20090123T220000Z
SUMMARY:ROCKIN BITCHES - 1st DJane-night after a too long time --)!!
DESCRIPTION:Line Up: ein hübscher Trommler --)
URL:https://www.goabase.net/party/rockin-bitches-1st-djane-night-after-a-too-long-time/42348
CATEGORIES:Psytrance Event
CLASS:PUBLIC
END:VEVENT

END:VCALENDAR