BEGIN:VCALENDAR
VERSION:2.0
PRODID:goabase.net iCalendar 2026
X-WR-CALNAME:goabase.net - parties and people 
X-WR-TIMEZONE;VALUE=TEXT:Europe/Berlin
CALSCALE:GREGORIAN
BEGIN:VTIMEZONE
TZID:Europe/Berlin
X-LIC-LOCATION:Europe/Berlin
BEGIN:DAYLIGHT
TZOFFSETFROM:+0100
TZOFFSETTO:+0200
TZNAME:CEST
DTSTART:19700329T020000
RRULE:FREQ=YEARLY;INTERVAL=1;BYDAY=-1SU;BYMONTH=3
END:DAYLIGHT
BEGIN:STANDARD
TZOFFSETFROM:+0200
TZOFFSETTO:+0100
TZNAME:CET
DTSTART:19701025T030000
RRULE:FREQ=YEARLY;INTERVAL=1;BYDAY=-1SU;BYMONTH=10
END:STANDARD
END:VTIMEZONE

BEGIN:VEVENT
UID:b2d9af92a190406a69abbca98735bccc
DTSTART:20160513T200000
DTEND:20160516T160000
LOCATION:Cuacos de Yuste [Spain]
GEO:40.103319000;-5.693303000
DTSTAMP:20160513T200000Z
SUMMARY:♫ LA LA LAND 2016 ♫ Psychedelic Open Air
DESCRIPTION:Line-up: La Land es un lugar muy, muy lejano... Puede que te hayas
  aventurado en &quot;este lugar&quot; antes. Es el lugar al…
URL:https://www.goabase.net/fr/party/la-la-land-2016-psychedelic-open-air/87290
CATEGORIES:Psytrance Event
CLASS:PUBLIC
END:VEVENT

BEGIN:VEVENT
UID:4a46f83e5bfa197f165ca4242e86ee8c
DTSTART:20150522T180000
DTEND:20150524T180000
LOCATION:- [Spain]
GEO:0.000000000;0.000000000
DTSTAMP:20150522T180000Z
SUMMARY:♫ LA LA LAND ♫ Psychedelic Open Air
DESCRIPTION:Line-up: ----- ----- --- Land es un lugar muy, muy lejano... Puede que
  te hayas aventurado en &quot;este…
URL:https://www.goabase.net/fr/party/la-la-land-psychedelic-open-air/83918
CATEGORIES:Psytrance Event
CLASS:PUBLIC
END:VEVENT

BEGIN:VEVENT
UID:985979003e34b2a272ebf2178a400cf6
DTSTART:20141226T233000
DTEND:20141227T060000
LOCATION:Madrid [Spain]
GEO:40.431183200;-3.696999800
DTSTAMP:20141226T233000Z
SUMMARY:Cthulhu Tribe @ Random Club.  "SATURNALIA"
DESCRIPTION:Line-up: ----- ----- --- SALA KAOS: ♫ Forest Bamp vs Rowrx ( Mighty
  Quinn Records / Ritual ) ♫ Emize ( Mahare…
URL:https://www.goabase.net/fr/party/cthulhu-tribe-random-club-saturnalia/82658
CATEGORIES:Psytrance Event
CLASS:PUBLIC
END:VEVENT

BEGIN:VEVENT
UID:e1b4e805e2caebc93b5da188341f99ad
DTSTART:20141115T233000
DTEND:20141116T060000
LOCATION:Madrid [Spain]
GEO:40.431213300;-3.696936300
DTSTAMP:20141115T233000Z
SUMMARY:CTHULHU TRIBE @ Random Club
DESCRIPTION:Line-up: ----- ----- --- Para este viaje hacía las profundidades de la
  psicodelia Cthulhu dividirá sus 8 tentác…
URL:https://www.goabase.net/fr/party/cthulhu-tribe-random-club/81878
CATEGORIES:Psytrance Event
CLASS:PUBLIC
END:VEVENT

END:VCALENDAR