BEGIN:VCALENDAR
VERSION:2.0
PRODID:goabase.net iCalendar 2026
X-WR-CALNAME:goabase.net - parties and people 
X-WR-TIMEZONE;VALUE=TEXT:Europe/Berlin
CALSCALE:GREGORIAN
BEGIN:VTIMEZONE
TZID:Europe/Berlin
X-LIC-LOCATION:Europe/Berlin
BEGIN:DAYLIGHT
TZOFFSETFROM:+0100
TZOFFSETTO:+0200
TZNAME:CEST
DTSTART:19700329T020000
RRULE:FREQ=YEARLY;INTERVAL=1;BYDAY=-1SU;BYMONTH=3
END:DAYLIGHT
BEGIN:STANDARD
TZOFFSETFROM:+0200
TZOFFSETTO:+0100
TZNAME:CET
DTSTART:19701025T030000
RRULE:FREQ=YEARLY;INTERVAL=1;BYDAY=-1SU;BYMONTH=10
END:STANDARD
END:VTIMEZONE

BEGIN:VEVENT
UID:05838855aa9d4e40ed4d37120a96cfcb
DTSTART:20240413T230000
DTEND:20240414T090000
LOCATION:Hamburg [Germany]
GEO:53.600000000;9.900000000
DTSTAMP:20240413T230000Z
SUMMARY:Shringara
DESCRIPTION:Line Up: ✪Connexx (LIVE) ✪Two of Us (Cloud7 & Ulf) ✪Jen & Salz ✪Nick
  Melodeon ✪DeeMatic ✪Epic Radio Location: Stellwerk Hamburg,
  Hannoversche Straße 85, 21079 Hamburg
URL:https://www.goabase.net/party/shringara/112192
CATEGORIES:Psytrance Event
CLASS:PUBLIC
END:VEVENT

END:VCALENDAR