BEGIN:VCALENDAR
VERSION:2.0
PRODID:goabase.net iCalendar 2026
X-WR-CALNAME:goabase.net - parties and people 
X-WR-TIMEZONE;VALUE=TEXT:Europe/Berlin
CALSCALE:GREGORIAN
BEGIN:VTIMEZONE
TZID:Europe/Berlin
X-LIC-LOCATION:Europe/Berlin
BEGIN:DAYLIGHT
TZOFFSETFROM:+0100
TZOFFSETTO:+0200
TZNAME:CEST
DTSTART:19700329T020000
RRULE:FREQ=YEARLY;INTERVAL=1;BYDAY=-1SU;BYMONTH=3
END:DAYLIGHT
BEGIN:STANDARD
TZOFFSETFROM:+0200
TZOFFSETTO:+0100
TZNAME:CET
DTSTART:19701025T030000
RRULE:FREQ=YEARLY;INTERVAL=1;BYDAY=-1SU;BYMONTH=10
END:STANDARD
END:VTIMEZONE

BEGIN:VEVENT
UID:cb103fc1a3c416693d37f9fb72c6e94d
DTSTART:20180430T210000
DTEND:20180501T160000
LOCATION:Frankfurt am Main [Germany]
GEO:50.111309100;8.683102600
DTSTAMP:20180430T210000Z
SUMMARY:Back to the Woods
DESCRIPTION:Line Up: Siehe Flyer
URL:https://www.goabase.net/party/back-to-the-woods/99872
CATEGORIES:Psytrance Event
CLASS:PUBLIC
END:VEVENT

BEGIN:VEVENT
UID:fca38dd22262e14058e35f8366b970e1
DTSTART:20170915T220000
DTEND:20170916T120000
LOCATION:Irgendwo bei Frankfurt --) [Germany]
GEO:0.000000000;0.000000000
DTSTAMP:20170915T220000Z
SUMMARY:Dunkel und Schnell RMG
DESCRIPTION:Line Up: Noch offen....
URL:https://www.goabase.net/party/dunkel-und-schnell-rmg/95522
CATEGORIES:Psytrance Event
CLASS:PUBLIC
END:VEVENT

END:VCALENDAR