BEGIN:VCALENDAR
VERSION:2.0
PRODID:goabase.net iCalendar 2026
X-WR-CALNAME:goabase.net - parties and people 
X-WR-TIMEZONE;VALUE=TEXT:Europe/Berlin
CALSCALE:GREGORIAN
BEGIN:VTIMEZONE
TZID:Europe/Berlin
X-LIC-LOCATION:Europe/Berlin
BEGIN:DAYLIGHT
TZOFFSETFROM:+0100
TZOFFSETTO:+0200
TZNAME:CEST
DTSTART:19700329T020000
RRULE:FREQ=YEARLY;INTERVAL=1;BYDAY=-1SU;BYMONTH=3
END:DAYLIGHT
BEGIN:STANDARD
TZOFFSETFROM:+0200
TZOFFSETTO:+0100
TZNAME:CET
DTSTART:19701025T030000
RRULE:FREQ=YEARLY;INTERVAL=1;BYDAY=-1SU;BYMONTH=10
END:STANDARD
END:VTIMEZONE

BEGIN:VEVENT
UID:c1e1a8db1908d5ca562853f5a9ad1f8e
DTSTART:20090724T140000
DTEND:20090726T233000
LOCATION:Caldas da Felgueira [Portugal]
GEO:0.000000000;0.000000000
DTSTAMP:20090724T140000Z
SUMMARY:V FESTIVAL TRIBAL  - 2009 EDITION
DESCRIPTION:Line Up: SICK ADDICTIONTK Records FREEDOM FIGHTERSPhoenix Records
  MYRAHNamaha Records / Hypergate Records / Psyart /Swing HOLOPHO…
URL:https://www.goabase.net/festival/v-festival-tribal-2009-edition/45064
CATEGORIES:Psytrance Event
CLASS:PUBLIC
END:VEVENT

BEGIN:VEVENT
UID:06ff0925f644faba71d81cde9b8c8177
DTSTART:20080725T180000
DTEND:20080727T120000
LOCATION:Nelas [Portugal]
GEO:0.000000000;0.000000000
DTSTAMP:20080725T180000Z
SUMMARY:IV FESTIVAL TRIBAL - 2008 EDITION
DESCRIPTION:Line Up: TRYAMBAKA ( Spectral Rec / Bhooteshwara Rec ) MYRAH
  Psyart/Genetic Dreams/Swing/Gates of Perception) CHARADE (Cortex P…
URL:https://www.goabase.net/festival/iv-festival-tribal-2008-edition/39732
CATEGORIES:Psytrance Event
CLASS:PUBLIC
END:VEVENT

BEGIN:VEVENT
UID:5cf9b7f43da0d437ddefb5c7962b7d84
DTSTART:20070720T210000
DTEND:20070722T220000
LOCATION:Caldas da Felgueira - Nelas [Portugal]
GEO:0.000000000;0.000000000
DTSTAMP:20070720T210000Z
SUMMARY:Tribal Festival
DESCRIPTION:Line Up: TRANCE AREA FRIDAY Digital E-Motion (Cortex Prod / Cristal
  Vision) SATURDAY Charade (Cortex Prod / Moonblast Prod)
URL:https://www.goabase.net/festival/tribal-festival/32581
CATEGORIES:Psytrance Event
CLASS:PUBLIC
END:VEVENT

END:VCALENDAR