BEGIN:VCALENDAR
VERSION:2.0
PRODID:goabase.net iCalendar 2026
X-WR-CALNAME:goabase.net - parties and people 
X-WR-TIMEZONE;VALUE=TEXT:Europe/Berlin
CALSCALE:GREGORIAN
BEGIN:VTIMEZONE
TZID:Europe/Berlin
X-LIC-LOCATION:Europe/Berlin
BEGIN:DAYLIGHT
TZOFFSETFROM:+0100
TZOFFSETTO:+0200
TZNAME:CEST
DTSTART:19700329T020000
RRULE:FREQ=YEARLY;INTERVAL=1;BYDAY=-1SU;BYMONTH=3
END:DAYLIGHT
BEGIN:STANDARD
TZOFFSETFROM:+0200
TZOFFSETTO:+0100
TZNAME:CET
DTSTART:19701025T030000
RRULE:FREQ=YEARLY;INTERVAL=1;BYDAY=-1SU;BYMONTH=10
END:STANDARD
END:VTIMEZONE

BEGIN:VEVENT
UID:31cdd0749f8492d8260b0ac012eb2e95
DTSTART:20180519T220000
DTEND:20180520T080000
LOCATION:Sankt Pantaleon [Austria]
GEO:48.038931300;12.840921149
DTSTAMP:20180519T220000Z
SUMMARY:MOMENTO DEMENTO FESTIVAL TEASER AUSTRIA hosted by Syntax Sense
DESCRIPTION:Line Up: MO:DEM - FLOOR LIVE: Synthetik Chaos (Boom Shanka / Squarelab
  Music) FR Isantropia (Squarelab Music) FR Asrahel (Squar…
URL:https://www.goabase.net/party/momento-demento-festival-teaser-austria-hosted-by-syntax-sense/99683
CATEGORIES:Psytrance Event
CLASS:PUBLIC
END:VEVENT

BEGIN:VEVENT
UID:a71128de5f36e8892ec48931b2e56af1
DTSTART:20161007T220000
DTEND:20161008T040000
LOCATION:Salzburg [Austria]
GEO:47.800197600;13.041058500
DTSTAMP:20161007T220000Z
SUMMARY:COLLISION BY 24/7-RECORDS & SYNTAX SENSE
DESCRIPTION:Line Up: LIVE: SINERIDER 24/7 Records (UK) DEZIBEL Crispy Chaos Crew
  (AT) ---- DJ: ASTRA…
URL:https://www.goabase.net/party/collision-by-247-records-syntax-sense/91352
CATEGORIES:Psytrance Event
CLASS:PUBLIC
END:VEVENT

BEGIN:VEVENT
UID:b07d2dd194244ffe517bf1cf2b245051
DTSTART:20160820T120000
DTEND:20160820T220000
LOCATION:Salzburg [Austria]
GEO:47.800197600;13.041058500
DTSTAMP:20160820T120000Z
SUMMARY:SYNTAX SENSE PROGRESSIVE BEACH 6.0  WITH SYNTHETIK CHAOS (4FREE!)
DESCRIPTION:Line Up: LIVE: SYNTHETIK CHAOS (Boomshanka FR) MILLE VITALE (The
  Radial Engine Tribe FR) ASTARTICA (Astartic Laboratory AT) --…
URL:https://www.goabase.net/party/syntax-sense-progressive-beach-60-with-synthetik-chaos-4free/90584
CATEGORIES:Psytrance Event
CLASS:PUBLIC
END:VEVENT

BEGIN:VEVENT
UID:abb6f6bd2dc4e0555a75332571c50866
DTSTART:20160514T120000
DTEND:20160514T220000
LOCATION:Salzburg [Austria]
GEO:47.802374100;13.042559900
DTSTAMP:20160514T120000Z
SUMMARY:SYNTAX SENSE PROGRESSIVE BEACH VOL.5 (FREE PARTY)
DESCRIPTION:Line Up: Live: Astralex (24-7 Records) Astartica (Astartic Lab.) ----
  Djs:…
URL:https://www.goabase.net/party/syntax-sense-progressive-beach-vol5-free-party/89532
CATEGORIES:Psytrance Event
CLASS:PUBLIC
END:VEVENT

BEGIN:VEVENT
UID:4abe9323850d7e423e4df54de2db510f
DTSTART:20160206T220000
DTEND:20160207T080000
LOCATION:Trimmelkam [Austria]
GEO:0.000000000;0.000000000
DTSTAMP:20160206T220000Z
SUMMARY:MO:DEM FESTIVAL TEASER presented by SYNTAX SENSE
DESCRIPTION:Line Up: MO:DEM - Floor LIVE: Synthetik Chaos // Bom Shanka Records
  (FR) DJ: Phobos // Looney Moon Records (IT) Twisted Nature //…
URL:https://www.goabase.net/party/modem-festival-teaser-presented-by-syntax-sense/87448
CATEGORIES:Psytrance Event
CLASS:PUBLIC
END:VEVENT

BEGIN:VEVENT
UID:c7fdbefdc4e883e53e43743cb7692f5d
DTSTART:20150801T120000
DTEND:20150801T220000
LOCATION:Salzburg [Austria]
GEO:47.795590000;13.060750100
DTSTAMP:20150801T120000Z
SUMMARY:SYNTAX SENSE-PROGRESSIVE BEACH 4.0 (FREE PARTY!)
DESCRIPTION:Line Up: ... A FREE DAYPARTY !!! .●◉ ॐ LINE UP ॐ ◉●. LIVE ▼ Astartica
  // Astartic Lab.(A) ▼ Astralex // 24-7 Records (A) --…
URL:https://www.goabase.net/party/syntax-sense-progressive-beach-40-free-party/85606
CATEGORIES:Psytrance Event
CLASS:PUBLIC
END:VEVENT

BEGIN:VEVENT
UID:ecd2b7614378a1592e2be5a02fee9db9
DTSTART:20150207T220000
DTEND:20150208T060000
LOCATION:St.Pantaleon [Austria]
GEO:48.007255700;12.895128400
DTSTAMP:20150207T220000Z
SUMMARY:IMAGINATORIUM - SYNTAX SENSE - 3rd ANNIVERSARY
DESCRIPTION:Line Up: ::: LIVE Sets :::: ٠•● Caveman (Purple Hexagon Rec.) ITALY
  Born and bred in the heart of Italy, GIANLUCA VOC…
URL:https://www.goabase.net/party/imaginatorium-syntax-sense-3rd-anniversary/82723
CATEGORIES:Psytrance Event
CLASS:PUBLIC
END:VEVENT

BEGIN:VEVENT
UID:914b677a846fb309214bbaef053f6fc8
DTSTART:20140912T220000
DTEND:20140913T050000
LOCATION:Salzburg [Austria]
GEO:47.824528307;13.064545065
DTSTAMP:20140912T220000Z
SUMMARY:SYNTAX SENSE-THE MAGIC MIRROR GATE
DESCRIPTION:Line Up: ✖ ✖ LIVE ACTS: ✖ ✖ Muscaria (Sonic Loom Rec.//Banyan
  Rec.//Omveda Rec.) The mastermind behind &quot;Muscaria&quot; is…
URL:https://www.goabase.net/party/syntax-sense-the-magic-mirror-gate/80913
CATEGORIES:Psytrance Event
CLASS:PUBLIC
END:VEVENT

BEGIN:VEVENT
UID:af114e2c9309472137bb60e8fc54a30a
DTSTART:20140823T120000
DTEND:20140823T220000
LOCATION:Salzburg [Austria]
GEO:47.800198000;13.041059000
DTSTAMP:20140823T120000Z
SUMMARY:Syntax Sense Progressive Beach vol.3 The psychedelic edition
DESCRIPTION:Line Up: LIVE: ASTARTICA (Astartic Lab) ---- DJs: Kajola (Zero Gravity
  Vienna) Morphon (Ot…
URL:https://www.goabase.net/party/syntax-sense-progressive-beach-vol3-the-psychedelic-edition/80639
CATEGORIES:Psytrance Event
CLASS:PUBLIC
END:VEVENT

BEGIN:VEVENT
UID:b478c0fa8c088f84d800cef797ba18fd
DTSTART:20140607T120000
DTEND:20140607T220000
LOCATION:Salzburg [Austria]
GEO:47.800198000;13.041059000
DTSTAMP:20140607T120000Z
SUMMARY:SYNTAX SENSE - PROGRESSIVE BEACH VOL.2
DESCRIPTION:Line Up: LIVE: ASTARTICA (Astartic Lab) ---- DJs: Pelks (Syntax Sense)
  CRO Quadrivium (Nev…
URL:https://www.goabase.net/party/syntax-sense-progressive-beach-vol2/79609
CATEGORIES:Psytrance Event
CLASS:PUBLIC
END:VEVENT

BEGIN:VEVENT
UID:26b81bcd38ed16f3e2d08cb4aebfe6e5
DTSTART:20140426T220000
DTEND:20140427T060000
LOCATION:Salzburg [Austria]
GEO:48.027099800;12.864411600
DTSTAMP:20140426T220000Z
SUMMARY:SYNTAX SENSE 2nd Anniversary-CIRCLE OF TRUST
DESCRIPTION:
URL:https://www.goabase.net/party/syntax-sense-2nd-anniversary-circle-of-trust/78041
CATEGORIES:Psytrance Event
CLASS:PUBLIC
END:VEVENT

BEGIN:VEVENT
UID:d4865cd61d6ec9f74fcaaf527089399c
DTSTART:20131206T220000
DTEND:20131207T050000
LOCATION:Salzburg [Austria]
GEO:47.824528307;13.064545065
DTSTAMP:20131206T220000Z
SUMMARY:THE PURPLE SENSE presented by Syntax Sense
DESCRIPTION:Line Up: ☆ PURPLE RAVER ☆ FIRST TIME IN SALZBURG!!! (Blacklite
  Records) Italy Purple Raver is the Psy Trance project of Lucio…
URL:https://www.goabase.net/party/the-purple-sense-presented-by-syntax-sense/75638
CATEGORIES:Psytrance Event
CLASS:PUBLIC
END:VEVENT

BEGIN:VEVENT
UID:0e103c5368af0d774b01d82901fae7ae
DTSTART:20131116T220000
DTEND:20131117T060000
LOCATION:St. Pantaleon [Austria]
GEO:48.027099800;12.864411600
DTSTAMP:20131116T220000Z
SUMMARY:Mondton presents SYMPHONIX und SYNTAX SENSE
DESCRIPTION:Line Up: ☆LIVE☆ .•*☆SYMPHONIX☆*•. [Blue Tunes Records - Ger]
URL:https://www.goabase.net/party/mondton-presents-symphonix-und-syntax-sense/76215
CATEGORIES:Psytrance Event
CLASS:PUBLIC
END:VEVENT

BEGIN:VEVENT
UID:f85682e62289c84e44bf47a6e34427d7
DTSTART:20130921T120000
DTEND:20130922T050000
LOCATION:Salzburg [Austria]
GEO:0.000000000;0.000000000
DTSTAMP:20130921T120000Z
SUMMARY:EARTHDANCE 2013 AUSTRIA/SALZBURG by Otherland Productions und Syntax Sense
DESCRIPTION:Line Up: ☆*•.¸¸.•*☆ LIVE SETS ☆*•.¸¸.•*☆ Astartica (Astartic Lab. /
  Syntax Sense) AUT Dharma (Looney Moon Rec.) IT
URL:https://www.goabase.net/party/earthdance-2013-austriasalzburg-by-otherland-productions-und-syntax-sense/75235
CATEGORIES:Psytrance Event
CLASS:PUBLIC
END:VEVENT

BEGIN:VEVENT
UID:d6801caaa58f4911647e6763130a9250
DTSTART:20130913T220000
DTEND:20130914T050000
LOCATION:Salzburg [Austria]
GEO:47.824528307;13.064545065
DTSTAMP:20130913T220000Z
SUMMARY:SYNTAX SENSE-FOREST TRANSMISSION
DESCRIPTION:Line Up: ☆*•.¸¸.•*☆ LIVE SETS ☆*•.¸¸.•*☆ ★ ★ Malice in Wonderland ★ ★
  2to6 Records / Bhooteshwara Records Malice in Wonderl…
URL:https://www.goabase.net/party/syntax-sense-forest-transmission/74804
CATEGORIES:Psytrance Event
CLASS:PUBLIC
END:VEVENT

BEGIN:VEVENT
UID:103251198140099247f4486048ebc4c9
DTSTART:20130810T120000
DTEND:20130810T220000
LOCATION:Salzburg [Austria]
GEO:0.000000000;0.000000000
DTSTAMP:20130810T120000Z
SUMMARY:SYNTAX SENSE PROGRESSIVE BEACH A FREE DAY PARTY
DESCRIPTION:Line Up: ☆*•.¸¸.•*☆ LIVE SETS ☆*•.¸¸.•*☆ ★ ASTARTICA & S.D.I ★ ★
  (Astartic Lab)
URL:https://www.goabase.net/party/syntax-sense-progressive-beach-a-free-day-party/74373
CATEGORIES:Psytrance Event
CLASS:PUBLIC
END:VEVENT

BEGIN:VEVENT
UID:7a5e46ab3fac92b2da8a945c3e590801
DTSTART:20130719T213000
DTEND:20130720T050000
LOCATION:Salzburg [Austria]
GEO:47.824528307;13.064545065
DTSTAMP:20130719T213000Z
SUMMARY:SYNAP-SENSE presented by Syntax Sense
DESCRIPTION:Line Up: MAIN-FLOOR ڿڰۣ- LIVE HYPNOCOUSTICS Liquid Records UK DJs
  PARAMA Next Time Productions MAHUT Interface Records MX SKY F…
URL:https://www.goabase.net/party/synap-sense-presented-by-syntax-sense/73891
CATEGORIES:Psytrance Event
CLASS:PUBLIC
END:VEVENT

BEGIN:VEVENT
UID:214251b82a71e822b0e1d5d8c25f4bc7
DTSTART:20130525T200000
DTEND:20130526T120000
LOCATION:Stadt Haag/Böllerbauer [Austria]
GEO:48.100531068;14.563551516
DTSTAMP:20130525T200000Z
SUMMARY:Fullmoon Synt-X-Perience presented by SYNTAX-SENSE
DESCRIPTION:Line Up: ★ L I V E ★ HUMAN GROOVE (UNITED FRAGGLES / SPIRIT BASE)
  MUTANT STAR (MYSTICAL WAVES RECORDS, CZECH)
URL:https://www.goabase.net/party/fullmoon-synt-x-perience-presented-by-syntax-sense/72894
CATEGORIES:Psytrance Event
CLASS:PUBLIC
END:VEVENT

BEGIN:VEVENT
UID:0a733da37bd897a15d70d0856cd31339
DTSTART:20130330T210000
DTEND:20130331T040000
LOCATION:Timelkam [Austria]
GEO:48.002405200;13.611089300
DTSTAMP:20130330T210000Z
SUMMARY:Psy im Gei presented by SYNTAX SENSE
DESCRIPTION:Line Up: ★ MANJU (Space Baby Records) OÖ
URL:https://www.goabase.net/party/psy-im-gei-presented-by-syntax-sense/71946
CATEGORIES:Psytrance Event
CLASS:PUBLIC
END:VEVENT

BEGIN:VEVENT
UID:29bd3afd00850392dad82cfbac06669e
DTSTART:20130216T220000
DTEND:20130217T040000
LOCATION:Salzburg [Austria]
GEO:47.824515270;13.065200957
DTSTAMP:20130216T220000Z
SUMMARY:Drops of dreams by SYNTAX SENSE
DESCRIPTION:Line Up: &#9734-*•.¸¸.•*&#9734- LIVE &#9734-*•.¸¸.•*&#9734-
  &#9733-&#9733-&#9733- Dezibel (Sonesta Rec. / Epiphysis Rec.) &#9733-…
URL:https://www.goabase.net/party/drops-of-dreams-by-syntax-sense/70862
CATEGORIES:Psytrance Event
CLASS:PUBLIC
END:VEVENT

END:VCALENDAR