BEGIN:VCALENDAR
VERSION:2.0
PRODID:goabase.net iCalendar 2026
X-WR-CALNAME:goabase.net - parties and people 
X-WR-TIMEZONE;VALUE=TEXT:Europe/Berlin
CALSCALE:GREGORIAN
BEGIN:VTIMEZONE
TZID:Europe/Berlin
X-LIC-LOCATION:Europe/Berlin
BEGIN:DAYLIGHT
TZOFFSETFROM:+0100
TZOFFSETTO:+0200
TZNAME:CEST
DTSTART:19700329T020000
RRULE:FREQ=YEARLY;INTERVAL=1;BYDAY=-1SU;BYMONTH=3
END:DAYLIGHT
BEGIN:STANDARD
TZOFFSETFROM:+0200
TZOFFSETTO:+0100
TZNAME:CET
DTSTART:19701025T030000
RRULE:FREQ=YEARLY;INTERVAL=1;BYDAY=-1SU;BYMONTH=10
END:STANDARD
END:VTIMEZONE

BEGIN:VEVENT
UID:4563459e5c40ea81513c86e82ed4685b
DTSTART:20180519T233000
DTEND:20180520T060000
LOCATION:Terrassa [Spain]
GEO:41.569730200;2.013207100
DTSTAMP:20180519T233000Z
SUMMARY:Psychedelik Night Party
DESCRIPTION:Line Up: After four years incubating the idea of ​creating a
  collective, where consciousness, music and art come together, &quot…
URL:https://www.goabase.net/party/psychedelik-night-party/99919
CATEGORIES:Psytrance Event
CLASS:PUBLIC
END:VEVENT

BEGIN:VEVENT
UID:d5bc7b7c7a1b649dca898ce2a79b3d70
DTSTART:20160325T180000
DTEND:20160328T140000
LOCATION:Oliana [Spain]
GEO:42.067162900;1.314941600
DTSTAMP:20160325T180000Z
SUMMARY:Semana Satan
DESCRIPTION:Line Up: ☠FREE PSYTRANCE FESTIVAL☠ ...OPEN AIR.....…
URL:https://www.goabase.net/festival/semana-satan/89078
CATEGORIES:Psytrance Event
CLASS:PUBLIC
END:VEVENT

END:VCALENDAR