BEGIN:VCALENDAR
VERSION:2.0
PRODID:goabase.net iCalendar 2026
X-WR-CALNAME:goabase.net - parties and people 
X-WR-TIMEZONE;VALUE=TEXT:Europe/Berlin
CALSCALE:GREGORIAN
BEGIN:VTIMEZONE
TZID:Europe/Berlin
X-LIC-LOCATION:Europe/Berlin
BEGIN:DAYLIGHT
TZOFFSETFROM:+0100
TZOFFSETTO:+0200
TZNAME:CEST
DTSTART:19700329T020000
RRULE:FREQ=YEARLY;INTERVAL=1;BYDAY=-1SU;BYMONTH=3
END:DAYLIGHT
BEGIN:STANDARD
TZOFFSETFROM:+0200
TZOFFSETTO:+0100
TZNAME:CET
DTSTART:19701025T030000
RRULE:FREQ=YEARLY;INTERVAL=1;BYDAY=-1SU;BYMONTH=10
END:STANDARD
END:VTIMEZONE

BEGIN:VEVENT
UID:5b48d99d26e7feb4d44fb92cf8be66f5
DTSTART:20200306T120000
DTEND:20200308T190000
LOCATION:Buin [Chile]
GEO:-33.731974100;-70.741961900
DTSTAMP:20200306T120000Z
SUMMARY:MonteMapu Festival 2020
DESCRIPTION:Line Up: DECIMO FESTIVAL INTERNACIONAL ECOLÓGICO ÉTNICO CULTURAL DE
  CHILE MONTEMAPU FESTIVAL 2020. Viernes 06 - Sábado 07 - Domin…
URL:https://www.goabase.net/party/montemapu-festival-2020/104272
CATEGORIES:Psytrance Event
CLASS:PUBLIC
END:VEVENT

BEGIN:VEVENT
UID:4e78ea59a7290fcc008ee2798f7d11f0
DTSTART:20190301T160000
DTEND:20190303T170000
LOCATION:Metropolitana [Chile]
GEO:0.000000000;0.000000000
DTSTAMP:20190301T160000Z
SUMMARY:Montemapu Festival 2019
DESCRIPTION:Line Up: ╔═╗ ║ Cultura Musical: Escenarios ║ ╚═╝ Stage Psytrance.
  Montemapu. Stage House, Minim…
URL:https://www.goabase.net/festival/montemapu-festival-2019/101298
CATEGORIES:Psytrance Event
CLASS:PUBLIC
END:VEVENT

END:VCALENDAR