BEGIN:VCALENDAR
VERSION:2.0
PRODID:goabase.net iCalendar 2026
X-WR-CALNAME:goabase.net - parties and people 
X-WR-TIMEZONE;VALUE=TEXT:Europe/Berlin
CALSCALE:GREGORIAN
BEGIN:VTIMEZONE
TZID:Europe/Berlin
X-LIC-LOCATION:Europe/Berlin
BEGIN:DAYLIGHT
TZOFFSETFROM:+0100
TZOFFSETTO:+0200
TZNAME:CEST
DTSTART:19700329T020000
RRULE:FREQ=YEARLY;INTERVAL=1;BYDAY=-1SU;BYMONTH=3
END:DAYLIGHT
BEGIN:STANDARD
TZOFFSETFROM:+0200
TZOFFSETTO:+0100
TZNAME:CET
DTSTART:19701025T030000
RRULE:FREQ=YEARLY;INTERVAL=1;BYDAY=-1SU;BYMONTH=10
END:STANDARD
END:VTIMEZONE

BEGIN:VEVENT
UID:18dca85bdf8cf8c1d6c472ed0eba9bdc
DTSTART:20160601T220000
DTEND:20160602T090000
LOCATION:Rimini [Italy]
GEO:43.989719400;12.501899700
DTSTAMP:20160601T220000Z
SUMMARY:GOALAND
DESCRIPTION:
URL:https://www.goabase.net/party/goaland/89740
CATEGORIES:Psytrance Event
CLASS:PUBLIC
END:VEVENT

BEGIN:VEVENT
UID:f8634f0bfc3693730346f9b6f5f65b60
DTSTART:20160528T230000
DTEND:20160529T070000
LOCATION:Bologna [Italy]
GEO:44.493671400;11.343034700
DTSTAMP:20160528T230000Z
SUMMARY:GAME OVER
DESCRIPTION:Line Up: OLD SCHOOL MINIMAL NIGHT DOPO LA SERATA DI SABATO SCORSO
  SUPER CARICA FINIAMO IN BELLEZZA CON UN ALTRO EVENTO TARGATO OL…
URL:https://www.goabase.net/party/game-over/89901
CATEGORIES:Psytrance Event
CLASS:PUBLIC
END:VEVENT

BEGIN:VEVENT
UID:b7bcd0ce84e32150183f24cca588a791
DTSTART:20160521T230000
DTEND:20160522T070000
LOCATION:Bologna [Italy]
GEO:44.493671400;11.343034700
DTSTAMP:20160521T230000Z
SUMMARY:GOA TEK
DESCRIPTION:Line Up: STAGE GOA MINIMALE: _ FRASCKY _ MARKAYN _ CIRILLO _ DADO
  DANDY _ GALLO _ COLLIUS _ DEREK _ MINIMAL BOY STAGE TEKNO _ HOV…
URL:https://www.goabase.net/party/goa-tek/89810
CATEGORIES:Psytrance Event
CLASS:PUBLIC
END:VEVENT

BEGIN:VEVENT
UID:12b13320f4fd6e6af1b11fd51eea532b
DTSTART:20160520T220000
DTEND:20160521T043000
LOCATION:Pinarella Di Cervia [Italy]
GEO:0.000000000;0.000000000
DTSTAMP:20160520T220000Z
SUMMARY:MISTIKAL BEACH
DESCRIPTION:Line Up: ÷÷÷÷÷÷÷÷÷÷÷÷÷÷÷÷÷÷÷÷÷÷÷÷÷÷÷÷÷÷÷÷÷÷÷÷÷÷÷÷÷÷÷÷÷÷÷÷÷÷÷ INIZIAMO
  LA STAGIONE ESTIVA CON IL PRIMO VENERDI SULLA SPIAGGIA ....…
URL:https://www.goabase.net/party/mistikal-beach/89809
CATEGORIES:Psytrance Event
CLASS:PUBLIC
END:VEVENT

BEGIN:VEVENT
UID:547bb5dab6ddf3c347b854cab621fe3a
DTSTART:20160514T230000
DTEND:20160515T070000
LOCATION:Bologna [Italy]
GEO:44.493671400;11.343034700
DTSTAMP:20160514T230000Z
SUMMARY:IL RITMO DEI FOLLETTI
DESCRIPTION:
URL:https://www.goabase.net/party/il-ritmo-dei-folletti/89745
CATEGORIES:Psytrance Event
CLASS:PUBLIC
END:VEVENT

BEGIN:VEVENT
UID:b15d674278fba512e90d9a797e6573c8
DTSTART:20160416T230000
DTEND:20160417T070000
LOCATION:Bologna [Italy]
GEO:44.493671400;11.343034700
DTSTAMP:20160416T230000Z
SUMMARY:GOATEK
DESCRIPTION:Line Up: DOPO LA BUONA RIUSCITA... TORNIAMO A PROPORVI UN ALTRO GOATEK
  CARICO DI OTTIMA MUSICA! [●] [●][●] [●][●][●] -&gt-STAGE 1…
URL:https://www.goabase.net/party/goatek/89475
CATEGORIES:Psytrance Event
CLASS:PUBLIC
END:VEVENT

BEGIN:VEVENT
UID:0c23025bf9c5508354602bbf606464e3
DTSTART:20160327T220000
DTEND:20160328T120000
LOCATION:Pinarella Di Cervia [Italy]
GEO:0.000000000;0.000000000
DTSTAMP:20160327T220000Z
SUMMARY:GOALAND
DESCRIPTION:Line Up: ✖ MAIN STAGE ✖ ⇒ VANES ⇒ SI-MOON ⇒ MEIS ⇒ DRASTIKA ⇒ MARKAYN
  ⇒ LOCOWEED ⇒ CIRILLO MINIMALE ⇒ SIR ✖ FRENCHCORE/HARDTEKNO…
URL:https://www.goabase.net/party/goaland/89234
CATEGORIES:Psytrance Event
CLASS:PUBLIC
END:VEVENT

BEGIN:VEVENT
UID:86ebbd36e944be8cc3d33d5c0ed1aef1
DTSTART:20151128T230000
DTEND:20151129T070000
LOCATION:Parma [Italy]
GEO:44.801349600;10.328036300
DTSTAMP:20151128T230000Z
SUMMARY:IL RITMO DEI FOLLETTI
DESCRIPTION:Line Up: ◆ ◆ ◆ ◆ ◆ ◆ ◆ ◆ ◆ ◆ ◆ ◆ ◆ ◆ ◆ ◆ ▄█ GOA STAGE █▄ ★ MARKAIN ★
  Mk records Goaland booking ▲…
URL:https://www.goabase.net/party/il-ritmo-dei-folletti/86932
CATEGORIES:Psytrance Event
CLASS:PUBLIC
END:VEVENT

BEGIN:VEVENT
UID:6c4857fc38ce0aed9baf489d31fc3af6
DTSTART:20151114T220000
DTEND:20151115T060000
LOCATION:Bologna [Italy]
GEO:44.493671400;11.343034700
DTSTAMP:20151114T220000Z
SUMMARY:MEKKANIKA - DAYDIN + RANJI
DESCRIPTION:Line Up:
  °°°°°°°°°°°°°°°°°°°°°°°°°°°°°°°°°°°°°°°°°°°°°°°°°°°°°°°°°°°°°°°°°°°°°°°°°°°°°°°°°°°°°°°°°°°°°°°°°°°°°°°°°°°°°°°°°°°°°°°°…
URL:https://www.goabase.net/party/mekkanika-daydin-ranji/86881
CATEGORIES:Psytrance Event
CLASS:PUBLIC
END:VEVENT

BEGIN:VEVENT
UID:5bc7f5f2874310e05c25db46903d24f7
DTSTART:20150725T230000
DTEND:20150726T060000
LOCATION:Parma [Italy]
GEO:44.814535600;10.308363300
DTSTAMP:20150725T230000Z
SUMMARY:°°°° IL RITMO DEI FOLLETTI °°°°
DESCRIPTION:Line Up: ◆ ◆ ◆ ◆ ◆ ◆ ◆ ◆ ◆ ◆ ◆ ◆ ◆ ◆ ◆ ◆ ◆ ◆ ◆ ◆ ▄█ LINE UP █▄ ★ Leads
  ★ Sinaiwww.soundcl…
URL:https://www.goabase.net/party/il-ritmo-dei-folletti/85543
CATEGORIES:Psytrance Event
CLASS:PUBLIC
END:VEVENT

BEGIN:VEVENT
UID:ccb771916f5d371cc0a7237e9eeb78d9
DTSTART:20131231T210000
DTEND:20140101T120000
LOCATION:Bologna Palanord [Italy]
GEO:0.000000000;0.000000000
DTSTAMP:20131231T210000Z
SUMMARY:MAGNETIK - NYE 2014 - THE WINTER TEKNO CONSPIRACY + CAPANNONE PSYTRANCE
DESCRIPTION:Line Up: OFFICIAL FACEBOOK EVENT : ANCHE QUEST'ANNO NON VI
  DELUDEREMO!!! IL PARTY DELL'ANNO SBARCA DI NUOVO A BOLOGNA INSIEME AL…
URL:https://www.goabase.net/party/magnetik-nye-2014-the-winter-tekno-conspiracy-capannone-psytrance/76710
CATEGORIES:Psytrance Event
CLASS:PUBLIC
END:VEVENT

BEGIN:VEVENT
UID:e9cc4948700bcf241c1b9b33fc0e8e5c
DTSTART:20120430T230000
DTEND:20120501T160000
LOCATION:Bologna [Italy]
GEO:0.000000000;0.000000000
DTSTAMP:20120430T230000Z
SUMMARY:PSYCHEDELIK EVOLUTION -MK B-DAY -FABIO & MOON LIVE SPINTWIST
DESCRIPTION:Line Up: ZOOM CLUB PRESENTS: PSYCHEDELIK EVOLUTION - MK B-DAY ::::…
URL:https://www.goabase.net/party/psychedelik-evolution-mk-b-day-fabio-moon-live-spintwist/66022
CATEGORIES:Psytrance Event
CLASS:PUBLIC
END:VEVENT

BEGIN:VEVENT
UID:097c0ddefe82446d1ad005236d61d266
DTSTART:20120407T230000
DTEND:20120408T230000
LOCATION:Bologna [Italy]
GEO:0.000000000;0.000000000
DTSTAMP:20120407T230000Z
SUMMARY:THE WHITE RABBIT - DAY DIN LIVE SPINTWIST
DESCRIPTION:Line Up: ::::: • ~ FULL ON, PROGRESSIVE & MINIMAL STAGE ~ • :…
URL:https://www.goabase.net/party/the-white-rabbit-day-din-live-spintwist/66024
CATEGORIES:Psytrance Event
CLASS:PUBLIC
END:VEVENT

BEGIN:VEVENT
UID:90486e3559ec3c501331a5a4bd581cb8
DTSTART:20120406T230000
DTEND:20120407T070000
LOCATION:Bologna [Italy]
GEO:0.000000000;0.000000000
DTSTAMP:20120406T230000Z
SUMMARY:BLACK & WHITE
DESCRIPTION:Line Up: :::: • ~FULL ON PROGRESSIVE & MINIMAL STAGE ~ • :::…
URL:https://www.goabase.net/party/black-white/66023
CATEGORIES:Psytrance Event
CLASS:PUBLIC
END:VEVENT

BEGIN:VEVENT
UID:535c993da6bf3900f46bfe5c2d1ea3f1
DTSTART:20111225T230000
DTEND:20111226T100000
LOCATION:Bologna [Italy]
GEO:0.000000000;0.000000000
DTSTAMP:20111225T230000Z
SUMMARY:[[[ KISS X-MAS]]] - U-RECKEN LIVE  + GOTEK  LIVE ! ! ! 
DESCRIPTION:Line Up: ___ 2 STAGES ___ 1) &#9556-&#9658- FULL ON / PROGRESSIVE
  MINIMAL 2) &#9556-&#9658- TEKNO / FRENCH -CORE OFFICIAL FACEBOO…
URL:https://www.goabase.net/party/kiss-x-mas-u-recken-live-gotek-live/61029
CATEGORIES:Psytrance Event
CLASS:PUBLIC
END:VEVENT

BEGIN:VEVENT
UID:92a34538055d2f8165ae1e5cf3bbf71a
DTSTART:20111126T230000
DTEND:20111127T070000
LOCATION:Bologna [Italy]
GEO:0.000000000;0.000000000
DTSTAMP:20111126T230000Z
SUMMARY:   "HYPERZOOM" - TULK - DJ NATRON - MARIO BROSS LIVE ! ! !
DESCRIPTION:Line Up: LIVE: ... - TULK (SOLAR-TECH RECORD) DE - MARIOBROSSTEAM (MK
  RECORD) IT present new live -GRAVITATIONAL MOODS- -TIM
URL:https://www.goabase.net/party/hyperzoom-tulk-dj-natron-mario-bross-live/61028
CATEGORIES:Psytrance Event
CLASS:PUBLIC
END:VEVENT

BEGIN:VEVENT
UID:64728a86df2a820e93f965507c121330
DTSTART:20111105T230000
DTEND:20111106T070000
LOCATION:Bologna [Italy]
GEO:0.000000000;0.000000000
DTSTAMP:20111105T230000Z
SUMMARY:FAIRY DAY - FESTA PRO ALLUVIONE - 
DESCRIPTION:Line Up: LINE UP 00.00 - 01,30 TK PROG SET 01,30 - 03,00 Shaktisdjane
  03,00 - 04,30 KRISTIAN 04,30 - 06,00 FEEL VS PREZ 06,00 TO…
URL:https://www.goabase.net/party/fairy-day-festa-pro-alluvione/61026
CATEGORIES:Psytrance Event
CLASS:PUBLIC
END:VEVENT

BEGIN:VEVENT
UID:7e498ca62630658618a79888805d3631
DTSTART:20111029T220000
DTEND:20111030T080000
LOCATION:Bologna [Italy]
GEO:0.000000000;0.000000000
DTSTAMP:20111029T220000Z
SUMMARY:RED DRAGON -- COMPILATION ZOOM + 2 INTERNATIONAL LIVE
DESCRIPTION:Line Up: GOA + TEK
URL:https://www.goabase.net/party/red-dragon-compilation-zoom-2-international-live/62866
CATEGORIES:Psytrance Event
CLASS:PUBLIC
END:VEVENT

BEGIN:VEVENT
UID:2e528e0a0887a565075794307a1d6815
DTSTART:20111021T220000
DTEND:20111022T050000
LOCATION:Bologna [Italy]
GEO:0.000000000;0.000000000
DTSTAMP:20111021T220000Z
SUMMARY: NATURAL POWER - PSYSTEP -
DESCRIPTION:
URL:https://www.goabase.net/party/natural-power-psystep/62882
CATEGORIES:Psytrance Event
CLASS:PUBLIC
END:VEVENT

BEGIN:VEVENT
UID:8bb593c34d2af47a5c1c1bf58b0efacf
DTSTART:20111015T220000
DTEND:20111016T070000
LOCATION:Bologna [Italy]
GEO:0.000000000;0.000000000
DTSTAMP:20111015T220000Z
SUMMARY:PSYCHEDELIK PEOPLE : DAY DIN LIVE (DE)
DESCRIPTION:Line Up: MK RECORDS PRESENTS : ::::: ::::: L I V E ::: A C T :::::…
URL:https://www.goabase.net/party/psychedelik-people-day-din-live-de/60396
CATEGORIES:Psytrance Event
CLASS:PUBLIC
END:VEVENT

END:VCALENDAR