BEGIN:VCALENDAR
VERSION:2.0
PRODID:goabase.net iCalendar 2026
X-WR-CALNAME:goabase.net - parties and people 
X-WR-TIMEZONE;VALUE=TEXT:Europe/Berlin
CALSCALE:GREGORIAN
BEGIN:VTIMEZONE
TZID:Europe/Berlin
X-LIC-LOCATION:Europe/Berlin
BEGIN:DAYLIGHT
TZOFFSETFROM:+0100
TZOFFSETTO:+0200
TZNAME:CEST
DTSTART:19700329T020000
RRULE:FREQ=YEARLY;INTERVAL=1;BYDAY=-1SU;BYMONTH=3
END:DAYLIGHT
BEGIN:STANDARD
TZOFFSETFROM:+0200
TZOFFSETTO:+0100
TZNAME:CET
DTSTART:19701025T030000
RRULE:FREQ=YEARLY;INTERVAL=1;BYDAY=-1SU;BYMONTH=10
END:STANDARD
END:VTIMEZONE

BEGIN:VEVENT
UID:c993d5c827c176c55f47cabdebed8aaf
DTSTART:20250503T230000
DTEND:20250504T060000
LOCATION:Cremona [Italy]
GEO:45.100000000;10.000000000
DTSTAMP:20250503T230000Z
SUMMARY:HADES capitolo 1
DESCRIPTION:Line Up: Line up story teller ANIMATEK artists BASS BUCH CALDERA
  DABEON KALIGO MEHDIY POETA GRIBIZ special guest JURI CARERA Location:
  Karonte, Brescia 29, 26029 Cremona
URL:https://www.goabase.net/party/hades-capitolo-1/115154
CATEGORIES:Psytrance Event
CLASS:PUBLIC
END:VEVENT

BEGIN:VEVENT
UID:74f8269a9dd240dd60040b4f68730185
DTSTART:20181103T230000
DTEND:20181104T120000
LOCATION:Brescia [Italy]
GEO:45.539859800;10.222999600
DTSTAMP:20181103T230000Z
SUMMARY:Illogic Events at circolino Brescia(IT)
DESCRIPTION:Line Up: Illogic Events sbarca in città!!! Finalmente una nuova realtà
  collettiva all'interno della quale sviluppare le nuove ten…
URL:https://www.goabase.net/party/illogic-events-at-circolino-bresciait/101596
CATEGORIES:Psytrance Event
CLASS:PUBLIC
END:VEVENT

END:VCALENDAR