BEGIN:VCALENDAR
VERSION:2.0
PRODID:goabase.net iCalendar 2026
X-WR-CALNAME:goabase.net - parties and people 
X-WR-TIMEZONE;VALUE=TEXT:Europe/Berlin
CALSCALE:GREGORIAN
BEGIN:VTIMEZONE
TZID:Europe/Berlin
X-LIC-LOCATION:Europe/Berlin
BEGIN:DAYLIGHT
TZOFFSETFROM:+0100
TZOFFSETTO:+0200
TZNAME:CEST
DTSTART:19700329T020000
RRULE:FREQ=YEARLY;INTERVAL=1;BYDAY=-1SU;BYMONTH=3
END:DAYLIGHT
BEGIN:STANDARD
TZOFFSETFROM:+0200
TZOFFSETTO:+0100
TZNAME:CET
DTSTART:19701025T030000
RRULE:FREQ=YEARLY;INTERVAL=1;BYDAY=-1SU;BYMONTH=10
END:STANDARD
END:VTIMEZONE

BEGIN:VEVENT
UID:279aef736eefa1c65cd1fcdf5b3b4d3c
DTSTART:20090822T200000
DTEND:20090823T110000
LOCATION:Helsingborg [Sweden]
GEO:0.000000000;0.000000000
DTSTAMP:20090822T200000Z
SUMMARY:B-4 SUNRISE III - A progressive tale 
DESCRIPTION:Line Up: ¤ PSYXEL BADAJALASH (ARG) :: Psychedelic/Progressive/Trance -
  (Audioalchemists) ¤ LEENUZ (SWE) :: Progressive - (Earga…
URL:https://www.goabase.net/party/b-4-sunrise-iii-a-progressive-tale/47833
CATEGORIES:Psytrance Event
CLASS:PUBLIC
END:VEVENT

BEGIN:VEVENT
UID:d035546a26a5270eadae5cd58bea8e98
DTSTART:20071026T233000
DTEND:20071027T083000
LOCATION:Buenos Aires [Argentina]
GEO:0.000000000;0.000000000
DTSTAMP:20071026T233000Z
SUMMARY:Namaste
DESCRIPTION:
URL:https://www.goabase.net/party/namaste/34779
CATEGORIES:Psytrance Event
CLASS:PUBLIC
END:VEVENT

BEGIN:VEVENT
UID:987f64a897343e23e6bcc55eba1277ee
DTSTART:20071019T233000
DTEND:20071020T080000
LOCATION:Buenos Aires [Argentina]
GEO:0.000000000;0.000000000
DTSTAMP:20071019T233000Z
SUMMARY:Namaste
DESCRIPTION:
URL:https://www.goabase.net/party/namaste/34594
CATEGORIES:Psytrance Event
CLASS:PUBLIC
END:VEVENT

BEGIN:VEVENT
UID:122380f455c3e34a070a3f8e75501471
DTSTART:20071013T010000
DTEND:20071013T083000
LOCATION:Buenos Aires [Argentina]
GEO:0.000000000;0.000000000
DTSTAMP:20071013T010000Z
SUMMARY:Namaste
DESCRIPTION:
URL:https://www.goabase.net/party/namaste/34499
CATEGORIES:Psytrance Event
CLASS:PUBLIC
END:VEVENT

BEGIN:VEVENT
UID:f33380e56e4b48ea4a908f54638c7832
DTSTART:20071005T233000
DTEND:20071006T080000
LOCATION:Buenos Aires [Argentina]
GEO:0.000000000;0.000000000
DTSTAMP:20071005T233000Z
SUMMARY:Namaste
DESCRIPTION:Line Up: M4nos
URL:https://www.goabase.net/party/namaste/34306
CATEGORIES:Psytrance Event
CLASS:PUBLIC
END:VEVENT

BEGIN:VEVENT
UID:e57d35eef85dbe4eb54c6aaf2d63d5e9
DTSTART:20070831T233000
DTEND:20070901T083000
LOCATION:Buenos Aires [Argentina]
GEO:0.000000000;0.000000000
DTSTAMP:20070831T233000Z
SUMMARY:Namaste!
DESCRIPTION:
URL:https://www.goabase.net/party/namaste/33542
CATEGORIES:Psytrance Event
CLASS:PUBLIC
END:VEVENT

BEGIN:VEVENT
UID:118a741ad78f7375951d203aedd3b843
DTSTART:20070803T233000
DTEND:20070804T080000
LOCATION:Buenos Aires [Argentina]
GEO:0.000000000;0.000000000
DTSTAMP:20070803T233000Z
SUMMARY:Namaste!
DESCRIPTION:
URL:https://www.goabase.net/party/namaste/33157
CATEGORIES:Psytrance Event
CLASS:PUBLIC
END:VEVENT

BEGIN:VEVENT
UID:8d242c76eb183c408f15d4582e3e3d2a
DTSTART:20070609T230000
DTEND:20070610T080000
LOCATION:Göteborg [Sweden]
GEO:0.000000000;0.000000000
DTSTAMP:20070609T230000Z
SUMMARY:In Trance We Trust For Ever
DESCRIPTION:
URL:https://www.goabase.net/party/in-trance-we-trust-for-ever/31281
CATEGORIES:Psytrance Event
CLASS:PUBLIC
END:VEVENT

BEGIN:VEVENT
UID:753021a7bea43ce1f526903e77e56d8d
DTSTART:20070414T190000
DTEND:20070415T103000
LOCATION:Buenos Aires [Argentina]
GEO:0.000000000;0.000000000
DTSTAMP:20070414T190000Z
SUMMARY:Natural Connection free party
DESCRIPTION:Line Up: Ciprostatus vs Methabolic (Ecuador)
URL:https://www.goabase.net/party/natural-connection-free-party/30888
CATEGORIES:Psytrance Event
CLASS:PUBLIC
END:VEVENT

BEGIN:VEVENT
UID:c2826ff6abe96f9cf4d255e4c1067b3a
DTSTART:20070302T180000
DTEND:20070304T160000
LOCATION:Tornquist [Argentina]
GEO:0.000000000;0.000000000
DTSTAMP:20070302T180000Z
SUMMARY:Apon Cuyen 2007
DESCRIPTION:Line Up: Frantic Noise Heterogenesis m3nos Megalopsy Pragmatix
  Serpiente de Humo
URL:https://www.goabase.net/festival/apon-cuyen-2007/29155
CATEGORIES:Psytrance Event
CLASS:PUBLIC
END:VEVENT

BEGIN:VEVENT
UID:97770d8d8a3ed8895582d0a97cb89fb0
DTSTART:20061202T230000
DTEND:20061203T150000
LOCATION:General Rodriguez [Argentina]
GEO:0.000000000;0.000000000
DTSTAMP:20061202T230000Z
SUMMARY:Namaste! & One Zone present PsyUnion Outdoor
DESCRIPTION:
URL:https://www.goabase.net/party/namaste-one-zone-present-psyunion-outdoor/28383
CATEGORIES:Psytrance Event
CLASS:PUBLIC
END:VEVENT

BEGIN:VEVENT
UID:281025b785bfaa42c433f8f7b50b37cf
DTSTART:20061125T233000
DTEND:20061126T073000
LOCATION:Buenos Aires [Argentina]
GEO:0.000000000;0.000000000
DTSTAMP:20061125T233000Z
SUMMARY:Namaste! & One Zone present PsyUnion
DESCRIPTION:
URL:https://www.goabase.net/party/namaste-one-zone-present-psyunion/28114
CATEGORIES:Psytrance Event
CLASS:PUBLIC
END:VEVENT

BEGIN:VEVENT
UID:ad625d12f23485bb9d90fbe8067ed429
DTSTART:20061118T160000
DTEND:20061119T130000
LOCATION:General Rodriguez [Argentina]
GEO:0.000000000;0.000000000
DTSTAMP:20061118T160000Z
SUMMARY:Penta in Argentina
DESCRIPTION:Line Up: Penta  (AuraQuake  / Russia)
URL:https://www.goabase.net/party/penta-in-argentina/28012
CATEGORIES:Psytrance Event
CLASS:PUBLIC
END:VEVENT

BEGIN:VEVENT
UID:36b4c8d216acb36a32f60f53388b0891
DTSTART:20061117T233000
DTEND:20061118T073000
LOCATION:Buenos Aires [Argentina]
GEO:0.000000000;0.000000000
DTSTAMP:20061117T233000Z
SUMMARY:Acid Party vs Dancing Budhas
DESCRIPTION:
URL:https://www.goabase.net/party/acid-party-vs-dancing-budhas/28013
CATEGORIES:Psytrance Event
CLASS:PUBLIC
END:VEVENT

BEGIN:VEVENT
UID:8e716ae721ce3f8622cb1a10724d5313
DTSTART:20061104T180000
DTEND:20061105T140000
LOCATION:General Rodriguez [Argentina]
GEO:0.000000000;0.000000000
DTSTAMP:20061104T180000Z
SUMMARY:Namaste! Outdoor Psychedelic Trip
DESCRIPTION:Line Up: 03:30 - 04:30hrs: m3nos
URL:https://www.goabase.net/party/namaste-outdoor-psychedelic-trip/27778
CATEGORIES:Psytrance Event
CLASS:PUBLIC
END:VEVENT

BEGIN:VEVENT
UID:0066f25b34414e9541a5f8b5baaffc07
DTSTART:20061028T233000
DTEND:20061029T073000
LOCATION:Buenos Aires [Argentina]
GEO:0.000000000;0.000000000
DTSTAMP:20061028T233000Z
SUMMARY:Namaste!
DESCRIPTION:Line Up: m3nos
URL:https://www.goabase.net/party/namaste/27652
CATEGORIES:Psytrance Event
CLASS:PUBLIC
END:VEVENT

BEGIN:VEVENT
UID:dbd6354a209462d9fcd9b8ee3fcfdb7c
DTSTART:20061021T233000
DTEND:20061022T080000
LOCATION:Buenos Aires [Argentina]
GEO:0.000000000;0.000000000
DTSTAMP:20061021T233000Z
SUMMARY:Namaste!
DESCRIPTION:
URL:https://www.goabase.net/party/namaste/27523
CATEGORIES:Psytrance Event
CLASS:PUBLIC
END:VEVENT

BEGIN:VEVENT
UID:cbbdafef734cea56b30fd336ccb147cd
DTSTART:20060930T233000
DTEND:20061001T073000
LOCATION:Buenos Aires [Argentina]
GEO:0.000000000;0.000000000
DTSTAMP:20060930T233000Z
SUMMARY:Namaste!
DESCRIPTION:Line Up: m3nos
URL:https://www.goabase.net/party/namaste/27017
CATEGORIES:Psytrance Event
CLASS:PUBLIC
END:VEVENT

BEGIN:VEVENT
UID:b736e54b7149d56b3a0eafb539417348
DTSTART:20060923T233000
DTEND:20060924T073000
LOCATION:Buenos Aires [Argentina]
GEO:0.000000000;0.000000000
DTSTAMP:20060923T233000Z
SUMMARY:Rockin´ Budhas
DESCRIPTION:
URL:https://www.goabase.net/party/rockin-budhas/26965
CATEGORIES:Psytrance Event
CLASS:PUBLIC
END:VEVENT

BEGIN:VEVENT
UID:1a7cf1ca4ab8ac44acf04fff2d0af493
DTSTART:20060916T180000
DTEND:20060917T090000
LOCATION:Buenos Aires [Argentina]
GEO:0.000000000;0.000000000
DTSTAMP:20060916T180000Z
SUMMARY:Earthdance Argentina 2006
DESCRIPTION:Line Up: m3nos
URL:https://www.goabase.net/party/earthdance-argentina-2006/26723
CATEGORIES:Psytrance Event
CLASS:PUBLIC
END:VEVENT

END:VCALENDAR