BEGIN:VCALENDAR
VERSION:2.0
PRODID:goabase.net iCalendar 2026
X-WR-CALNAME:goabase.net - parties and people 
X-WR-TIMEZONE;VALUE=TEXT:Europe/Berlin
CALSCALE:GREGORIAN
BEGIN:VTIMEZONE
TZID:Europe/Berlin
X-LIC-LOCATION:Europe/Berlin
BEGIN:DAYLIGHT
TZOFFSETFROM:+0100
TZOFFSETTO:+0200
TZNAME:CEST
DTSTART:19700329T020000
RRULE:FREQ=YEARLY;INTERVAL=1;BYDAY=-1SU;BYMONTH=3
END:DAYLIGHT
BEGIN:STANDARD
TZOFFSETFROM:+0200
TZOFFSETTO:+0100
TZNAME:CET
DTSTART:19701025T030000
RRULE:FREQ=YEARLY;INTERVAL=1;BYDAY=-1SU;BYMONTH=10
END:STANDARD
END:VTIMEZONE

BEGIN:VEVENT
UID:47a21e3fe939a015ab717d6136fbaf39
DTSTART:20260517T140000
DTEND:20260517T220000
LOCATION:Stuttgart [Germany]
GEO:48.800000000;9.200000000
DTSTAMP:20260517T140000Z
SUMMARY:Psychedelic Community Festival Stuttgart | DayDance @ Fridas Pier
DESCRIPTION:Line Up: Main Floor IONIC (Nebula) Trippsy (Star Dancer) Astralica
  (Anderswelt) Mind Collector (N8falter) Hyperion (Nebula) Oberd…
  Location: Fridas Pier, Uferstraße 107, 70188 Stuttgart
URL:https://www.goabase.net/party/psychedelic-community-festival-stuttgart-daydance-fridas-pier/117381
CATEGORIES:Psytrance Event
CLASS:PUBLIC
END:VEVENT

BEGIN:VEVENT
UID:890060db938d7de98d1e489da00f8220
DTSTART:20260313T220000
DTEND:20260314T060000
LOCATION:Stuttgart [Germany]
GEO:48.800000000;9.200000000
DTSTAMP:20260313T220000Z
SUMMARY:Starlight Ritual @ Sunny High Club
DESCRIPTION:Line Up: Phat Younity ReVerve B2B DJane Juju Trippsy B2B EcXtase Qilin
  B2B CrayJoe Location: Sunny High Club, Bahnhofstraße 14-18, 70372
  Stuttgart
URL:https://www.goabase.net/party/starlight-ritual-sunny-high-club/117066
CATEGORIES:Psytrance Event
CLASS:PUBLIC
END:VEVENT

BEGIN:VEVENT
UID:f5e81627135f2d141a79dd540f95d117
DTSTART:20260221T230000
DTEND:20260222T050000
LOCATION:Schwäbisch Hall [Germany]
GEO:49.100000000;9.700000000
DTSTAMP:20260221T230000Z
SUMMARY:HEXENKESSEL
DESCRIPTION:Line Up: Trippsy -&gt- Astralica -&gt- Wiu -&gt- Location: Alte
  Zimmerei Schwäbisch Hall, Auwiesenstraße 3, 74523 Schwäbisch Hall
URL:https://www.goabase.net/party/hexenkessel/116734
CATEGORIES:Psytrance Event
CLASS:PUBLIC
END:VEVENT

BEGIN:VEVENT
UID:1ce682bb21630d831ea6eb5e4b285f08
DTSTART:20251213T220000
DTEND:20251214T050000
LOCATION:Fellbach [Germany]
GEO:48.800000000;9.300000000
DTSTAMP:20251213T220000Z
SUMMARY:Starlight Ritual Vol. 4
DESCRIPTION:Line Up: • DJane Juju • BassPiRad • Synaptikat • Trippsy Location:
  Make Ckub & Lounge, Salierstraße 46, 70736 Fellbach
URL:https://www.goabase.net/party/starlight-ritual-vol-4/116386
CATEGORIES:Psytrance Event
CLASS:PUBLIC
END:VEVENT

BEGIN:VEVENT
UID:1beace2796740f2b4536fa01ef6e1bde
DTSTART:20251108T220000
DTEND:20251109T050000
LOCATION:Fellbach [Germany]
GEO:48.800000000;9.300000000
DTSTAMP:20251108T220000Z
SUMMARY:3 Jahre Star Dancer Kollektiv
DESCRIPTION:Line Up: 🌀Main Floor &quot;Center of Universe&quot;:🌀
  (Progressive/FullOn) ✨️Störkläng✨️ ✨️RadX29✨️ ✨️Astralica✨️ ✨️Trippsy✨️
  🌳2n… Location: Make Ckub & Lounge, Salierstraße 46, 70736 Fellbach
URL:https://www.goabase.net/party/3-jahre-star-dancer-kollektiv/115920
CATEGORIES:Psytrance Event
CLASS:PUBLIC
END:VEVENT

BEGIN:VEVENT
UID:6042785b0919a561c96cceb251533d1f
DTSTART:20251004T220000
DTEND:20251005T050000
LOCATION:Fellbach [Germany]
GEO:48.800000000;9.300000000
DTSTAMP:20251004T220000Z
SUMMARY:Starlight Ritual vol. 3
DESCRIPTION:Line Up: 🌟 ReVerve 🌟 Hammi H. 🌟 Buzz-T 🌟 Trippsy Location: Club Make,
  Salierstraße 46, 70736 Fellbach
URL:https://www.goabase.net/party/starlight-ritual-vol-3/115911
CATEGORIES:Psytrance Event
CLASS:PUBLIC
END:VEVENT

BEGIN:VEVENT
UID:dcd20774cf7155cae6a795149ef7a85c
DTSTART:20250906T220000
DTEND:20250907T050000
LOCATION:Fellbach [Germany]
GEO:48.800000000;9.300000000
DTSTAMP:20250906T220000Z
SUMMARY:Starlight Ritual Vol. 2
DESCRIPTION:Line Up: 🌟 AphrodiA 🌟 CrayJoe 🌟 ecXtase 🌟 Trippsy Location: Club Make,
  Salierstraße 46, 70736 Fellbach
URL:https://www.goabase.net/party/starlight-ritual-vol-2/115714
CATEGORIES:Psytrance Event
CLASS:PUBLIC
END:VEVENT

BEGIN:VEVENT
UID:de579e4be8099e7a40e97e567059b40a
DTSTART:20250802T180000
DTEND:20250803T080000
LOCATION:Winterbach [Germany]
GEO:48.799180000;9.479140000
DTSTAMP:20250802T180000Z
SUMMARY:Starlight Awakening
DESCRIPTION:Line Up: 🎧 Sammler 🎧 ChinaWhite 🎧 DJane Juju 🎧 ecXtase 🎧 Trippsy 🎧 Psy
  Gee 🎧 CrayJoe 🎧 Nope159 Location: Private Location, , 73650 Winterbach
URL:https://www.goabase.net/party/starlight-awakening/115629
CATEGORIES:Psytrance Event
CLASS:PUBLIC
END:VEVENT

BEGIN:VEVENT
UID:c9d1fe06c3c2c0a61e72551022a2a9a7
DTSTART:20250705T220000
DTEND:20250706T050000
LOCATION:Fellbach [Germany]
GEO:48.800000000;9.300000000
DTSTAMP:20250705T220000Z
SUMMARY:Starlight Ritual
DESCRIPTION:Line Up: Contest Gewinner CrayJoe Semrike Trippsy Location: Club Make,
  Salierstraße 46, 70736 Fellbach
URL:https://www.goabase.net/party/starlight-ritual/115417
CATEGORIES:Psytrance Event
CLASS:PUBLIC
END:VEVENT

BEGIN:VEVENT
UID:4a0ee1c91cfb81d9425a90e59188210f
DTSTART:20250608T180000
DTEND:20250609T080000
LOCATION:Waiblingen [Germany]
GEO:48.800000000;9.300000000
DTSTAMP:20250608T180000Z
SUMMARY:Tripstasy | Outdoor Psychedelic Gathering
DESCRIPTION:Line Up: CrayJoe • Younity • Trippsy • RadX29 • Astralica • Kevin
  Flaisch • Psy Gee B2B Minas de Soma • Dheaxx • Sammler Location:
  !!!LOCATION WIRD NUR IN EINER UNSERER GRUPPEN GEPOSTET!!!, , 71332
  Waiblingen
URL:https://www.goabase.net/party/tripstasy-outdoor-psychedelic-gathering/115247
CATEGORIES:Psytrance Event
CLASS:PUBLIC
END:VEVENT

BEGIN:VEVENT
UID:2186c0026ccfdb194fdfc73493d4bd1f
DTSTART:20250510T220000
DTEND:20250511T050000
LOCATION:Fellbach [Germany]
GEO:48.800000000;9.300000000
DTSTAMP:20250510T220000Z
SUMMARY:Sunrise Ritual
DESCRIPTION:Line Up: BassPiRad Luceleven Finja Trippsy Location: Club Make,
  Salierstraße 46, 70736 Fellbach
URL:https://www.goabase.net/party/sunrise-ritual/115114
CATEGORIES:Psytrance Event
CLASS:PUBLIC
END:VEVENT

BEGIN:VEVENT
UID:c4ee318c8a29054bb1e2a03c59fe2e68
DTSTART:20250430T220000
DTEND:20250501T050000
LOCATION:Schwäbisch Hall [Germany]
GEO:49.100000000;9.700000000
DTSTAMP:20250430T220000Z
SUMMARY:🕉 Psy in den Mai 🕉
DESCRIPTION:Line Up: Finja Kevin Flaisch Astralica Trippsy Location: Alte
  Zimmerei, Auwiesenstraße 3, 74523 Schwäbisch Hall
URL:https://www.goabase.net/party/psy-in-den-mai/115179
CATEGORIES:Psytrance Event
CLASS:PUBLIC
END:VEVENT

BEGIN:VEVENT
UID:3b8b04c2a115dd2fd509ec8fea8fb100
DTSTART:20250419T220000
DTEND:20250420T050000
LOCATION:Fellbach [Germany]
GEO:48.800000000;9.300000000
DTSTAMP:20250419T220000Z
SUMMARY:Psychadelic 420
DESCRIPTION:Line Up: 🕉 Star Dancer Floor 🕉 ✨ Astralica ✨ Younity ✨ Störklänge ✨
  Trippsy 🕉 Noise & Melody Floor 🕉 ✨ Faey ★ ✨ Sushi ✨ The Rgona…
  Location: Club Make, Salierstraße 46, 70736 Fellbach
URL:https://www.goabase.net/party/psychadelic-420/114935
CATEGORIES:Psytrance Event
CLASS:PUBLIC
END:VEVENT

BEGIN:VEVENT
UID:5aa0e0a233154d8193ccb89d3249b41a
DTSTART:20250322T220000
DTEND:20250323T050000
LOCATION:Fellbach [Germany]
GEO:48.800000000;9.300000000
DTSTAMP:20250322T220000Z
SUMMARY:Astral Galaxy
DESCRIPTION:Line Up: The Rgonauts Dheaxx Qilin B2B Trippsy Kaschel Location: Club
  Make, Salierstraße 46, 70736 Fellbach
URL:https://www.goabase.net/party/astral-galaxy/114685
CATEGORIES:Psytrance Event
CLASS:PUBLIC
END:VEVENT

BEGIN:VEVENT
UID:647d01f2ad14b96d86035c235bab1be7
DTSTART:20250215T220000
DTEND:20250216T050000
LOCATION:Fellbach [Germany]
GEO:48.800000000;9.300000000
DTSTAMP:20250215T220000Z
SUMMARY:Universe of Color
DESCRIPTION:Line Up: ✨Vendetta✨ ✨Psy Gee✨ ✨Buzz-T (Zero One Music Label)✨
  ✨Trippsy✨ Location: Make Club&Lounge, Salierstraße 46, 70736 Fellbach
URL:https://www.goabase.net/party/universe-of-color/114463
CATEGORIES:Psytrance Event
CLASS:PUBLIC
END:VEVENT

BEGIN:VEVENT
UID:5719d9c8ccad502cb93eb95761dca39e
DTSTART:20250117T220000
DTEND:20250118T050000
LOCATION:Fellbach [Germany]
GEO:48.800000000;9.300000000
DTSTAMP:20250117T220000Z
SUMMARY:Mindwave Odyssey
DESCRIPTION:Line Up: Larytale B2B Dakami CrayJoe Störklänge Trippsy Location: Club
  Make, Salierstraße 46, 70736 Fellbach
URL:https://www.goabase.net/party/mindwave-odyssey/114319
CATEGORIES:Psytrance Event
CLASS:PUBLIC
END:VEVENT

BEGIN:VEVENT
UID:bd3f04f1947f0dd9894def6e05315e8b
DTSTART:20241231T220000
DTEND:20250101T050000
LOCATION:Fellbach [Germany]
GEO:48.800000000;9.300000000
DTSTAMP:20241231T220000Z
SUMMARY:Breaking Through / Silvester Party
DESCRIPTION:Line Up: Main Floor(Psytrance) Enano Qilin Trippsy 2nd
  Floor(Acid/Techno/Schranz) BassPiRad Dheaxx CrayJoe Jonthe G-Punkt
  Location: Club Make, Salierstraße 46, 70736 Fellbach
URL:https://www.goabase.net/party/breaking-through-silvester-party/114135
CATEGORIES:Psytrance Event
CLASS:PUBLIC
END:VEVENT

BEGIN:VEVENT
UID:9bc3a542ce5ccbbb30260e18b3692ef4
DTSTART:20241214T220000
DTEND:20241215T050000
LOCATION:Fellbach [Germany]
GEO:48.800000000;9.300000000
DTSTAMP:20241214T220000Z
SUMMARY:Dancing Snowflake // Near Stuttgart
DESCRIPTION:Line Up: BassPiRad CrayJoe Sayon Trippsy Location: Club Make,
  Salierstraße 46, 70736 Fellbach
URL:https://www.goabase.net/party/dancing-snowflake-near-stuttgart/114038
CATEGORIES:Psytrance Event
CLASS:PUBLIC
END:VEVENT

BEGIN:VEVENT
UID:59487d48f48b64f8d2e9f8589f2cb117
DTSTART:20241102T210000
DTEND:20241103T050000
LOCATION:Fellbach [Germany]
GEO:48.800000000;9.300000000
DTSTAMP:20241102T210000Z
SUMMARY:Shifting Dimensions // 2 Jahre Star Dancer Jubiläum
DESCRIPTION:Line Up: Dakami B2B Larytale Qilin B2B CrayJoe Astralica B2B Nicom
  Trippsy B2B Younity Location: Club Make, Salierstraße 46, 70736
  Fellbach
URL:https://www.goabase.net/party/shifting-dimensions-2-jahre-star-dancer-jubilaeum/113731
CATEGORIES:Psytrance Event
CLASS:PUBLIC
END:VEVENT

BEGIN:VEVENT
UID:76adbffe090967085c65487229d590a0
DTSTART:20240809T220000
DTEND:20240810T050000
LOCATION:Fellbach [Germany]
GEO:48.800000000;9.300000000
DTSTAMP:20240809T220000Z
SUMMARY:Psynetary Collision
DESCRIPTION:Line Up: 🕉Vendetta 》22:00-23:30🕉 🕉CrayJoe 》23:30-01:00🕉 🕉Trippsy
  》01:00-03:00🕉 🕉Belial 》03:00-05:00 Location: Club Make, Salierstraße
  46, 70736 Fellbach
URL:https://www.goabase.net/party/psynetary-collision/113342
CATEGORIES:Psytrance Event
CLASS:PUBLIC
END:VEVENT

END:VCALENDAR