BEGIN:VCALENDAR
VERSION:2.0
PRODID:goabase.net iCalendar 2026
X-WR-CALNAME:goabase.net - parties and people 
X-WR-TIMEZONE;VALUE=TEXT:Europe/Berlin
CALSCALE:GREGORIAN
BEGIN:VTIMEZONE
TZID:Europe/Berlin
X-LIC-LOCATION:Europe/Berlin
BEGIN:DAYLIGHT
TZOFFSETFROM:+0100
TZOFFSETTO:+0200
TZNAME:CEST
DTSTART:19700329T020000
RRULE:FREQ=YEARLY;INTERVAL=1;BYDAY=-1SU;BYMONTH=3
END:DAYLIGHT
BEGIN:STANDARD
TZOFFSETFROM:+0200
TZOFFSETTO:+0100
TZNAME:CET
DTSTART:19701025T030000
RRULE:FREQ=YEARLY;INTERVAL=1;BYDAY=-1SU;BYMONTH=10
END:STANDARD
END:VTIMEZONE

BEGIN:VEVENT
UID:eef995a4eef0eeea32b97aee600167d6
DTSTART:20110902T230000
DTEND:20110904T230000
LOCATION:Alentejo [Portugal]
GEO:0.000000000;0.000000000
DTSTAMP:20110902T230000Z
SUMMARY:UNCLE FEST 2011
DESCRIPTION:Line Up: soon
URL:https://www.goabase.net/festival/uncle-fest-2011/45284
CATEGORIES:Psytrance Event
CLASS:PUBLIC
END:VEVENT

BEGIN:VEVENT
UID:5fd48cb5f46e464580e7eea3324a0e58
DTSTART:20110603T220000
DTEND:20110605T220000
LOCATION:Alentejo [Portugal]
GEO:0.000000000;0.000000000
DTSTAMP:20110603T220000Z
SUMMARY:TIOPARTYS PRESENTS - IBÉRICA FEST - 3,4 e 5 JUNHO
DESCRIPTION:Line Up: D-MANIAC (Namaha Rec. / One Foot Groove Rec.) PT LEOPARDTRON
  (Cyberflux Recordings) SPAIN ZARAUS (One Foot Groove Rec. /…
URL:https://www.goabase.net/festival/tiopartys-presents-iberica-fest-34-e-5-junho/58463
CATEGORIES:Psytrance Event
CLASS:PUBLIC
END:VEVENT

BEGIN:VEVENT
UID:ad60e70d7a08145d1e68a2f2c1216a18
DTSTART:20110205T220000
DTEND:20110206T200000
LOCATION:Alandroal - Alentejo [Portugal]
GEO:0.000000000;0.000000000
DTSTAMP:20110205T220000Z
SUMMARY:TEST DRIVE
DESCRIPTION:Line Up: MYRAH (Namaha rec. / side wave) PT NAZKA (D-Djance Rec.) PT
  ELEKTROMIND (Tiopartys) PT
URL:https://www.goabase.net/party/test-drive/57530
CATEGORIES:Psytrance Event
CLASS:PUBLIC
END:VEVENT

BEGIN:VEVENT
UID:9bc0a2fff4c7af0a1e2a334ab6e7fb1e
DTSTART:20110128T230000
DTEND:20110129T043000
LOCATION:Vila Viçosa [Portugal]
GEO:0.000000000;0.000000000
DTSTAMP:20110128T230000Z
SUMMARY:PSY NIGHT PARTY
DESCRIPTION:Line Up: NAZKA (D-DJANCE REC,)
URL:https://www.goabase.net/party/psy-night-party/57542
CATEGORIES:Psytrance Event
CLASS:PUBLIC
END:VEVENT

BEGIN:VEVENT
UID:a4b4f3857f634bbd0791a740f768dc44
DTSTART:20110114T230000
DTEND:20110115T043000
LOCATION:Vila Viçosa [Portugal]
GEO:0.000000000;0.000000000
DTSTAMP:20110114T230000Z
SUMMARY:RETURN TRANCE
DESCRIPTION:
URL:https://www.goabase.net/party/return-trance/57684
CATEGORIES:Psytrance Event
CLASS:PUBLIC
END:VEVENT

BEGIN:VEVENT
UID:a12be98c3305a453021dca71600d8e76
DTSTART:20101224T233000
DTEND:20101225T043000
LOCATION:Vila Viçosa [Portugal]
GEO:0.000000000;0.000000000
DTSTAMP:20101224T233000Z
SUMMARY:BUBBLES CRHISTMAS
DESCRIPTION:
URL:https://www.goabase.net/party/bubbles-crhistmas/56786
CATEGORIES:Psytrance Event
CLASS:PUBLIC
END:VEVENT

BEGIN:VEVENT
UID:074794890e9279ef4fbbc79c6f9be8f7
DTSTART:20101217T230000
DTEND:20101218T040000
LOCATION:Vila Viçosa [Portugal]
GEO:0.000000000;0.000000000
DTSTAMP:20101217T230000Z
SUMMARY:CEREBRAL TALES
DESCRIPTION:Line Up: SINAPZE  live percurssion (MOUZKITO TRIBE/MADHAUSE REC)
URL:https://www.goabase.net/party/cerebral-tales/56785
CATEGORIES:Psytrance Event
CLASS:PUBLIC
END:VEVENT

BEGIN:VEVENT
UID:1e51fa3c23d9e2fec7d3e835cc4a00a3
DTSTART:20101210T230000
DTEND:20101211T040000
LOCATION:Vila Viçosa [Portugal]
GEO:0.000000000;0.000000000
DTSTAMP:20101210T230000Z
SUMMARY:NEON'S PARTY
DESCRIPTION:
URL:https://www.goabase.net/party/neons-party/56784
CATEGORIES:Psytrance Event
CLASS:PUBLIC
END:VEVENT

BEGIN:VEVENT
UID:0422716ba4fb07e3d75899173a02f6c6
DTSTART:20101203T233000
DTEND:20101204T040000
LOCATION:Vila Viçosa [Portugal]
GEO:0.000000000;0.000000000
DTSTAMP:20101203T233000Z
SUMMARY:PUNTSE PUNTSE PARTY
DESCRIPTION:
URL:https://www.goabase.net/party/puntse-puntse-party/56580
CATEGORIES:Psytrance Event
CLASS:PUBLIC
END:VEVENT

BEGIN:VEVENT
UID:1c93319f8a5aad13a17de0d8bb0a44cc
DTSTART:20101126T233000
DTEND:20101127T040000
LOCATION:Vila Viçosa [Portugal]
GEO:0.000000000;0.000000000
DTSTAMP:20101126T233000Z
SUMMARY:ALIENS PARTY
DESCRIPTION:
URL:https://www.goabase.net/party/aliens-party/56579
CATEGORIES:Psytrance Event
CLASS:PUBLIC
END:VEVENT

BEGIN:VEVENT
UID:4bd0e71094773c9b0855ce8aa8930261
DTSTART:20101119T233000
DTEND:20101120T040000
LOCATION:Vila Viçosa [Portugal]
GEO:0.000000000;0.000000000
DTSTAMP:20101119T233000Z
SUMMARY:TRANCE EXPLOSION
DESCRIPTION:
URL:https://www.goabase.net/party/trance-explosion/56578
CATEGORIES:Psytrance Event
CLASS:PUBLIC
END:VEVENT

BEGIN:VEVENT
UID:337bc771fa7bb9ff44c157555ac08fd1
DTSTART:20101030T233000
DTEND:20101031T070000
LOCATION:Vila Viçosa [Portugal]
GEO:0.000000000;0.000000000
DTSTAMP:20101030T233000Z
SUMMARY:HALLOWTRANCE
DESCRIPTION:
URL:https://www.goabase.net/party/hallowtrance/56199
CATEGORIES:Psytrance Event
CLASS:PUBLIC
END:VEVENT

BEGIN:VEVENT
UID:0ca8ca042d6e35be0f01e9ce20d9d00f
DTSTART:20100702T230000
DTEND:20100704T193000
LOCATION:Fronteira [Portugal]
GEO:0.000000000;0.000000000
DTSTAMP:20100702T230000Z
SUMMARY:ANESKET BIRTHDAY PARTY
DESCRIPTION:Line Up: SUPERSPUNK (Klandestino Crew) SPAIN A-MUSH (Crystal Matrix/3D
  VISION) PT MYRAH (Psyart/Namaha/Sidewave rec.) PT ORIANIS…
URL:https://www.goabase.net/festival/anesket-birthday-party/53214
CATEGORIES:Psytrance Event
CLASS:PUBLIC
END:VEVENT

BEGIN:VEVENT
UID:aaadc642fb81315e8d6a60c6c175ea10
DTSTART:20100430T220000
DTEND:20100502T220000
LOCATION:Vila Viçosa [Portugal]
GEO:0.000000000;0.000000000
DTSTAMP:20100430T220000Z
SUMMARY:PPP-PRIMAVERA PSY PARTY-48 Horas NON-STOP - 30 ABR,1 e 2 MAI
DESCRIPTION:Line Up: A-MUSH (Crystal Matrix/3D VISION) PT SUPERSPUNK (Klandestino
  Crew) SPAIN LEOPARDTRON (Cyberflux Rec.) SPAIN - 1a vez em…
URL:https://www.goabase.net/festival/ppp-primavera-psy-party-48-horas-non-stop-30-abr1-e-2-mai/51810
CATEGORIES:Psytrance Event
CLASS:PUBLIC
END:VEVENT

BEGIN:VEVENT
UID:5952f7946cd3b250d11d030d14903a41
DTSTART:20091219T220000
DTEND:20091221T120000
LOCATION:Vila Viçosa [Portugal]
GEO:0.000000000;0.000000000
DTSTAMP:20091219T220000Z
SUMMARY:REENCONTRO
DESCRIPTION:
URL:https://www.goabase.net/festival/reencontro/50066
CATEGORIES:Psytrance Event
CLASS:PUBLIC
END:VEVENT

BEGIN:VEVENT
UID:f0b2bf527f6508b09c427963289acf83
DTSTART:20091002T233000
DTEND:20091005T180000
LOCATION:Vila Viçosa [Portugal]
GEO:0.000000000;0.000000000
DTSTAMP:20091002T233000Z
SUMMARY:NERO BIRTHDAY PARTY
DESCRIPTION:Line Up: ANESKET (Mouzkito Tribe) PT
URL:https://www.goabase.net/festival/nero-birthday-party/48602
CATEGORIES:Psytrance Event
CLASS:PUBLIC
END:VEVENT

BEGIN:VEVENT
UID:a0897b596c236ae812fbfd69dc4698a0
DTSTART:20090904T223000
DTEND:20090906T223000
LOCATION:Barragem do Alqueva [Portugal]
GEO:0.000000000;0.000000000
DTSTAMP:20090904T223000Z
SUMMARY:UNCLE FEST
DESCRIPTION:Line Up: SUPERSPUNK (Klandestino Crew) SP LOGICAL (Magma Rec.) PT
  NAZKA (Cortex/D-Djance) PT FREAK ILUSION (Technical minds/New G…
URL:https://www.goabase.net/festival/uncle-fest/44641
CATEGORIES:Psytrance Event
CLASS:PUBLIC
END:VEVENT

BEGIN:VEVENT
UID:0899c822cd4e534e33a9ff87583f159d
DTSTART:20090821T230000
DTEND:20090823T180000
LOCATION:Pardais, Fonte Soeiro, Vila… [Portugal]
GEO:0.000000000;0.000000000
DTSTAMP:20090821T230000Z
SUMMARY:SATAN FREE PARTY
DESCRIPTION:Line Up: ANESKET (Mouzkito Tribe) PT
URL:https://www.goabase.net/festival/satan-free-party/47994
CATEGORIES:Psytrance Event
CLASS:PUBLIC
END:VEVENT

BEGIN:VEVENT
UID:ef7dab0de074716248892f38eb1c5736
DTSTART:20090725T233000
DTEND:20090726T060000
LOCATION:Vila Viçosa [Portugal]
GEO:0.000000000;0.000000000
DTSTAMP:20090725T233000Z
SUMMARY:BLACK AND WHITE FESTIVAL
DESCRIPTION:
URL:https://www.goabase.net/party/black-and-white-festival/47582
CATEGORIES:Psytrance Event
CLASS:PUBLIC
END:VEVENT

BEGIN:VEVENT
UID:cc8cee492ec949ff81c325eb05dfedb1
DTSTART:20090718T233000
DTEND:20090719T053000
LOCATION:Vila Viçosa [Portugal]
GEO:0.000000000;0.000000000
DTSTAMP:20090718T233000Z
SUMMARY:VODKA PARTY
DESCRIPTION:
URL:https://www.goabase.net/party/vodka-party/47455
CATEGORIES:Psytrance Event
CLASS:PUBLIC
END:VEVENT

END:VCALENDAR