BEGIN:VCALENDAR
VERSION:2.0
PRODID:goabase.net iCalendar 2026
X-WR-CALNAME:goabase.net - parties and people 
X-WR-TIMEZONE;VALUE=TEXT:Europe/Berlin
CALSCALE:GREGORIAN
BEGIN:VTIMEZONE
TZID:Europe/Berlin
X-LIC-LOCATION:Europe/Berlin
BEGIN:DAYLIGHT
TZOFFSETFROM:+0100
TZOFFSETTO:+0200
TZNAME:CEST
DTSTART:19700329T020000
RRULE:FREQ=YEARLY;INTERVAL=1;BYDAY=-1SU;BYMONTH=3
END:DAYLIGHT
BEGIN:STANDARD
TZOFFSETFROM:+0200
TZOFFSETTO:+0100
TZNAME:CET
DTSTART:19701025T030000
RRULE:FREQ=YEARLY;INTERVAL=1;BYDAY=-1SU;BYMONTH=10
END:STANDARD
END:VTIMEZONE

BEGIN:VEVENT
UID:fddbb52d6ecf21b92cbc21f708024469
DTSTART:20190320T133000
DTEND:20190321T120000
LOCATION:Sahara [Morocco]
GEO:-18.607442900;48.096370700
DTSTAMP:20190320T133000Z
SUMMARY:SAHARIAN Full moon complex
DESCRIPTION:Line Up: Real near of heart it's a time to moove. Songs and saharian
  culture you are welcome to see the magic world and hot tempe…
URL:https://www.goabase.net/party/saharian-full-moon-complex/103149
CATEGORIES:Psytrance Event
CLASS:PUBLIC
END:VEVENT

END:VCALENDAR