BEGIN:VCALENDAR
VERSION:2.0
PRODID:goabase.net iCalendar 2026
X-WR-CALNAME:goabase.net - parties and people 
X-WR-TIMEZONE;VALUE=TEXT:Europe/Berlin
CALSCALE:GREGORIAN
BEGIN:VTIMEZONE
TZID:Europe/Berlin
X-LIC-LOCATION:Europe/Berlin
BEGIN:DAYLIGHT
TZOFFSETFROM:+0100
TZOFFSETTO:+0200
TZNAME:CEST
DTSTART:19700329T020000
RRULE:FREQ=YEARLY;INTERVAL=1;BYDAY=-1SU;BYMONTH=3
END:DAYLIGHT
BEGIN:STANDARD
TZOFFSETFROM:+0200
TZOFFSETTO:+0100
TZNAME:CET
DTSTART:19701025T030000
RRULE:FREQ=YEARLY;INTERVAL=1;BYDAY=-1SU;BYMONTH=10
END:STANDARD
END:VTIMEZONE

BEGIN:VEVENT
UID:fa54646cbd0502e9ec0e144c3ed4966d
DTSTART:20170304T210000
DTEND:20170305T090000
LOCATION:Budapest [Hungary]
GEO:47.508424591;19.089915872
DTSTAMP:20170304T210000Z
SUMMARY:Avatar 15. FREE Birthday Party : Atmos/Asura/Emok/Djane Gaby/Human Element +++
DESCRIPTION:Line Up: ATMOS - LIVE ASURA - LIVE EMOK DJANE GABY HUMAN ELEMENT -
  LIVE OLEG WEGHA GORGO TSUBI DR SPACE BB303 BUXI TAKKRA - LIVE
URL:https://www.goabase.net/party/avatar-15-free-birthday-party-atmosasuraemokdjane-gabyhuman-element/93833
CATEGORIES:Psytrance Event
CLASS:PUBLIC
END:VEVENT

BEGIN:VEVENT
UID:5b4aaeaa0c793e0443b561a10cdb8dbf
DTSTART:20161203T220000
DTEND:20161204T070000
LOCATION:Budapest [Hungary]
GEO:47.498382600;19.040470100
DTSTAMP:20161203T220000Z
SUMMARY:Avatar Presents :LIQUID SOUL (Iboga Records) - LIVE (CH)
DESCRIPTION:Line Up: LIVE ACTS: LIQUID SOUL (Iboga Records) - LIVE (CH) OLEG
  (Deepsmile) - HUN TSUBI (Radiozora) - HUN
URL:https://www.goabase.net/party/avatar-presents-liquid-soul-iboga-records-live-ch/91781
CATEGORIES:Psytrance Event
CLASS:PUBLIC
END:VEVENT

BEGIN:VEVENT
UID:979d5c32831c4f2409ced04585ff8f58
DTSTART:20161202T220000
DTEND:20161203T050000
LOCATION:Budapest [Hungary]
GEO:47.498382600;19.040470100
DTSTAMP:20161202T220000Z
SUMMARY:Avatar pres.: Carbon Based Lifeforms (Leftfield Records) - LIVE (SWE)
DESCRIPTION:Line Up: Carbon Based Lifeforms ( Leftfield Records ) - LIVE (SWE)
  BB303 (Independent) - HUN Buxi ( PsyBaBa Records ) - HUN + Spe…
URL:https://www.goabase.net/party/avatar-pres-carbon-based-lifeforms-leftfield-records-live-swe/92022
CATEGORIES:Psytrance Event
CLASS:PUBLIC
END:VEVENT

BEGIN:VEVENT
UID:2cc3c391f66860c53bfeed8aca31de4e
DTSTART:20161111T220000
DTEND:20161113T070000
LOCATION:Budapest [Hungary]
GEO:47.498382600;19.040470100
DTSTAMP:20161111T220000Z
SUMMARY:Avatar Presents : Solar Fields x 2 (Ultimae Records) - LIVE & Human Element
DESCRIPTION:Line Up: Friday Timetable : 22:00 - 00:30 BUXI (Psybaba Records) 00:30
  - 02:00 SOLAR FIELDS (Ultimae Records) - LIVE 02:00 - 05:0…
URL:https://www.goabase.net/party/avatar-presents-solar-fields-x-2-ultimae-records-live-human-element/91780
CATEGORIES:Psytrance Event
CLASS:PUBLIC
END:VEVENT

BEGIN:VEVENT
UID:e010cc38ee03262aaed9e4a38cda57af
DTSTART:20151107T223000
DTEND:20151108T120000
LOCATION:Budapest [Hungary]
GEO:47.498382600;19.040470100
DTSTAMP:20151107T223000Z
SUMMARY:Avatar Presents : CAPTAIN HOOK (Iboga Records) ISR - Live
DESCRIPTION:Line Up: Main Stage : CAPTAIN HOOK (Iboga Records) - LIVE (ISR) OLEG
  (Solar United Natives) - HUN GÖRGÖ (BMSS Records) - HUN TSUB…
URL:https://www.goabase.net/party/avatar-presents-captain-hook-iboga-records-isr-live/86842
CATEGORIES:Psytrance Event
CLASS:PUBLIC
END:VEVENT

BEGIN:VEVENT
UID:17b6ecd346c51cbd93cd506b1be7ca47
DTSTART:20150307T220000
DTEND:20150308T063000
LOCATION:Budapest [Hungary]
GEO:47.498264300;19.051587200
DTSTAMP:20150307T220000Z
SUMMARY:Avatar Presents : LIQUID SOUL (Iboga Records) CH - Live
DESCRIPTION:Line Up: LIQUID SOUL (Iboga Records) CH - LIVE OLEG (Deepsmile) TSUBI
  (BMSS Records/Radiozora) GORGO (BMSS Records)
URL:https://www.goabase.net/party/avatar-presents-liquid-soul-iboga-records-ch-live/83795
CATEGORIES:Psytrance Event
CLASS:PUBLIC
END:VEVENT

BEGIN:VEVENT
UID:a730e3b5d5b72d146eed38c413c90770
DTSTART:20150306T220000
DTEND:20150307T043000
LOCATION:Hungary [Hungary]
GEO:47.469134000;19.074986800
DTSTAMP:20150306T220000Z
SUMMARY:AMBIENT AVATAR Presents Carbon Based Lifeforms (SWE) - Live
DESCRIPTION:Line Up: CARBON BASED LIFEFORMS (Ultimae Records) SWE - LIVE BB303
  (Independent) - HUN BUXI (Psybaba Records) - HUN
URL:https://www.goabase.net/party/ambient-avatar-presents-carbon-based-lifeforms-swe-live/83800
CATEGORIES:Psytrance Event
CLASS:PUBLIC
END:VEVENT

BEGIN:VEVENT
UID:e4027f15ec32569a14faaeae74563326
DTSTART:20150207T223000
DTEND:20150208T073000
LOCATION:Budapest [Hungary]
GEO:47.498383000;19.040470000
DTSTAMP:20150207T223000Z
SUMMARY:Avatar presents : Solar Fields & Vibrasphere by robert elster & Emok
DESCRIPTION:Line Up: Avatar room: SOLAR FIELDS (Ultimae Records) SWE - LIVE EMOK
  (Iboga Records) DK VIBRASPHERE by Robert Elster (Digital Str…
URL:https://www.goabase.net/party/avatar-presents-solar-fields-vibrasphere-by-robert-elster-emok/82957
CATEGORIES:Psytrance Event
CLASS:PUBLIC
END:VEVENT

BEGIN:VEVENT
UID:451d3b247c663bc63e0b7bf35aadff9a
DTSTART:20141108T230000
DTEND:20141109T120000
LOCATION:Budapest [Hungary]
GEO:47.498383000;19.040470000
DTSTAMP:20141108T230000Z
SUMMARY:Avatar pres.Atmos (Iboga Rec.) -Live Album preview with Special guest Shane Gobi
DESCRIPTION:Line Up: ATMOS (Iboga Records) - LIVE (Album Preview) - SWE SHANE GOBI
  (Alchemy Records) - UK OLEG (Deepsmile/S.U.N. Festival) -…
URL:https://www.goabase.net/party/avatar-presatmos-iboga-rec-live-album-preview-with-special-guest-shane-gobi/81777
CATEGORIES:Psytrance Event
CLASS:PUBLIC
END:VEVENT

BEGIN:VEVENT
UID:327016b3de1c1fd891e210cae408d75f
DTSTART:20140722T210000
DTEND:20140727T120000
LOCATION:Csobankapuszta [Hungary]
GEO:0.000000000;0.000000000
DTSTAMP:20140722T210000Z
SUMMARY:S.U.N. FESTIVAL 2014
DESCRIPTION:Line Up: Solar Circle : Absolum (3D Vision Records) – FR Atmos (Iboga
  Records/Atmotech) - SWE Avalon (Nano Records) - UK Banel ak…
URL:https://www.goabase.net/festival/sun-festival-2014/78413
CATEGORIES:Psytrance Event
CLASS:PUBLIC
END:VEVENT

BEGIN:VEVENT
UID:bcf221a200cbf09c0e360d4f614eb997
DTSTART:20140322T220000
DTEND:20140323T120000
LOCATION:Budapest [Hungary]
GEO:47.474622000;19.070427200
DTSTAMP:20140322T220000Z
SUMMARY:AVATAR presents : SENSIENT (Zenon Records) - LIVE (AUS)
DESCRIPTION:Line Up: SENSIENT (Zenon Records) - LIVE (AUS)
URL:https://www.goabase.net/party/avatar-presents-sensient-zenon-records-live-aus/78178
CATEGORIES:Psytrance Event
CLASS:PUBLIC
END:VEVENT

BEGIN:VEVENT
UID:4f88377bdeb68a578db2b0c6c0ec5ae2
DTSTART:20140321T220000
DTEND:20140322T120000
LOCATION:Budapest [Hungary]
GEO:0.000000000;0.000000000
DTSTAMP:20140321T220000Z
SUMMARY:AMBIENT AVATAR Presents : AES DANA (Ultimae Records) - LIVE (FR)
DESCRIPTION:Line Up: AES DANA (Ultimae Records) - LIVE (FR)
URL:https://www.goabase.net/party/ambient-avatar-presents-aes-dana-ultimae-records-live-fr/78177
CATEGORIES:Psytrance Event
CLASS:PUBLIC
END:VEVENT

BEGIN:VEVENT
UID:73ab7e67e88a5e84286d2cf20b528ec8
DTSTART:20131227T220000
DTEND:20131228T120000
LOCATION:Budapest [Hungary]
GEO:0.000000000;0.000000000
DTSTAMP:20131227T220000Z
SUMMARY:S.U.N. Festival presents WINTER S.U.N.  (4 stages)
DESCRIPTION:Line Up: SOLAR FIELDS [ULTIMAE - SWE] live MIDDLE MODE [TESSERACT -
  SRB] live ANCIENT CORE [ASTRONAUTIC - ROM] live AMENTIA [MERK…
URL:https://www.goabase.net/party/sun-festival-presents-winter-sun-4-stages/76668
CATEGORIES:Psytrance Event
CLASS:PUBLIC
END:VEVENT

BEGIN:VEVENT
UID:91a8c4819c76636754bfa41f60f248db
DTSTART:20131109T220000
DTEND:20131110T120000
LOCATION:Budapest [Hungary]
GEO:0.000000000;0.000000000
DTSTAMP:20131109T220000Z
SUMMARY:AVATAR : SHANE GOBI (Alchemy Records) - UK
DESCRIPTION:
URL:https://www.goabase.net/party/avatar-shane-gobi-alchemy-records-uk/75612
CATEGORIES:Psytrance Event
CLASS:PUBLIC
END:VEVENT

BEGIN:VEVENT
UID:bb85d87da780cad4fdc7f82242f15c50
DTSTART:20131108T220000
DTEND:20131109T120000
LOCATION:Budapest [Hungary]
GEO:0.000000000;0.000000000
DTSTAMP:20131108T220000Z
SUMMARY:AMBIENT AVATAR Presents: ASURA (Ultimae Records) - LIVE (FR)
DESCRIPTION:Line Up: ASURA (Ultimae Records) - LIVE (FR)
URL:https://www.goabase.net/party/ambient-avatar-presents-asura-ultimae-records-live-fr/75611
CATEGORIES:Psytrance Event
CLASS:PUBLIC
END:VEVENT

BEGIN:VEVENT
UID:45cc17975c2c728fc6efaf2cd4c4f60c
DTSTART:20130724T210000
DTEND:20130728T120000
LOCATION:Csobankapuszta [Hungary]
GEO:0.000000000;0.000000000
DTSTAMP:20130724T210000Z
SUMMARY:S.U.N. FESTIVAL
DESCRIPTION:Line Up: Main Stage Live acts : Art of Trance (Platipus Records) - UK
  Atmos (Atmotech/Iboga Records) - SWE Beat Bizzare (Iboga Re…
URL:https://www.goabase.net/festival/sun-festival/67636
CATEGORIES:Psytrance Event
CLASS:PUBLIC
END:VEVENT

BEGIN:VEVENT
UID:2d41f718d8c771bd386859210bfe788e
DTSTART:20120614T100000
DTEND:20120617T120000
LOCATION:Norfolk [United Kingdom]
GEO:0.000000000;0.000000000
DTSTAMP:20120614T100000Z
SUMMARY:Glade 2012 Announce First Round of Acts  - NEW ACTS ADDED
DESCRIPTION:
URL:https://www.goabase.net/festival/glade-2012-announce-first-round-of-acts-new-acts-added/64838
CATEGORIES:Psytrance Event
CLASS:PUBLIC
END:VEVENT

BEGIN:VEVENT
UID:c041f4a65608277c470d28fd1470cc99
DTSTART:20120331T213000
DTEND:20120401T070000
LOCATION:Budapest [Hungary]
GEO:0.000000000;0.000000000
DTSTAMP:20120331T213000Z
SUMMARY:AVATAR pres:10th Birthday party with Vibrasphere & Andromeda
DESCRIPTION:Line Up: ANDROMEDA (Dream Vision Media) - SWE
URL:https://www.goabase.net/party/avatar-pres10th-birthday-party-with-vibrasphere-andromeda/65603
CATEGORIES:Psytrance Event
CLASS:PUBLIC
END:VEVENT

BEGIN:VEVENT
UID:baec47a25540afb787358389daa450e6
DTSTART:20120204T213000
DTEND:20120205T070000
LOCATION:Budapest [Hungary]
GEO:0.000000000;0.000000000
DTSTAMP:20120204T213000Z
SUMMARY:AVATAR pres: Liquid Ace (Liquid Soul+Ace Ventura) - LIVE
DESCRIPTION:Line Up: LIQUID ACE (Liquid Soul + Ace Ventura) Iboga Records - LIVE
  (CH/ISR)
URL:https://www.goabase.net/party/avatar-pres-liquid-ace-liquid-soulace-ventura-live/64443
CATEGORIES:Psytrance Event
CLASS:PUBLIC
END:VEVENT

BEGIN:VEVENT
UID:cbe62529bec05af8934d503c604f5fff
DTSTART:20111217T203000
DTEND:20111218T080000
LOCATION:Budapest [Hungary]
GEO:0.000000000;0.000000000
DTSTAMP:20111217T203000Z
SUMMARY:AVATAR EVENTS pres SUNTREE (IONO MUSIC) - LIVE & DJANE GABY 
DESCRIPTION:Line Up: SUNTREE (IONO MUSIC) ISR - LIVE
URL:https://www.goabase.net/party/avatar-events-pres-suntree-iono-music-live-djane-gaby/63712
CATEGORIES:Psytrance Event
CLASS:PUBLIC
END:VEVENT

END:VCALENDAR