BEGIN:VCALENDAR
VERSION:2.0
PRODID:goabase.net iCalendar 2026
X-WR-CALNAME:goabase.net - parties and people 
X-WR-TIMEZONE;VALUE=TEXT:Europe/Berlin
CALSCALE:GREGORIAN
BEGIN:VTIMEZONE
TZID:Europe/Berlin
X-LIC-LOCATION:Europe/Berlin
BEGIN:DAYLIGHT
TZOFFSETFROM:+0100
TZOFFSETTO:+0200
TZNAME:CEST
DTSTART:19700329T020000
RRULE:FREQ=YEARLY;INTERVAL=1;BYDAY=-1SU;BYMONTH=3
END:DAYLIGHT
BEGIN:STANDARD
TZOFFSETFROM:+0200
TZOFFSETTO:+0100
TZNAME:CET
DTSTART:19701025T030000
RRULE:FREQ=YEARLY;INTERVAL=1;BYDAY=-1SU;BYMONTH=10
END:STANDARD
END:VTIMEZONE

BEGIN:VEVENT
UID:c1f0c05c2495fa0e2f5f8eb3138d334e
DTSTART:20220306T233000
DTEND:20220307T080000
LOCATION:Saint Petersburg [Russia]
GEO:0.000000000;0.000000000
DTSTAMP:20220306T233000Z
SUMMARY:Padma Party: Atlanis. 10th birthday celebration!
DESCRIPTION:Line Up: 🍰 Этой праздничной ночью на десятилетии Padma Promotion для
  вас выступят: ॐ Главный танцпол ॐ • Atlantis (Греция) • XPVo…
URL:https://www.goabase.net/party/padma-party-atlanis-10th-birthday-celebration/107983
CATEGORIES:Psytrance Event
CLASS:PUBLIC
END:VEVENT

BEGIN:VEVENT
UID:5cff8d0c8dbb2373f1edc802f045340c
DTSTART:20220226T220000
DTEND:20220227T120000
LOCATION:Moscow [Russia]
GEO:0.000000000;0.000000000
DTSTAMP:20220226T220000Z
SUMMARY:АНАЛОГ 2.0 • 26.02.22 • KINDZADZA
DESCRIPTION:Line Up: KINDZA (live) WISHI (live) TRANSDRIVER (live) PHAGOS SONUS
  (live) UMBER VAMBER (live) GHOST KOMARCHIKI ANTON EL’KIN M…
URL:https://www.goabase.net/party/analog-20-260222-kindzadza/107981
CATEGORIES:Psytrance Event
CLASS:PUBLIC
END:VEVENT

BEGIN:VEVENT
UID:dbc38bad41d68e412f1ba4ba56241777
DTSTART:20211009T190000
DTEND:20211010T060000
LOCATION:Moscow [Russia]
GEO:55.600000000;37.400000000
DTSTAMP:20211009T190000Z
SUMMARY:Осенний рейв Mystic Sound
DESCRIPTION:Line Up: 🧿 SOTOKKAN (Greece/ (Free Earth Festival) 🇬🇷 🧿 DREAMSTALKER 🧿
  ZIRREX 🧿 SUTRA 🧿 CHRONOS 🧿 MAIIA 🧿 AURATECH 🧿 OKOLO…
URL:https://www.goabase.net/party/osiennij-riejw-mystic-sound/107492
CATEGORIES:Psytrance Event
CLASS:PUBLIC
END:VEVENT

BEGIN:VEVENT
UID:27af5ddb46ff37bd322c9d88bf0f717c
DTSTART:20210813T230000
DTEND:20210815T120000
LOCATION:Санкт-Петербург [Russia]
GEO:59.941869300;30.318524000
DTSTAMP:20210813T230000Z
SUMMARY:Fractal stage "Кастры"
DESCRIPTION:Line Up: Line-Up Fractal Stage: Laatoka • Synergia • Aedem • D.I.
  Abigor • Space Surfer • Bu33a • EDD-989 • Musta Ryssä • Project…
URL:https://www.goabase.net/festival/fractal-stage-kastry/107362
CATEGORIES:Psytrance Event
CLASS:PUBLIC
END:VEVENT

END:VCALENDAR