BEGIN:VCALENDAR
VERSION:2.0
PRODID:goabase.net iCalendar 2026
X-WR-CALNAME:goabase.net - parties and people 
X-WR-TIMEZONE;VALUE=TEXT:Europe/Berlin
CALSCALE:GREGORIAN
BEGIN:VTIMEZONE
TZID:Europe/Berlin
X-LIC-LOCATION:Europe/Berlin
BEGIN:DAYLIGHT
TZOFFSETFROM:+0100
TZOFFSETTO:+0200
TZNAME:CEST
DTSTART:19700329T020000
RRULE:FREQ=YEARLY;INTERVAL=1;BYDAY=-1SU;BYMONTH=3
END:DAYLIGHT
BEGIN:STANDARD
TZOFFSETFROM:+0200
TZOFFSETTO:+0100
TZNAME:CET
DTSTART:19701025T030000
RRULE:FREQ=YEARLY;INTERVAL=1;BYDAY=-1SU;BYMONTH=10
END:STANDARD
END:VTIMEZONE

BEGIN:VEVENT
UID:ab07f02b0d94db8ad4c6a44bfa6ccb9b
DTSTART:20160206T180000
DTEND:20160207T060000
LOCATION:Leipzig [Germany]
GEO:51.340461700;12.374705300
DTSTAMP:20160206T180000Z
SUMMARY:Lucky Spiritual Dancing - Mission To Mars
DESCRIPTION:Line Up: 18:00 Argonaut - Soundtrack Of Space 21:00 M.T.Space -
  Progressive Trance 23:00 Emphox - Melodic Fullon Trance 01:00…
URL:https://www.goabase.net/party/lucky-spiritual-dancing-mission-to-mars/88058
CATEGORIES:Psytrance Event
CLASS:PUBLIC
END:VEVENT

BEGIN:VEVENT
UID:ce888a426831821537ad27d45089ad55
DTSTART:20151205T180000
DTEND:20151206T060000
LOCATION:Leipzig [Germany]
GEO:51.340461700;12.374705300
DTSTAMP:20151205T180000Z
SUMMARY:Lucky Spiritual Dancing - GoAdventure
DESCRIPTION:Line Up: 18:00 Emphox - Psybient bis Proggressive Trance 21:00
  M.T.Space - Progressive Trance 23:00 Kundalini Experience - Full…
URL:https://www.goabase.net/party/lucky-spiritual-dancing-goadventure/86775
CATEGORIES:Psytrance Event
CLASS:PUBLIC
END:VEVENT

BEGIN:VEVENT
UID:3397fb87b38d7299e0c5d408d51847b1
DTSTART:20151003T180000
DTEND:20151004T040000
LOCATION:Leipzig [Germany]
GEO:51.328284950;12.378816086
DTSTAMP:20151003T180000Z
SUMMARY:Lucky Spiritual Dancing - Cosmic Unity
DESCRIPTION:Line Up: 18:00 Argonaut ~ 90's Ambient & Trance 21:00 M.T.Space ~
  Progressive Trance 23:00 Emphox ~ Melodic Full On Trance 01:0…
URL:https://www.goabase.net/party/lucky-spiritual-dancing-cosmic-unity/85702
CATEGORIES:Psytrance Event
CLASS:PUBLIC
END:VEVENT

BEGIN:VEVENT
UID:836d41c0e916a4d3ebe24881fb5c93eb
DTSTART:20150418T180000
DTEND:20150419T040000
LOCATION:Leipzig [Germany]
GEO:51.335777900;12.334067200
DTSTAMP:20150418T180000Z
SUMMARY:Lucky Spiritual Dancing 6 - The Spirit Of Ananda
DESCRIPTION:Line Up: 18:00 Uhr T.I.A.N. (Psybient) ~20:00 Uhr M.T.Space (Ethno
  Trance) ~22:00 Uhr Der Argonaut (90's PsyTrance VINYL Set) ~…
URL:https://www.goabase.net/party/lucky-spiritual-dancing-6-the-spirit-of-ananda/84149
CATEGORIES:Psytrance Event
CLASS:PUBLIC
END:VEVENT

BEGIN:VEVENT
UID:1e99bd42fe273634454821784e8b755f
DTSTART:20150221T180000
DTEND:20150222T040000
LOCATION:Leipzig [Germany]
GEO:51.340462000;12.374705000
DTSTAMP:20150221T180000Z
SUMMARY:Lucky Spiritual Dancing 5 - The 5th Dimension
DESCRIPTION:Line Up: 18 Uhr TIAN: Psybient 19 Uhr M.T. Space: Ethno Trance 21 Uhr
  Kundalini Experience: Progressive Trance 23 Uhr Der Argona…
URL:https://www.goabase.net/party/lucky-spiritual-dancing-5-the-5th-dimension/83250
CATEGORIES:Psytrance Event
CLASS:PUBLIC
END:VEVENT

BEGIN:VEVENT
UID:cf50e7befe7143b39ce5a41b5564f7df
DTSTART:20141220T140000
DTEND:20141220T233000
LOCATION:Leipzig [Germany]
GEO:51.343710400;12.390724700
DTSTAMP:20141220T140000Z
SUMMARY:Lucky Spiritual Dancing 4 - darkness is over
DESCRIPTION:Line Up: Turn On 14 Uhr Emphox (Psybient) Tune In 15 Uhr Emphox
  (ProgTrance) 17 Uhr M.T. Space (ProgTrance) 19 Uhr
URL:https://www.goabase.net/party/lucky-spiritual-dancing-4-darkness-is-over/82426
CATEGORIES:Psytrance Event
CLASS:PUBLIC
END:VEVENT

BEGIN:VEVENT
UID:e557d141029f0d555270c7b82eae6339
DTSTART:20141031T200000
DTEND:20141101T040000
LOCATION:Leipzig [Germany]
GEO:51.343710400;12.390724700
DTSTAMP:20141031T200000Z
SUMMARY:Lucky Spiritual Dancing: reformation next level
DESCRIPTION:Line Up: 20 Uhr Emphox (Psybient & ProgTrance) 22 Uhr Dj M.T. Space
  (ProgTrance) 00 Uhr Kundalini Experience (PsyTrance & Goa)…
URL:https://www.goabase.net/party/lucky-spiritual-dancing-reformation-next-level/81504
CATEGORIES:Psytrance Event
CLASS:PUBLIC
END:VEVENT

BEGIN:VEVENT
UID:0ff2c5e25953b610831c0908e4fd08a4
DTSTART:20140510T200000
DTEND:20140511T040000
LOCATION:Leipzig [Germany]
GEO:51.326466350;12.313616349
DTSTAMP:20140510T200000Z
SUMMARY:Lucky Spiritual Dancing - the second voyage
DESCRIPTION:Line Up: Dj Argonaut (LE / Tribal Beats, Old School Trance) Dj M.T.
  Space (LE / Ethnotrance, Progressive, Downbeat)  Dj Emphox (…
URL:https://www.goabase.net/party/lucky-spiritual-dancing-the-second-voyage/79306
CATEGORIES:Psytrance Event
CLASS:PUBLIC
END:VEVENT

BEGIN:VEVENT
UID:2e4b637ecfee1aa312cef0c90f35a776
DTSTART:20140222T200000
DTEND:20140223T020000
LOCATION:Leipzig [Germany]
GEO:0.000000000;0.000000000
DTSTAMP:20140222T200000Z
SUMMARY:Lucky Spiritual Dancing
DESCRIPTION:
URL:https://www.goabase.net/party/lucky-spiritual-dancing/77796
CATEGORIES:Psytrance Event
CLASS:PUBLIC
END:VEVENT

END:VCALENDAR