BEGIN:VCALENDAR
VERSION:2.0
PRODID:goabase.net iCalendar 2026
X-WR-CALNAME:goabase.net - parties and people 
X-WR-TIMEZONE;VALUE=TEXT:Europe/Berlin
CALSCALE:GREGORIAN
BEGIN:VTIMEZONE
TZID:Europe/Berlin
X-LIC-LOCATION:Europe/Berlin
BEGIN:DAYLIGHT
TZOFFSETFROM:+0100
TZOFFSETTO:+0200
TZNAME:CEST
DTSTART:19700329T020000
RRULE:FREQ=YEARLY;INTERVAL=1;BYDAY=-1SU;BYMONTH=3
END:DAYLIGHT
BEGIN:STANDARD
TZOFFSETFROM:+0200
TZOFFSETTO:+0100
TZNAME:CET
DTSTART:19701025T030000
RRULE:FREQ=YEARLY;INTERVAL=1;BYDAY=-1SU;BYMONTH=10
END:STANDARD
END:VTIMEZONE

BEGIN:VEVENT
UID:8dfb07820e67a40a0821b973e14fb2c9
DTSTART:20170818T230000
DTEND:20170819T120000
LOCATION:Berlin [Germany]
GEO:52.507902269;13.474988937
DTSTAMP:20170818T230000Z
SUMMARY:Grotesk. by Psychedelic Theatre
DESCRIPTION:Line Up: LADIES & GENTLEMEN: Die GROTESK ist zurück! Und mit ihr
  einige Groteskitäten :P △ ⊙﹏⊙ :: Wil…
URL:https://www.goabase.net/party/grotesk-by-psychedelic-theatre/96486
CATEGORIES:Psytrance Event
CLASS:PUBLIC
END:VEVENT

BEGIN:VEVENT
UID:583e1ff26d1b94070808f8af320753f9
DTSTART:20170609T230000
DTEND:20170610T120000
LOCATION:Berlin [Germany]
GEO:52.507902269;13.474988937
DTSTAMP:20170609T230000Z
SUMMARY:Psychedelic Theatre ॐ Summer Edition
DESCRIPTION:Line Up: ═ :: Willkommen beim Psychedelic Theatre ! ═ Liebe Freunde,
  Der Sommer…
URL:https://www.goabase.net/party/psychedelic-theatre-summer-edition/95707
CATEGORIES:Psytrance Event
CLASS:PUBLIC
END:VEVENT

BEGIN:VEVENT
UID:c3598c07043504262c5738c9cadd12a8
DTSTART:20160805T230000
DTEND:20160806T100000
LOCATION:Berlin [Germany]
GEO:52.500810400;13.444853700
DTSTAMP:20160805T230000Z
SUMMARY:3 Years Psychedelic Theatre
DESCRIPTION:Line Up: ▬ஜ۩ Main Floor: Psychedelic Trance & Full-on ۩ஜ▬ ★ Digicult
  (Dacru Records) ★ Champa (YSE) ★ Tropical Bleyage (Dacru…
URL:https://www.goabase.net/party/3-years-psychedelic-theatre/90545
CATEGORIES:Psytrance Event
CLASS:PUBLIC
END:VEVENT

END:VCALENDAR