BEGIN:VCALENDAR
VERSION:2.0
PRODID:goabase.net iCalendar 2026
X-WR-CALNAME:goabase.net - parties and people 
X-WR-TIMEZONE;VALUE=TEXT:Europe/Berlin
CALSCALE:GREGORIAN
BEGIN:VTIMEZONE
TZID:Europe/Berlin
X-LIC-LOCATION:Europe/Berlin
BEGIN:DAYLIGHT
TZOFFSETFROM:+0100
TZOFFSETTO:+0200
TZNAME:CEST
DTSTART:19700329T020000
RRULE:FREQ=YEARLY;INTERVAL=1;BYDAY=-1SU;BYMONTH=3
END:DAYLIGHT
BEGIN:STANDARD
TZOFFSETFROM:+0200
TZOFFSETTO:+0100
TZNAME:CET
DTSTART:19701025T030000
RRULE:FREQ=YEARLY;INTERVAL=1;BYDAY=-1SU;BYMONTH=10
END:STANDARD
END:VTIMEZONE

BEGIN:VEVENT
UID:4e871a040ac5ddf7cb781a6d2ffa519f
DTSTART:20121026T220000
DTEND:20121027T090000
LOCATION:Hamburg [Germany]
GEO:0.000000000;0.000000000
DTSTAMP:20121026T220000Z
SUMMARY:★★★ Progressive Bass Attack ★★★
DESCRIPTION:Line Up: TOXIC UNIVERSE (Savva Records) A-TECK (Next Area/Question of
  Time)
URL:https://www.goabase.net/party/progressive-bass-attack/69222
CATEGORIES:Psytrance Event
CLASS:PUBLIC
END:VEVENT

BEGIN:VEVENT
UID:dd8cebfd383da6d6f968e268c79c4e0e
DTSTART:20120330T220000
DTEND:20120401T120000
LOCATION:Hamburg [Germany]
GEO:0.000000000;0.000000000
DTSTAMP:20120330T220000Z
SUMMARY:Klangwunder 2.0
DESCRIPTION:
URL:https://www.goabase.net/party/klangwunder-20/65889
CATEGORIES:Psytrance Event
CLASS:PUBLIC
END:VEVENT

BEGIN:VEVENT
UID:6ede2718b44e16ba79e1e74853e37ccb
DTSTART:20120302T220000
DTEND:20120304T233000
LOCATION:Hamburg/Sternbrücke [Germany]
GEO:0.000000000;0.000000000
DTSTAMP:20120302T220000Z
SUMMARY:S 219 Express (Best of Psy,Progressive & FullOn)
DESCRIPTION:
URL:https://www.goabase.net/party/s-219-express-best-of-psyprogressive-fullon/65430
CATEGORIES:Psytrance Event
CLASS:PUBLIC
END:VEVENT

BEGIN:VEVENT
UID:bee26d77a74fdc18e1a0645942e1c4fc
DTSTART:20111216T220000
DTEND:20111219T120000
LOCATION:Hamburg [Germany]
GEO:0.000000000;0.000000000
DTSTAMP:20111216T220000Z
SUMMARY:ॐ GOALAND Dance 4 ॐ
DESCRIPTION:
URL:https://www.goabase.net/party/goaland-dance-4/63924
CATEGORIES:Psytrance Event
CLASS:PUBLIC
END:VEVENT

END:VCALENDAR