BEGIN:VCALENDAR
VERSION:2.0
PRODID:goabase.net iCalendar 2026
X-WR-CALNAME:goabase.net - parties and people 
X-WR-TIMEZONE;VALUE=TEXT:Europe/Berlin
CALSCALE:GREGORIAN
BEGIN:VTIMEZONE
TZID:Europe/Berlin
X-LIC-LOCATION:Europe/Berlin
BEGIN:DAYLIGHT
TZOFFSETFROM:+0100
TZOFFSETTO:+0200
TZNAME:CEST
DTSTART:19700329T020000
RRULE:FREQ=YEARLY;INTERVAL=1;BYDAY=-1SU;BYMONTH=3
END:DAYLIGHT
BEGIN:STANDARD
TZOFFSETFROM:+0200
TZOFFSETTO:+0100
TZNAME:CET
DTSTART:19701025T030000
RRULE:FREQ=YEARLY;INTERVAL=1;BYDAY=-1SU;BYMONTH=10
END:STANDARD
END:VTIMEZONE

BEGIN:VEVENT
UID:1a478e57b0363d2a00beacb27448201a
DTSTART:20191123T220000
DTEND:20191124T060000
LOCATION:Aarau [Switzerland]
GEO:47.394396000;8.041440600
DTSTAMP:20191123T220000Z
SUMMARY:LED - Final Chapter
DESCRIPTION:Line Up: Acts: - VANDAM (Retromaniac Rec.) - Stadium (AGORA) - ACID DJ
  (AGORA) - DARIUS D (L.E.D.)
URL:https://www.goabase.net/party/led-final-chapter/105090
CATEGORIES:Psytrance Event
CLASS:PUBLIC
END:VEVENT

BEGIN:VEVENT
UID:8229b87f82a6be19587f005b20f85570
DTSTART:20190222T220000
DTEND:20190223T060000
LOCATION:Aarau [Switzerland]
GEO:47.394396000;8.041440600
DTSTAMP:20190222T220000Z
SUMMARY:LED - Event Horizon
DESCRIPTION:Line Up: -Protonica (IBOGA) GER -Face Design (TesseracTstudio) SUI
  -ACID DJ (AGORA) SUI -Darius D (L.E.D.) SUI h
URL:https://www.goabase.net/party/led-event-horizon/102717
CATEGORIES:Psytrance Event
CLASS:PUBLIC
END:VEVENT

BEGIN:VEVENT
UID:ab985b15b1656cb6a39c06050683562f
DTSTART:20181020T220000
DTEND:20181021T040000
LOCATION:Aarau [Switzerland]
GEO:47.394396000;8.041440600
DTSTAMP:20181020T220000Z
SUMMARY:LED - Alchemy
DESCRIPTION:Line Up: Stadium (AGORA) Santa (Santa Buddha) Amunel (Sinsonic Rec.)
  ACID DJ (AGORA)
URL:https://www.goabase.net/party/led-alchemy/101162
CATEGORIES:Psytrance Event
CLASS:PUBLIC
END:VEVENT

BEGIN:VEVENT
UID:1fd71cc31aa24f229a632fb8cb021ab4
DTSTART:20180303T220000
DTEND:20180304T040000
LOCATION:Aarau [Switzerland]
GEO:47.394396000;8.041440600
DTSTAMP:20180303T220000Z
SUMMARY:LED - ICARUS
DESCRIPTION:Line Up: -----&gt-Amunel (Sinsonic Rec.) -----&gt-Feinmechanik
  (Sinsonic Rec.) -----&gt-ACID DJ (BAM Rec.)
URL:https://www.goabase.net/party/led-icarus/98661
CATEGORIES:Psytrance Event
CLASS:PUBLIC
END:VEVENT

BEGIN:VEVENT
UID:386f85ac9517adb1d4fb35a1a7fa033e
DTSTART:20161029T220000
DTEND:20161030T050000
LOCATION:Aarau [Switzerland]
GEO:47.394396000;8.041440600
DTSTAMP:20161029T220000Z
SUMMARY:LED - Mind Control
DESCRIPTION:Line Up: Tom Nyles Mod:Solar Allie Sparkle ACID DJ ESNA Organic Chakra
  Daruis D
URL:https://www.goabase.net/party/led-mind-control/91565
CATEGORIES:Psytrance Event
CLASS:PUBLIC
END:VEVENT

BEGIN:VEVENT
UID:ae57ed991f95a7f4ed3d7bc8fe4123bf
DTSTART:20160319T220000
DTEND:20160320T040000
LOCATION:Aarau [Switzerland]
GEO:47.392715500;8.044445000
DTSTAMP:20160319T220000Z
SUMMARY:LED - Deep Sea edition
DESCRIPTION:Line Up: -DIGITAL BABA -ACID DJ (BAM Rec.) -Darius D -DJ ONEIROS
URL:https://www.goabase.net/party/led-deep-sea-edition/88332
CATEGORIES:Psytrance Event
CLASS:PUBLIC
END:VEVENT

BEGIN:VEVENT
UID:6f878ccd620acdbffb7df3a61538c694
DTSTART:20151024T220000
DTEND:20151025T040000
LOCATION:Aarau [Switzerland]
GEO:47.392715500;8.044445000
DTSTAMP:20151024T220000Z
SUMMARY:L.E.D. - Space Age
DESCRIPTION:Line Up: -Simply D (Live) -Organic Chakra (Live) [BAM] -Darius D -ACID
  DJ [BAM] -Amunel
URL:https://www.goabase.net/party/led-space-age/86268
CATEGORIES:Psytrance Event
CLASS:PUBLIC
END:VEVENT

BEGIN:VEVENT
UID:9c516bf62ec19e300c1b505df44c5d1b
DTSTART:20150522T220000
DTEND:20150523T040000
LOCATION:Aarau [Switzerland]
GEO:47.392715500;8.044445000
DTSTAMP:20150522T220000Z
SUMMARY:LED - Time Travel - ACID DJ B-Day Special
DESCRIPTION:Line Up: -ACID DJ -Darius D -Mod:Solar -Allie Sparkle -Optical
  Vibration
URL:https://www.goabase.net/party/led-time-travel-acid-dj-b-day-special/83988
CATEGORIES:Psytrance Event
CLASS:PUBLIC
END:VEVENT

BEGIN:VEVENT
UID:ed3420addaca4198d033ebc3e83200e3
DTSTART:20150207T220000
DTEND:20150208T040000
LOCATION:Aarau [Switzerland]
GEO:47.394396000;8.041440600
DTSTAMP:20150207T220000Z
SUMMARY:LED - CONTACT
DESCRIPTION:Line Up: -Mod Solar - Acid Dj -Darius D -Allie Sparkle
URL:https://www.goabase.net/party/led-contact/82971
CATEGORIES:Psytrance Event
CLASS:PUBLIC
END:VEVENT

BEGIN:VEVENT
UID:0cd035aa21025cf41094ba28dc8643aa
DTSTART:20141011T210000
DTEND:20141012T040000
LOCATION:Aarau [Switzerland]
GEO:47.394731700;8.042123800
DTSTAMP:20141011T210000Z
SUMMARY:L.E.D. - Symbiosis
DESCRIPTION:Line Up: -Mod Solar -ACID DJ -Darius D
URL:https://www.goabase.net/party/led-symbiosis/80877
CATEGORIES:Psytrance Event
CLASS:PUBLIC
END:VEVENT

BEGIN:VEVENT
UID:55d4e79a8d4343bd066ea047703b3660
DTSTART:20140411T220000
DTEND:20140412T040000
LOCATION:Aarau [Switzerland]
GEO:47.393895400;8.040358200
DTSTAMP:20140411T220000Z
SUMMARY:L.E.D. - Maximum
DESCRIPTION:Line Up: -Aartax  -ACID DJ  -DARIUS D
URL:https://www.goabase.net/party/led-maximum/78548
CATEGORIES:Psytrance Event
CLASS:PUBLIC
END:VEVENT

END:VCALENDAR