BEGIN:VCALENDAR
VERSION:2.0
PRODID:goabase.net iCalendar 2026
X-WR-CALNAME:goabase.net - parties and people 
X-WR-TIMEZONE;VALUE=TEXT:Europe/Berlin
CALSCALE:GREGORIAN
BEGIN:VTIMEZONE
TZID:Europe/Berlin
X-LIC-LOCATION:Europe/Berlin
BEGIN:DAYLIGHT
TZOFFSETFROM:+0100
TZOFFSETTO:+0200
TZNAME:CEST
DTSTART:19700329T020000
RRULE:FREQ=YEARLY;INTERVAL=1;BYDAY=-1SU;BYMONTH=3
END:DAYLIGHT
BEGIN:STANDARD
TZOFFSETFROM:+0200
TZOFFSETTO:+0100
TZNAME:CET
DTSTART:19701025T030000
RRULE:FREQ=YEARLY;INTERVAL=1;BYDAY=-1SU;BYMONTH=10
END:STANDARD
END:VTIMEZONE

BEGIN:VEVENT
UID:ba024cd21213527bfdde7e023ed76d5b
DTSTART:20151225T220000
DTEND:20151226T110000
LOCATION:Marghera [Italy]
GEO:45.475573100;12.224329800
DTSTAMP:20151225T220000Z
SUMMARY:AFTERCHRIST
DESCRIPTION:Line Up: ♦ LINE UP ♦ Live&gt- ASSIOMA [Looney moon rec.] Assioma is a
  psychedelic project started in 2007 in Spinea, a small town…
URL:https://www.goabase.net/party/afterchrist/87750
CATEGORIES:Psytrance Event
CLASS:PUBLIC
END:VEVENT

BEGIN:VEVENT
UID:30544b1b3cd87d91ac24691a8ecf5233
DTSTART:20151004T150000
DTEND:20151005T230000
LOCATION:Veneto Area [Italy]
GEO:0.000000000;0.000000000
DTSTAMP:20151004T150000Z
SUMMARY:✖✖✖ PSYCHEDELIC MARSHMALLOW - Open air psytrance party ✖✖✖
DESCRIPTION:Line Up: ✖ DOPADOCKS (Spiral vision) DARK PSY FORREST LIVE ✖ SICKBOY
  (Monkeyexplosion) FULL ON ✖ PIZZ (indipendent) FULL ON…
URL:https://www.goabase.net/party/psychedelic-marshmallow-open-air-psytrance-party/86658
CATEGORIES:Psytrance Event
CLASS:PUBLIC
END:VEVENT

BEGIN:VEVENT
UID:35eed81d9cd6ffacffaf18b0dbcb23b2
DTSTART:20100327T220000
DTEND:20100328T080000
LOCATION:north italy [Italy]
GEO:0.000000000;0.000000000
DTSTAMP:20100327T220000Z
SUMMARY:►►►PsYtrance Experience◄◄◄ STATIC FLOW live set !!!!
DESCRIPTION:Line Up: FIRST TIME IN ITALY !!!!! - STATIC FLOW ( Nano Rec. ) - S.A.
  - Having a keen interest in any type of mus…
URL:https://www.goabase.net/party/psytrance-experience-static-flow-live-set/50824
CATEGORIES:Psytrance Event
CLASS:PUBLIC
END:VEVENT

BEGIN:VEVENT
UID:d00f05e38d78b59c60e1dfbd20f13347
DTSTART:20100227T220000
DTEND:20100228T080000
LOCATION:bologna area [Italy]
GEO:0.000000000;0.000000000
DTSTAMP:20100227T220000Z
SUMMARY:MAD NOISE +++ BRAINWASH live from portugal +++
DESCRIPTION:Line Up: +++++ +++ 1st TiMe In iTaLy FrOm PorRTu…
URL:https://www.goabase.net/party/mad-noise-brainwash-live-from-portugal/50667
CATEGORIES:Psytrance Event
CLASS:PUBLIC
END:VEVENT

BEGIN:VEVENT
UID:d19728ff8317e36446cda6c17b4dafaa
DTSTART:20100101T170000
DTEND:20100102T020000
LOCATION:bologna area [Italy]
GEO:0.000000000;0.000000000
DTSTAMP:20100101T170000Z
SUMMARY:++++ A L I V E ++++
DESCRIPTION:Line Up: ____AFTER ANULLATO PER PROBLEMI DI LOCATION____ CI DISPIACE
  UN SACCO NON POTER CONTINUARE A FARE FESTA INSIEME.…
URL:https://www.goabase.net/party/a-l-i-v-e/50282
CATEGORIES:Psytrance Event
CLASS:PUBLIC
END:VEVENT

BEGIN:VEVENT
UID:60c3c4e5e5ca28765404dc69662ff447
DTSTART:20091031T220000
DTEND:20091101T080000
LOCATION:Zoom Bologna [Italy]
GEO:0.000000000;0.000000000
DTSTAMP:20091031T220000Z
SUMMARY:P S Y D R O M E Halloween psy party &gt-&gt-&gt-TRYAMBAKA live&lt-&lt-&lt-
DESCRIPTION:Line Up: ===== ==== Halloween Psy Party ===== ==…
URL:https://www.goabase.net/party/p-s-y-d-r-o-m-e-halloween-psy-party-gt-gt-gt-tryambaka-livelt-lt-lt/46712
CATEGORIES:Psytrance Event
CLASS:PUBLIC
END:VEVENT

END:VCALENDAR