BEGIN:VCALENDAR
VERSION:2.0
PRODID:goabase.net iCalendar 2026
X-WR-CALNAME:goabase.net - parties and people 
X-WR-TIMEZONE;VALUE=TEXT:Europe/Berlin
CALSCALE:GREGORIAN
BEGIN:VTIMEZONE
TZID:Europe/Berlin
X-LIC-LOCATION:Europe/Berlin
BEGIN:DAYLIGHT
TZOFFSETFROM:+0100
TZOFFSETTO:+0200
TZNAME:CEST
DTSTART:19700329T020000
RRULE:FREQ=YEARLY;INTERVAL=1;BYDAY=-1SU;BYMONTH=3
END:DAYLIGHT
BEGIN:STANDARD
TZOFFSETFROM:+0200
TZOFFSETTO:+0100
TZNAME:CET
DTSTART:19701025T030000
RRULE:FREQ=YEARLY;INTERVAL=1;BYDAY=-1SU;BYMONTH=10
END:STANDARD
END:VTIMEZONE

BEGIN:VEVENT
UID:f6c6aefcae03b8a47a2b9f71b18c7c49
DTSTART:20130302T230000
DTEND:20130303T110000
LOCATION:Offenbach am Main [Germany]
GEO:50.070492322;8.734773300
DTSTAMP:20130302T230000Z
SUMMARY:Blue Vision
DESCRIPTION:
URL:https://www.goabase.net/party/blue-vision/70717
CATEGORIES:Psytrance Event
CLASS:PUBLIC
END:VEVENT

BEGIN:VEVENT
UID:431a444ccd73683ad11bb6a5a88f4ad9
DTSTART:20121201T230000
DTEND:20121202T150000
LOCATION:Offenbach am Main [Germany]
GEO:50.070492322;8.734773300
DTSTAMP:20121201T230000Z
SUMMARY:   Blue Vision
DESCRIPTION:Line Up: AbstractA (B.A.M. Rec.)
URL:https://www.goabase.net/party/blue-vision/68101
CATEGORIES:Psytrance Event
CLASS:PUBLIC
END:VEVENT

BEGIN:VEVENT
UID:73d7908c4dfe0c36b7b3f44dbe05395d
DTSTART:20121006T230000
DTEND:20121007T160000
LOCATION:Offenbach am Main [Germany]
GEO:50.070492322;8.734773300
DTSTAMP:20121006T230000Z
SUMMARY:  Blue Vision
DESCRIPTION:
URL:https://www.goabase.net/party/blue-vision/68100
CATEGORIES:Psytrance Event
CLASS:PUBLIC
END:VEVENT

BEGIN:VEVENT
UID:8a1dfce45fc74fa3e395a0766cd55f37
DTSTART:20120204T230000
DTEND:20120205T110000
LOCATION:Offenbach am Main [Germany]
GEO:50.083000000;8.743000000
DTSTAMP:20120204T230000Z
SUMMARY:   Blue Vision vol. 2
DESCRIPTION:Line Up: Soundkitchen (Plusquam-Rec.)
URL:https://www.goabase.net/party/blue-vision-vol-2/63221
CATEGORIES:Psytrance Event
CLASS:PUBLIC
END:VEVENT

BEGIN:VEVENT
UID:9ae32f2e76a912f72dc6248710f7ac31
DTSTART:20111029T230000
DTEND:20111030T110000
LOCATION:Offenbach am Main [Germany]
GEO:50.093000000;8.733000000
DTSTAMP:20111029T230000Z
SUMMARY:Blue Visions vol.1
DESCRIPTION:
URL:https://www.goabase.net/party/blue-visions-vol1/61697
CATEGORIES:Psytrance Event
CLASS:PUBLIC
END:VEVENT

BEGIN:VEVENT
UID:3d17d0664fb08b6bb473a9846ee0b954
DTSTART:20100129T220000
DTEND:20100130T120000
LOCATION:Frankfurt (Cantina) [Germany]
GEO:0.000000000;0.000000000
DTSTAMP:20100129T220000Z
SUMMARY:Orakels-Birthday-Bash
DESCRIPTION:
URL:https://www.goabase.net/party/orakels-birthday-bash/50583
CATEGORIES:Psytrance Event
CLASS:PUBLIC
END:VEVENT

END:VCALENDAR