BEGIN:VCALENDAR
VERSION:2.0
PRODID:goabase.net iCalendar 2026
X-WR-CALNAME:goabase.net - parties and people 
X-WR-TIMEZONE;VALUE=TEXT:Europe/Berlin
CALSCALE:GREGORIAN
BEGIN:VTIMEZONE
TZID:Europe/Berlin
X-LIC-LOCATION:Europe/Berlin
BEGIN:DAYLIGHT
TZOFFSETFROM:+0100
TZOFFSETTO:+0200
TZNAME:CEST
DTSTART:19700329T020000
RRULE:FREQ=YEARLY;INTERVAL=1;BYDAY=-1SU;BYMONTH=3
END:DAYLIGHT
BEGIN:STANDARD
TZOFFSETFROM:+0200
TZOFFSETTO:+0100
TZNAME:CET
DTSTART:19701025T030000
RRULE:FREQ=YEARLY;INTERVAL=1;BYDAY=-1SU;BYMONTH=10
END:STANDARD
END:VTIMEZONE

BEGIN:VEVENT
UID:5d79422ec156193523ca75fe844e6cac
DTSTART:20120831T220000
DTEND:20120901T120000
LOCATION:near DD [Germany]
GEO:51.144640000;13.759726000
DTSTAMP:20120831T220000Z
SUMMARY:Liederspielplatz
DESCRIPTION:
URL:https://www.goabase.net/party/liederspielplatz/68323
CATEGORIES:Psytrance Event
CLASS:PUBLIC
END:VEVENT

BEGIN:VEVENT
UID:300c9c82bff7ede96b27817194baa068
DTSTART:20061117T230000
DTEND:20061118T120000
LOCATION:Dresden [Germany]
GEO:0.000000000;0.000000000
DTSTAMP:20061117T230000Z
SUMMARY:Pappenheimer Jubi Fest - VINYL EDITION
DESCRIPTION:
URL:https://www.goabase.net/party/pappenheimer-jubi-fest-vinyl-edition/27669
CATEGORIES:Psytrance Event
CLASS:PUBLIC
END:VEVENT

END:VCALENDAR