BEGIN:VCALENDAR
VERSION:2.0
PRODID:goabase.net iCalendar 2026
X-WR-CALNAME:goabase.net - parties and people 
X-WR-TIMEZONE;VALUE=TEXT:Europe/Berlin
CALSCALE:GREGORIAN
BEGIN:VTIMEZONE
TZID:Europe/Berlin
X-LIC-LOCATION:Europe/Berlin
BEGIN:DAYLIGHT
TZOFFSETFROM:+0100
TZOFFSETTO:+0200
TZNAME:CEST
DTSTART:19700329T020000
RRULE:FREQ=YEARLY;INTERVAL=1;BYDAY=-1SU;BYMONTH=3
END:DAYLIGHT
BEGIN:STANDARD
TZOFFSETFROM:+0200
TZOFFSETTO:+0100
TZNAME:CET
DTSTART:19701025T030000
RRULE:FREQ=YEARLY;INTERVAL=1;BYDAY=-1SU;BYMONTH=10
END:STANDARD
END:VTIMEZONE

BEGIN:VEVENT
UID:f73e9a9069c835e87ffea1e63a7a47f0
DTSTART:20091224T200000
DTEND:20091225T120000
LOCATION:Sorry [Germany]
GEO:0.000000000;0.000000000
DTSTAMP:20091224T200000Z
SUMMARY:Zimt und Zauber
DESCRIPTION:Line Up: SORRY liebe leute, DIE PARTY faellt leider aus...wir hatten
  bullen und feuer im haus:-((( DANKE und habt ein frohes fe…
URL:https://www.goabase.net/party/zimt-und-zauber/49358
CATEGORIES:Psytrance Event
CLASS:PUBLIC
END:VEVENT

END:VCALENDAR