BEGIN:VCALENDAR
VERSION:2.0
PRODID:goabase.net iCalendar 2026
X-WR-CALNAME:goabase.net - parties and people 
X-WR-TIMEZONE;VALUE=TEXT:Europe/Berlin
CALSCALE:GREGORIAN
BEGIN:VTIMEZONE
TZID:Europe/Berlin
X-LIC-LOCATION:Europe/Berlin
BEGIN:DAYLIGHT
TZOFFSETFROM:+0100
TZOFFSETTO:+0200
TZNAME:CEST
DTSTART:19700329T020000
RRULE:FREQ=YEARLY;INTERVAL=1;BYDAY=-1SU;BYMONTH=3
END:DAYLIGHT
BEGIN:STANDARD
TZOFFSETFROM:+0200
TZOFFSETTO:+0100
TZNAME:CET
DTSTART:19701025T030000
RRULE:FREQ=YEARLY;INTERVAL=1;BYDAY=-1SU;BYMONTH=10
END:STANDARD
END:VTIMEZONE

BEGIN:VEVENT
UID:1a2bbe22e9856757544f2cd7e77e7633
DTSTART:20170707T220000
DTEND:20170708T120000
LOCATION:Wilhelmshaven [Germany]
GEO:53.527877800;8.106301300
DTSTAMP:20170707T220000Z
SUMMARY:Stampf im Que Pasa
DESCRIPTION:
URL:https://www.goabase.net/party/stampf-im-que-pasa/96061
CATEGORIES:Psytrance Event
CLASS:PUBLIC
END:VEVENT

BEGIN:VEVENT
UID:25f856548537ea95869ff1c0b24efa61
DTSTART:20160729T220000
DTEND:20160730T120000
LOCATION:Sande Wilhelmshaven [Germany]
GEO:53.507274850;8.052603300
DTSTAMP:20160729T220000Z
SUMMARY:Tunnel treff
DESCRIPTION:Line Up: Es wird satt was auf die Ohren geben
URL:https://www.goabase.net/party/tunnel-treff/90480
CATEGORIES:Psytrance Event
CLASS:PUBLIC
END:VEVENT

END:VCALENDAR