BEGIN:VCALENDAR
VERSION:2.0
PRODID:goabase.net iCalendar 2026
X-WR-CALNAME:goabase.net - parties and people 
X-WR-TIMEZONE;VALUE=TEXT:Europe/Berlin
CALSCALE:GREGORIAN
BEGIN:VTIMEZONE
TZID:Europe/Berlin
X-LIC-LOCATION:Europe/Berlin
BEGIN:DAYLIGHT
TZOFFSETFROM:+0100
TZOFFSETTO:+0200
TZNAME:CEST
DTSTART:19700329T020000
RRULE:FREQ=YEARLY;INTERVAL=1;BYDAY=-1SU;BYMONTH=3
END:DAYLIGHT
BEGIN:STANDARD
TZOFFSETFROM:+0200
TZOFFSETTO:+0100
TZNAME:CET
DTSTART:19701025T030000
RRULE:FREQ=YEARLY;INTERVAL=1;BYDAY=-1SU;BYMONTH=10
END:STANDARD
END:VTIMEZONE

BEGIN:VEVENT
UID:91154741836ab157aba15d8cc9b960ef
DTSTART:20131116T220000
DTEND:20131117T083000
LOCATION:Wommelgem [Belgium]
GEO:0.000000000;0.000000000
DTSTAMP:20131116T220000Z
SUMMARY:Psychedelic Distortion - !!cancelled due severe damage!!-
DESCRIPTION:Line Up: the sick sequenser (psy acid electro) ravecraft
  (psychedustrial)
URL:https://www.goabase.net/party/psychedelic-distortion-cancelled-due-severe-damage/75242
CATEGORIES:Psytrance Event
CLASS:PUBLIC
END:VEVENT

BEGIN:VEVENT
UID:3e729574f8daf1682d5b8052d8c00a7f
DTSTART:20050402T220000
DTEND:20050403T073000
LOCATION:A'pen [Belgium]
GEO:0.000000000;0.000000000
DTSTAMP:20050402T220000Z
SUMMARY:Psychedelic Distortion
DESCRIPTION:Line Up: vanaf 2200 Moon over the sun (dreamtrance) Ravecraft
  (psycoindustrial) Roxkey (classic|drumm)
URL:https://www.goabase.net/party/psychedelic-distortion/17857
CATEGORIES:Psytrance Event
CLASS:PUBLIC
END:VEVENT

BEGIN:VEVENT
UID:7399156ffffa32cffff2501ba58abbe5
DTSTART:20050402T220000
DTEND:20050403T073000
LOCATION:Antwerp [Belgium]
GEO:0.000000000;0.000000000
DTSTAMP:20050402T220000Z
SUMMARY:PD
DESCRIPTION:Line Up: cavoa
URL:https://www.goabase.net/party/pd/18013
CATEGORIES:Psytrance Event
CLASS:PUBLIC
END:VEVENT

END:VCALENDAR