BEGIN:VCALENDAR
VERSION:2.0
PRODID:goabase.net iCalendar 2026
X-WR-CALNAME:goabase.net - parties and people 
X-WR-TIMEZONE;VALUE=TEXT:Europe/Berlin
CALSCALE:GREGORIAN
BEGIN:VTIMEZONE
TZID:Europe/Berlin
X-LIC-LOCATION:Europe/Berlin
BEGIN:DAYLIGHT
TZOFFSETFROM:+0100
TZOFFSETTO:+0200
TZNAME:CEST
DTSTART:19700329T020000
RRULE:FREQ=YEARLY;INTERVAL=1;BYDAY=-1SU;BYMONTH=3
END:DAYLIGHT
BEGIN:STANDARD
TZOFFSETFROM:+0200
TZOFFSETTO:+0100
TZNAME:CET
DTSTART:19701025T030000
RRULE:FREQ=YEARLY;INTERVAL=1;BYDAY=-1SU;BYMONTH=10
END:STANDARD
END:VTIMEZONE

BEGIN:VEVENT
UID:02e144e65b6e575542516ba23e7cb3cc
DTSTART:20171218T140000
DTEND:20171219T120000
LOCATION:Koh Rong Sanloem [Cambodia]
GEO:10.583367100;103.291116700
DTSTAMP:20171218T140000Z
SUMMARY:New Moon Party
DESCRIPTION:Line Up: Techno Schultz Martin W. Karma Kazi Jesus Guest DJ
URL:https://www.goabase.net/party/new-moon-party/97915
CATEGORIES:Psytrance Event
CLASS:PUBLIC
END:VEVENT

BEGIN:VEVENT
UID:a97972f601f1c5f01b215af196b53ce6
DTSTART:20171203T210000
DTEND:20171204T120000
LOCATION:Koh Rong Sanloem [Cambodia]
GEO:10.583367100;103.291116700
DTSTAMP:20171203T210000Z
SUMMARY:Full Moon Festival
DESCRIPTION:Line Up: Cooper Techno Schultz Jesus Dj Casio Guest DJ
URL:https://www.goabase.net/party/full-moon-festival/97146
CATEGORIES:Psytrance Event
CLASS:PUBLIC
END:VEVENT

BEGIN:VEVENT
UID:1f7d6b2964b365957eee985231eb01c3
DTSTART:20171031T210000
DTEND:20171101T060000
LOCATION:Koh Rong Sanloem [Cambodia]
GEO:10.577196216;103.308305740
DTSTAMP:20171031T210000Z
SUMMARY:Biggest Halloween Party
DESCRIPTION:Line Up: Come kickoff the biggest, baddest Halloween Party in
  Cambodia, deep in the jungle of Koh Rong Sanloem! Festivities will…
URL:https://www.goabase.net/party/biggest-halloween-party/97343
CATEGORIES:Psytrance Event
CLASS:PUBLIC
END:VEVENT

END:VCALENDAR